Workbook
Name fhdata_Query: #REF!
Name PARKS_Query: #REF!
Name sum_data: #REF!

Sheet Annual Report
A1: 2019 Aerial Overview Summary for British Columbia
B2: Great Bear Rainforest | C2: Regions | K2: Provincial
C3: South Coast | D3: West Coast | E3: Cariboo | F3: Thompson/ Okanagan | G3: Kootenay/ Boundary | H3: Skeena | I3: Omineca | J3: Northeast | K3: Total
A5: Bark Beetles
A6: IBM=Mountain Pine Beetle | B6: =Master!S6 -> 8580.6054 | C6: =Master!AQ6 -> 871.05763 | D6: =Master!BQ6 -> 50.926264 | E6: =Master!CQ6 -> 41964.474 | F6: =Master!DZ6 -> 6852.4565 | G6: =Master!FV6 -> 14092.521 | H6: =Master!HX6 -> 3202.0865 | I6: =Master!IV6 -> 86657.273 | J6: =Master!JT6 -> 15172.698 | K6: =SUM(B6:J6) -> 177444.1
A7: IBS=Spruce Beetle | B7: =Master!S7 -> 788.63315 | C7: =Master!AQ7 -> 4877.9668 | D7: =Master!BQ7 -> 45.113244 | E7: =Master!CQ7 -> 10619.802 | F7: =Master!DZ7 -> 8256.4214 | G7: =Master!FV7 -> 11555.536 | H7: =Master!HX7 -> 6085.9791 | I7: =Master!IV7 -> 354850.75 | J7: =Master!JT7 -> 118366.77 | K7: =SUM(B7:J7) -> 515446.97
A8: IBB=Western Balsam Bark Beetle | B8: =Master!S8 -> 71717.334 | C8: =Master!AQ8 -> 37531.791 | D8: =Master!BQ8 -> 293.72605 | E8: =Master!CQ8 -> 130101.39 | F8: =Master!DZ8 -> 123046.19 | G8: =Master!FV8 -> 58283.329 | H8: =Master!HX8 -> 799275.15 | I8: =Master!IV8 -> 1732725.9 | J8: =Master!JT8 -> 294160.41 | K8: =SUM(B8:J8) -> 3247135.2
A9: IBD=Douglas-fir Beetle | B9: =Master!S9 -> 27.890172 | C9: =Master!AQ9 -> 2967.133 | D9: =Master!BQ9 -> 5713.6666 | E9: =Master!CQ9 -> 69797.69 | F9: =Master!DZ9 -> 6619.4451 | G9: =Master!FV9 -> 7083.8364 | H9: =Master!HX9 -> 420.38069 | I9: =Master!IV9 -> 5334.2635 | J9: =Master!JT9 -> 0 | K9: =SUM(B9:J9) -> 97964.305
A10: IBF=Fir engraver beetle | B10: =Master!S10 -> 0 | C10: =Master!AQ10 -> 0 | D10: =Master!BQ10 -> 0 | E10: =Master!CQ10 -> 0 | F10: =Master!DZ10 -> 0 | G10: =Master!FV10 -> 0 | H10: =Master!HX10 -> 0 | I10: =Master!IV10 -> 0 | J10: =Master!JT10 -> 0 | K10: =SUM(B10:J10) -> 0
A11: IBP=Twig beetle | B11: =Master!S11 -> 0 | C11: =Master!AQ11 -> 0 | D11: =Master!BQ11 -> 0 | E11: =Master!CQ11 -> 0 | F11: =Master!DZ11 -> 0 | G11: =Master!FV11 -> 0 | H11: =Master!HX11 -> 0 | I11: =Master!IV11 -> 0 | J11: =Master!JT11 -> 0 | K11: =SUM(B11:J11) -> 0
A12: IBI=Engraver Beetle (Ips species) | B12: =Master!S12 -> 0 | C12: =Master!AQ12 -> 0 | D12: =Master!BQ12 -> 0 | E12: =Master!CQ12 -> 0 | F12: =Master!DZ12 -> 0 | G12: =Master!FV12 -> 0 | H12: =Master!HX12 -> 0 | I12: =Master!IV12 -> 0 | J12: =Master!JT12 -> 0 | K12: =SUM(B12:J12) -> 0
A13: IBW=Western Pine Beetle | B13: =Master!S13 -> 0 | C13: =Master!AQ13 -> 0 | D13: =Master!BQ13 -> 0 | E13: =Master!CQ13 -> 0 | F13: =Master!DZ13 -> 2 | G13: =Master!FV13 -> 60.292297 | H13: =Master!HX13 -> 0 | I13: =Master!IV13 -> 0 | J13: =Master!JT13 -> 0 | K13: =SUM(B13:J13) -> 62.292297
A14: IBL=Lodgepole Pine Beetle | B14: =Master!S14 -> 0 | C14: =Master!AQ14 -> 0 | D14: =Master!BQ14 -> 0 | E14: =Master!CQ14 -> 0 | F14: =Master!DZ14 -> 0 | G14: =Master!FV14 -> 0 | H14: =Master!HX14 -> 0 | I14: =Master!IV14 -> 0 | J14: =Master!JT14 -> 0 | K14: =SUM(B14:J14) -> 0
A15: IBT=Red Turpentine Beetle | B15: =Master!S15 -> 0 | C15: =Master!AQ15 -> 0 | D15: =Master!BQ15 -> 0 | E15: =Master!CQ15 -> 0 | F15: =Master!DZ15 -> 0 | G15: =Master!FV15 -> 0 | H15: =Master!HX15 -> 0 | I15: =Master!IV15 -> 0 | J15: =Master!JT15 -> 0 | K15: =SUM(B15:J15) -> 0
A16: IB=Unknown Bark Beetle Mortality | B16: =Master!S16 -> 0 | C16: =Master!AQ16 -> 0 | D16: =Master!BQ16 -> 0 | E16: =Master!CQ16 -> 0 | F16: =Master!DZ16 -> 0 | G16: =Master!FV16 -> 0 | H16: =Master!HX16 -> 0 | I16: =Master!IV16 -> 0 | J16: =Master!JT16 -> 54.119169 | K16: =SUM(B16:J16) -> 54.119169
A17: IWW=Warrens Root Collar Weevil | B17: =Master!S17 -> 0 | C17: =Master!AQ17 -> 0 | D17: =Master!BQ17 -> 0 | E17: =Master!CQ17 -> 0 | F17: =Master!DZ17 -> 0 | G17: =Master!FV17 -> 0 | H17: =Master!HX17 -> 0 | I17: =Master!IV17 -> 0 | J17: =Master!JT17 -> 0 | K17: =SUM(B17:J17) -> 0
A18: Total All BB= | B18: =Master!S18 -> 81114.463 | C18: =Master!AQ18 -> 46247.948 | D18: =Master!BQ18 -> 6103.4322 | E18: =Master!CQ18 -> 252483.36 | F18: =Master!DZ18 -> 144776.51 | G18: =Master!FV18 -> 91075.515 | H18: =Master!HX18 -> 808983.6 | I18: =Master!IV18 -> 2179568.1 | J18: =Master!JT18 -> 427754 | K18: =SUM(B18:J18) -> 4038107
A20: Defoliators
A21: ID=Defoliators | B21: =Master!S21 -> 14.472746 | C21: =Master!AQ21 -> 51.621405 | D21: =Master!BQ21 -> 313.34627 | E21: =Master!CQ21 -> 740.89488 | F21: =Master!DZ21 -> 0 | G21: =Master!FV21 -> 0 | H21: =Master!HX21 -> 89.085815 | I21: =Master!IV21 -> 0 | J21: =Master!JT21 -> 363.56271 | K21: =SUM(B21:J21) -> 1572.9838
A22: IAB=Balsam Woolly Adelgid | B22: =Master!S22 -> 247.25666 | C22: =Master!AQ22 -> 131.03939 | D22: =Master!BQ22 -> 1351.4186 | E22: =Master!CQ22 -> 0 | F22: =Master!DZ22 -> 66.022326 | G22: =Master!FV22 -> 0 | H22: =Master!HX22 -> 0 | I22: =Master!IV22 -> 0 | J22: =Master!JT22 -> 0 | K22: =SUM(B22:J22) -> 1795.737
A23: IAS=Green Spruce Aphid | B23: =Master!S23 -> 0 | C23: =Master!AQ23 -> 0 | D23: =Master!BQ23 -> 0 | E23: =Master!CQ23 -> 0 | F23: =Master!DZ23 -> 0 | G23: =Master!FV23 -> 0 | H23: =Master!HX23 -> 0 | I23: =Master!IV23 -> 0 | J23: =Master!JT23 -> 0 | K23: =SUM(B23:J23) -> 0
A24: ID1=Leaf Beetles | B24: =Master!S24 -> 0 | C24: =Master!AQ24 -> 899.65911 | D24: =Master!BQ24 -> 164.75639 | E24: =Master!CQ24 -> 0 | F24: =Master!DZ24 -> 0 | G24: =Master!FV24 -> 0 | H24: =Master!HX24 -> 0 | I24: =Master!IV24 -> 0 | J24: =Master!JT24 -> 0 | K24: =SUM(B24:J24) -> 1064.4155
A25: ID2=Bruce spanworm | B25: =Master!S25 -> 0 | C25: =Master!AQ25 -> 0 | D25: =Master!BQ25 -> 0 | E25: =Master!CQ25 -> 0 | F25: =Master!DZ25 -> 0 | G25: =Master!FV25 -> 0 | H25: =Master!HX25 -> 0 | I25: =Master!IV25 -> 0 | J25: =Master!JT25 -> 750.80493 | K25: =SUM(B25:J25) -> 750.80493
A26: ID6=Aspen Leaf Miner | B26: =Master!S26 -> 1275.407 | C26: =Master!AQ26 -> 0 | D26: =Master!BQ26 -> 0 | E26: =Master!CQ26 -> 259843.24 | F26: =Master!DZ26 -> 34250.334 | G26: =Master!FV26 -> 25936.299 | H26: =Master!HX26 -> 379540.89 | I26: =Master!IV26 -> 580520.85 | J26: =Master!JT26 -> 45536.034 | K26: =SUM(B26:J26) -> 1326903.1
A27: IDA=Black Army Cutworm | B27: =Master!S27 -> 0 | C27: =Master!AQ27 -> 0 | D27: =Master!BQ27 -> 0 | E27: =Master!CQ27 -> 0 | F27: =Master!DZ27 -> 0 | G27: =Master!FV27 -> 0 | H27: =Master!HX27 -> 0 | I27: =Master!IV27 -> 0 | J27: =Master!JT27 -> 0 | K27: =SUM(B27:J27) -> 0
A28: IDB=2-Year Budworm | B28: =Master!S28 -> 0 | C28: =Master!AQ28 -> 0 | D28: =Master!BQ28 -> 0 | E28: =Master!CQ28 -> 2549.4078 | F28: =Master!DZ28 -> 921.55957 | G28: =Master!FV28 -> 0 | H28: =Master!HX28 -> 27526.776 | I28: =Master!IV28 -> 99207.458 | J28: =Master!JT28 -> 0 | K28: =SUM(B28:J28) -> 130205.2
A29: IDC=Larch casebearer | B29: =Master!S29 -> 0 | C29: =Master!AQ29 -> 0 | D29: =Master!BQ29 -> 0 | E29: =Master!CQ29 -> 0 | F29: =Master!DZ29 -> 0 | G29: =Master!FV29 -> 0 | H29: =Master!HX29 -> 0 | I29: =Master!IV29 -> 0 | J29: =Master!JT29 -> 0 | K29: =SUM(B29:J29) -> 0
A30: IDD=Western Winter Moth | B30: =Master!S30 -> 0 | C30: =Master!AQ30 -> 0 | D30: =Master!BQ30 -> 0 | E30: =Master!CQ30 -> 0 | F30: =Master!DZ30 -> 0 | G30: =Master!FV30 -> 0 | H30: =Master!HX30 -> 0 | I30: =Master!IV30 -> 0 | J30: =Master!JT30 -> 0 | K30: =SUM(B30:J30) -> 0
A31: IDE=Eastern Spruce Budworm | B31: =Master!S31 -> 0 | C31: =Master!AQ31 -> 0 | D31: =Master!BQ31 -> 0 | E31: =Master!CQ31 -> 0 | F31: =Master!DZ31 -> 0 | G31: =Master!FV31 -> 0 | H31: =Master!HX31 -> 12.472706 | I31: =Master!IV31 -> 0 | J31: =Master!JT31 -> 3872.9782 | K31: =SUM(B31:J31) -> 3885.4509
A32: IDF=Forest Tent Caterpillar | B32: =Master!S32 -> 0 | C32: =Master!AQ32 -> 0 | D32: =Master!BQ32 -> 0 | E32: =Master!CQ32 -> 0 | F32: =Master!DZ32 -> 0 | G32: =Master!FV32 -> 0 | H32: =Master!HX32 -> 0 | I32: =Master!IV32 -> 0 | J32: =Master!JT32 -> 0 | K32: =SUM(B32:J32) -> 0
... A49: Total Defoliators= | B49: =Master!S49 -> 1537.1364 | C49: =Master!AQ49 -> 3265.9684 | D49: =Master!BQ49 -> 2402.3442 | E49: =Master!CQ49 -> 281491.56 | F49: =Master!DZ49 -> 45899.878 | G49: =Master!FV49 -> 28713.628 | H49: =Master!HX49 -> 407492.97 | I49: =Master!IV49 -> 763071.84 | J49: =Master!JT49 -> 57795.36 | K49: =SUM(B49:J49) -> 1591670.7
A51: Other
A52: N | B52: =Master!S52 -> 0 | C52: =Master!AQ52 -> 0 | D52: =Master!BQ52 -> 1.5 | E52: =Master!CQ52 -> 0 | F52: =Master!DZ52 -> 0 | G52: =Master!FV52 -> 0 | H52: =Master!HX52 -> 0 | I52: =Master!IV52 -> 0 | J52: =Master!JT52 -> 0 | K52: =SUM(B52:J52) -> 1.5
A53: NAV=Avalanche or snow slide | B53: =Master!S53 -> 0 | C53: =Master!AQ53 -> 0 | D53: =Master!BQ53 -> 0 | E53: =Master!CQ53 -> 0 | F53: =Master!DZ53 -> 6.9112096 | G53: =Master!FV53 -> 0 | H53: =Master!HX53 -> 0 | I53: =Master!IV53 -> 0 | J53: =Master!JT53 -> 0 | K53: =SUM(B53:J53) -> 6.9112096
A54: NB=Fire | B54: =Master!S54 -> 50.917924 | C54: =Master!AQ54 -> 212.83743 | D54: =Master!BQ54 -> 69.313237 | E54: =Master!CQ54 -> 217.81666 | F54: =Master!DZ54 -> 4130.5673 | G54: =Master!FV54 -> 162.66747 | H54: =Master!HX54 -> 9440.5985 | I54: =Master!IV54 -> 472.91801 | J54: =Master!JT54 -> 7294.8649 | K54: =SUM(B54:J54) -> 22052.501
A55: NBP=Post Fire | B55: =Master!S55 -> 5323.047 | C55: =Master!AQ55 -> 355.97266 | D55: =Master!BQ55 -> 0 | E55: =Master!CQ55 -> 66661.047 | F55: =Master!DZ55 -> 1467.5661 | G55: =Master!FV55 -> 5661.0696 | H55: =Master!HX55 -> 15245.945 | I55: =Master!IV55 -> 10232.426 | J55: =Master!JT55 -> 1925.8235 | K55: =SUM(B55:J55) -> 106872.9
A56: NCA=Aspen decline | B56: =Master!S56 -> 0 | C56: =Master!AQ56 -> 0 | D56: =Master!BQ56 -> 0 | E56: =Master!CQ56 -> 226.53824 | F56: =Master!DZ56 -> 421.33003 | G56: =Master!FV56 -> 20.771669 | H56: =Master!HX56 -> 0 | I56: =Master!IV56 -> 6.095299 | J56: =Master!JT56 -> 11185.48 | K56: =SUM(B56:J56) -> 11860.216
A57: NCB=Birch decline | B57: =Master!S57 -> 0 | C57: =Master!AQ57 -> 0 | D57: =Master!BQ57 -> 0 | E57: =Master!CQ57 -> 0 | F57: =Master!DZ57 -> 0 | G57: =Master!FV57 -> 0 | H57: =Master!HX57 -> 0 | I57: =Master!IV57 -> 0 | J57: =Master!JT57 -> 0 | K57: =SUM(B57:J57) -> 0
A58: NCF=Douglas-fir decline | B58: =Master!S58 -> 0 | C58: =Master!AQ58 -> 0 | D58: =Master!BQ58 -> 0 | E58: =Master!CQ58 -> 0 | F58: =Master!DZ58 -> 0 | G58: =Master!FV58 -> 0 | H58: =Master!HX58 -> 0 | I58: =Master!IV58 -> 0 | J58: =Master!JT58 -> 0 | K58: =SUM(B58:J58) -> 0
A59: NCY=Yellow cedar decline | B59: =Master!S59 -> 18469.147 | C59: =Master!AQ59 -> 0 | D59: =Master!BQ59 -> 4626.3773 | E59: =Master!CQ59 -> 0 | F59: =Master!DZ59 -> 0 | G59: =Master!FV59 -> 0 | H59: =Master!HX59 -> 353.52346 | I59: =Master!IV59 -> 0 | J59: =Master!JT59 -> 0 | K59: =SUM(B59:J59) -> 23449.048
...

Sheet Master
A1: 2019 Aerial Overview Summary for British Columbia by TSA's
T2: South Coast Forest Region | AR2: West Coast Forest Region | BR2: Cariboo Forest Region | CR2: Thompson Okanagan Forest Region | EA2: Kootenay/Boundary Forest Region | FW2: Skeena Forest Region | HY2: Omineca Forest Region | IW2: Northeast Forest Region
A3: TSA's | B3: Great Bear Rainforest North TSA (TGBN) | H3: Great Bear Rainforest South TSA (TGBS) | N3: GREAT BEAR RAINFOREST TOTAL | T3: Fraser | U3: (TFR) | Z3: Soo | AA3: (TSO) | AF3: Sunshine Coast | AH3: (TSC) | AL3: SOUTH COAST FOREST REGION TOTAL | AR3: Arrowsmith | AT3: (TAS) | AX3: Haida Gwaii | AZ3: (THG) | BE3: North Island (TNI) | BK3: WEST COAST FOREST REGION TOTAL | BR3: 100 Mile House | BT3: (TMH) | BX3: Quesnel | BY3: (TQU) | CD3: Williams Lake | CE3: (TWL) | CK3: CARIBOO FOREST REGION TOTAL | CR3: Kamloops | CS3: (TKA) | CY3: Lillooet | CZ3: (TLI) | DF3: Merritt | DG3: (TME) | DM3: Okanagan | DN3: (TOK) | DT3: THOMPSON/OKANAGAN FOREST REGION TOTAL | EA3: Arrow | EB3: (TAR) | EG3: Boundary | EH3: (TBO) | EM3: Cranbrook | EN3: (TCB) | ES3: Golden | ET3: (TGO) | EY3: Invermere | EZ3: (TIN) | FE3: Kootenay Lake | FF3: (TKL) | FK3: Revelstoke | FL3: (TRE) | FQ3: KOOTENAY/BOUNDRY FOREST REGION | FW3: Bulkley | FX3: (TBU) | GC3: Cassiar | GD3: (TCA) | GI3: Kalum | GJ3: (TKM) | GO3: Kispiox | GP3: (TKI) | GU3: Lakes | GV3: (TLA) | HA3: Morice | HB3: (TMO) | HG3: Nass | HH3: (TNA) | HM3: North Coast | HN3: (TNC) | HS3: SKEENA FOREST REGION | HY3: MacKenzie | HZ3: (TMK) | IE3: Robson Valley | IG3: (TRV) | IK3: Prince George | IM3: (TPG) | IQ3: OMINECA FOREST REGION | IW3: Dawson Creek | IY3: (TDC) | JC3: Fort Nelson | JD3: (TFN) | JI3: Fort St. John | JK3: (TJO) | JO3: NORTHEAST FOREST REGION | JV3: GRAND TOTAL
B4: Trace | C4: Light | D4: Moderate | E4: Severe | F4: Very Sev | G4: Total | H4: Trace | I4: Light | J4: Moderate | K4: Severe | L4: Very Sev | M4: Total | N4: Trace | O4: Light | P4: Moderate | Q4: Severe | R4: Ver Sev | S4: Total | T4: Trace | U4: Light | V4: Moderate | W4: Severe | X4: Very Sev | Y4: Total | Z4: Trace | AA4: Light | AB4: Moderate | AC4: Severe | AD4: Very Sev | AE4: Total | AF4: Trace | AG4: Light | AH4: Moderate | AI4: Severe | AJ4: Very Sev | AK4: Total | AL4: Trace | AM4: Light | AN4: Moderate | AO4: Severe | AP4: Ver Sev | AQ4: Total | AR4: Trace | AS4: Light | AT4: Moderate | AU4: Severe | AV4: Very Sev | AW4: Total | AX4: Trace | AY4: Light | AZ4: Moderate | BA4: Severe | BB4: Very Sev | BC4: Grey | BD4: Total | BE4: Trace | BF4: Light | BG4: Moderate | BH4: Severe | BI4: Very Sev | BJ4: Total | BK4: Trace | BL4: Light | BM4: Moderate | BN4: Severe | BO4: Ver Sev | BP4: Grey | BQ4: Total | BR4: Trace | BS4: Light | BT4: Moderate | BU4: Severe | BV4: Very Sev | BW4: Total | BX4: Trace | BY4: Light | BZ4: Moderate | CA4: Severe | CB4: Very Sev | CC4: Total | CD4: Trace | CE4: Light | CF4: Moderate | CG4: Severe | CH4: Very Sev | CI4: Grey | CJ4: Total | CK4: Trace | CL4: Light | CM4: Moderate | CN4: Severe | CO4: Ver Sev | CP4: Grey | CQ4: Total | CR4: Trace | CS4: Light | CT4: Moderate | CU4: Severe | CV4: Very Sev | CW4: Grey | CX4: Total | CY4: Trace | CZ4: Light | DA4: Moderate | DB4: Severe | DC4: Very Sev | DD4: Grey | DE4: Total | DF4: Trace | DG4: Light | DH4: Moderate | DI4: Severe | DJ4: Very Sev | DK4: Grey | DL4: Total | DM4: Trace | DN4: Light | DO4: Moderate | DP4: Severe | DQ4: Very Sev | DR4: Grey | DS4: Total | DT4: Trace | DU4: Light | DV4: Moderate | DW4: Severe | DX4: Ver Sev | DY4: Grey | DZ4: Total | EA4: Trace | EB4: Light | EC4: Moderate | ED4: Severe | EE4: Very Sev | EF4: Total | EG4: Trace | EH4: Light | EI4: Moderate | EJ4: Severe | EK4: Very Sev | EL4: Total | EM4: Trace | EN4: Light | EO4: Moderate | EP4: Severe | EQ4: Very Sev | ER4: Total | ES4: Trace | ET4: Light | EU4: Moderate | EV4: Severe | EW4: Very Sev | EX4: Total | EY4: Trace | EZ4: Light | FA4: Moderate | FB4: Severe | FC4: Very Sev | FD4: Total | FE4: Trace | FF4: Light | FG4: Moderate | FH4: Severe | FI4: Very Sev | FJ4: Total | FK4: Trace | FL4: Light | FM4: Moderate | FN4: Severe | FO4: Very Sev | FP4: Total | FQ4: Trace | FR4: Light | FS4: Moderate | FT4: Severe | FU4: Very Sev | FV4: TOTAL | FW4: Trace | FX4: Light | FY4: Moderate | FZ4: Severe | GA4: Very Sev | GB4: Total | GC4: Trace | GD4: Light | GE4: Moderate | GF4: Severe | GG4: Very Sev | GH4: Total | GI4: Trace | GJ4: Light | GK4: Moderate | GL4: Severe | GM4: Very Sev | GN4: Total | GO4: Trace | GP4: Light | GQ4: Moderate | GR4: Severe | GS4: Very Sev | GT4: Total | GU4: Trace | GV4: Light | GW4: Moderate | GX4: Severe | GY4: Very Sev | GZ4: Total | HA4: Trace | HB4: Light | HC4: Moderate | HD4: Severe | HE4: Very Sev | HF4: Total | HG4: Trace | HH4: Light | HI4: Moderate | HJ4: Severe | HK4: Very Sev | HL4: Total | HM4: Trace | HN4: Light | HO4: Moderate | HP4: Severe | HQ4: Very Sev | HR4: Total | HS4: Trace | HT4: Light | HU4: Moderate | HV4: Severe | HW4: Very Sev | HX4: TOTAL | HY4: Trace | HZ4: Light | IA4: Moderate | IB4: Severe | IC4: Very Sev | ID4: Total | IE4: Trace | IF4: Light | IG4: Moderate | IH4: Severe | II4: Very Sev | IJ4: Total | IK4: Trace | IL4: Light | IM4: Moderate | IN4: Severe | IO4: Very Sev | IP4: Total | IQ4: Trace | IR4: Light | IS4: Moderate | IT4: Severe | IU4: Very Sev | IV4: TOTAL | IW4: Trace | IX4: Light | IY4: Moderate | IZ4: Severe | JA4: Very Sev | JB4: Total | JC4: Trace | JD4: Light | JE4: Moderate | JF4: Severe | JG4: Very Sev | JH4: Total | JI4: Trace | JJ4: Light | JK4: Moderate | JL4: Severe | JM4: Very Sev | JN4: Total | JO4: Trace | JP4: Light | JQ4: Moderate | JR4: Severe | JS4: Very Sev | JT4: TOTAL | JV4: Trace | JW4: Light | JX4: Moderate | JY4: Severe | JZ4: Very Sev | KA4: Grey | KB4: TOTAL
A5: Bark Beetles
A6: IBM=Mountain Pine Beetle | B6: 8355.436 | C6: 224.41941 | E6: 0.75 | G6: =SUM(B6:F6) -> 8580.6054 | M6: =SUM(H6:L6) -> 0 | N6: =SUM(B6,H6) -> 8355.436 | O6: =SUM(C6,I6) -> 224.41941 | P6: =SUM(D6,J6) -> 0 | Q6: =SUM(E6,K6) -> 0.75 | R6: =SUM(F6,L6) -> 0 | S6: =SUM(N6:R6) -> 8580.6054 | T6: 75.921412 | U6: 6.5839355 | Y6: =SUM(T6:X6) -> 82.505348 | Z6: 108.51556 | AA6: 87.019943 | AB6: 204.37219 | AC6: 102.49475 | AE6: =SUM(Z6:AD6) -> 502.40245 | AF6: 84.993049 | AG6: 150.17102 | AH6: 50.985761 | AK6: =SUM(AF6:AJ6) -> 286.14983 | AL6: =SUM(T6,Z6,AF6) -> 269.43002 | AM6: =SUM(U6,AA6,AG6) -> 243.7749 | AN6: =SUM(V6,AB6,AH6) -> 255.35795 | AO6: =SUM(W6,AC6,AI6) -> 102.49475 | AP6: =SUM(X6,AD6,AJ6) -> 0 | AQ6: =SUM(AL6:AP6) -> 871.05763 | AW6: =SUM(AR6:AV6) -> 0 | AZ6: 50.926264 | BD6: =SUM(AX6:BC6) -> 50.926264 | BJ6: =SUM(BE6:BI6) -> 0 | BK6: =SUM(AR6,AX6,BE6) -> 0 | BL6: =SUM(AS6,AY6,BF6) -> 0 | BM6: =SUM(AT6,AZ6,BG6) -> 50.926264 | BN6: =SUM(AU6,BA6,BH6) -> 0 | BO6: =SUM(AV6,BB6,BI6) -> 0 | BP6: =SUM(BC6) -> 0 | BQ6: =SUM(BK6:BP6) -> 50.926264 | BW6: =SUM(BR6:BV6) -> 0 | BY6: 60.023637 | CA6: 2.5 | CC6: =SUM(BX6:CB6) -> 62.523637 | CD6: 15301.478 | CE6: 20413.234 | CF6: 5475.921 | CG6: 711.31717 | CJ6: =SUM(CD6:CI6) -> 41901.95 | CK6: =SUM(BR6,BX6,CD6) -> 15301.478 | CL6: =SUM(BS6,BY6,CE6) -> 20473.257 | CM6: =SUM(BT6,BZ6,CF6) -> 5475.921 | CN6: =SUM(BU6,CA6,CG6) -> 713.81717 | CO6: =SUM(BV6,CB6,CH6) -> 0 | CP6: =SUM(CI6) -> 0 | CQ6: =SUM(CK6:CP6) -> 41964.474 | CX6: =SUM(CR6:CW6) -> 0 | CY6: 697.24219 | CZ6: 4015.8903 | DA6: 1875.5112 | DB6: 214.07904 | DE6: =SUM(CY6:DD6) -> 6802.7227 | DI6: 2.5 | DL6: =SUM(DF6:DK6) -> 2.5 | DM6: 1.6160287 | DN6: 44.117724 | DP6: 1.5 | DS6: =SUM(DM6:DR6) -> 47.233753 | DT6: =SUM(CR6,CY6,DF6,DM6) -> 698.85822 | DU6: =SUM(CS6,CZ6,DG6,DN6) -> 4060.008 | DV6: =SUM(CT6,DA6,DH6,DO6) -> 1875.5112 | DW6: =SUM(CU6,DB6,DI6,DP6) -> 218.07904 | DX6: =SUM(CV6,DC6,DJ6,DQ6) -> 0 | DY6: =SUM(CW6,DD6,DK6,DR6) -> 0 | DZ6: =SUM(DT6:DY6) -> 6852.4565 | EA6: 574.10031 | EB6: 290.00603 | EC6: 172.39 | ED6: 35 | EF6: =SUM(EA6:EE6) -> 1071.4963 | EG6: 640.99765 | EH6: 208.56703 | EI6: 42.377632 | EJ6: 17.75 | EL6: =SUM(EG6:EK6) -> 909.69231 | EM6: 499.54719 | EN6: 629.63292 | EO6: 184.01555 | EP6: 51 | ER6: =SUM(EM6:EQ6) -> 1364.1957 | ES6: 217.82079 | ET6: 128.73825 | EU6: 219.60053 | EV6: 57.254784 | EW6: 185.98807 | EX6: =SUM(ES6:EW6) -> 809.40242 | EY6: 967.9212 | EZ6: 1552.2954 | FA6: 2957.509 | FB6: 588.61356 | FC6: 16.623911 | FD6: =SUM(EY6:FC6) -> 6082.963 | FE6: 719.42005 | FF6: 1473.8374 | FG6: 1188.5876 | FH6: 203.79652 | FJ6: =SUM(FE6:FI6) -> 3585.6416 | FK6: 46.886112 | FL6: 67.16877 | FM6: 148.07446 | FN6: 7 | FP6: =SUM(FK6:FO6) -> 269.12935 | FQ6: =SUM(EA6,EG6,EM6,ES6,EY6,FE6,FK6) -> 3666.6933 | FR6: =SUM(EB6,EH6,EN6,ET6,EZ6,FF6,FL6) -> 4350.2458 | FS6: =SUM(EC6,EI6,EO6,EU6,FA6,FG6,FM6) -> 4912.5548 | FT6: =SUM(ED6,EJ6,EP6,EV6,FB6,FH6,FN6) -> 960.41486 | FU6: =SUM(EE6,EK6,EQ6,EW6,FC6,FI6,FO6) -> 202.61198 | FV6: =SUM(FQ6:FU6) -> 14092.521 | FW6: 1025.4897 | FX6: 918.82802 | FY6: 27.128568 | FZ6: 7.75 | GB6: =SUM(FW6:GA6) -> 1979.1963 | GC6: 1218.1402 | GF6: 2.75 | GH6: =SUM(GC6:GG6) -> 1220.8902 | GN6: =SUM(GI6:GM6) -> 0 | GT6: =SUM(GO6:GS6) -> 0 | GX6: 1.75 | GZ6: =SUM(GU6:GY6) -> 1.75 | HD6: 0.25 | HF6: =SUM(HA6:HE6) -> 0.25 | HL6: =SUM(HG6:HK6) -> 0 | HR6: =SUM(HM6:HQ6) -> 0 | HS6: =SUM(FW6,GC6,GI6,GO6,GU6,HA6,HG6,HM6) -> 2243.6299 | HT6: =SUM(FX6,GD6,GJ6,GP6,GV6,HB6,HH6,HN6) -> 918.82802 | HU6: =SUM(HO6,HI6,HC6,GW6,GQ6,GK6,GE6,FY6) -> 27.128568 | HV6: =SUM(HP6,HJ6,HD6,GX6,GR6,GL6,GF6,FZ6) -> 12.5 | HW6: =SUM(HQ6,HK6,HE6,GY6,GS6,GM6,GG6,GA6) -> 0 | HX6: =SUM(HS6:HW6) -> 3202.0865 | HY6: 1863.7914 | IB6: 13 | ID6: =SUM(HY6:IC6) -> 1876.7914 | IE6: 20655.269 | IF6: 36837.126 | IG6: 5464.3188 | IH6: 262.81302 | IJ6: =SUM(IE6:II6) -> 63219.526 | IK6: 13446.989 | IL6: 6359.5429 | IM6: 1736.1729 | IN6: 18.25 | IP6: =SUM(IK6:IO6) -> 21560.955 | IQ6: =SUM(HY6,IE6,IK6) -> 35966.049 | IR6: =SUM(HZ6,IF6,IL6) -> 43196.669 | IS6: =SUM(IA6,IG6,IM6) -> 7200.4917 | IT6: =SUM(IB6,IH6,IN6) -> 294.06302 | IU6: =SUM(IC6,II6,IO6) -> 0 | IV6: =SUM(IQ6:IU6) -> 86657.273 | IW6: 866.03958 | IX6: 187.71077 | IY6: 99.667868 | IZ6: 13 | JB6: =SUM(IW6:JA6) -> 1166.4182 | JC6: 13440.346 | JD6: 48.052307 | JF6: 45.75 | JH6: =SUM(JC6:JG6) -> 13534.148 | JI6: 457.38165 | JL6: 14.75 | JN6: =SUM(JI6:JM6) -> 472.13165 | JO6: =SUM(IW6,JC6,JI6) -> 14763.767 | JP6: =SUM(IX6,JD6,JJ6) -> 235.76307 | JQ6: =SUM(IY6,JE6,JK6) -> 99.667868 | JR6: =SUM(IZ6,JF6,JL6) -> 73.5 | JS6: =SUM(JA6,JG6,JM6) -> 0 | JT6: =SUM(JO6:JS6) -> 15172.698 | JV6: =SUM(N6,AL6,BK6,CK6,DT6,FQ6,HS6,IQ6,JO6) -> 81265.342 | JW6: =SUM(O6,AM6,BL6,CL6,DU6,FR6,HT6,IR6,JP6) -> 73702.965 | JX6: =SUM(P6,AN6,BM6,CM6,DV6,FS6,HU6,IS6,JQ6) -> 19897.559 | JY6: =SUM(Q6,AO6,BN6,CN6,DW6,FT6,HV6,IT6,JR6) -> 2375.6189 | JZ6: =SUM(R6,AP6,BO6,CO6,DX6,FU6,HW6,IU6,JS6) -> 202.61198 | KA6: =SUM(BP6,CP6,DY6) -> 0 | KB6: =SUM(JV6:KA6) -> 177444.1
A7: IBS=Spruce Beetle | B7: 311.20771 | C7: 152.34589 | E7: 1.5 | G7: =SUM(B7:F7) -> 465.05359 | H7: 323.57956 | M7: =SUM(H7:L7) -> 323.57956 | N7: =SUM(B7,H7) -> 634.78726 | O7: =SUM(C7,I7) -> 152.34589 | P7: =SUM(D7,J7) -> 0 | Q7: =SUM(E7,K7) -> 1.5 | R7: =SUM(F7,L7) -> 0 | S7: =SUM(N7:R7) -> 788.63315 | T7: 3219.5178 | U7: 751.42541 | W7: 16.642834 | Y7: =SUM(T7:X7) -> 3987.586 | Z7: 412.36781 | AA7: 238.78296 | AB7: 167.86676 | AC7: 24.613009 | AE7: =SUM(Z7:AD7) -> 843.63054 | AF7: 13.283642 | AG7: 32.966578 | AI7: 0.5 | AK7: =SUM(AF7:AJ7) -> 46.75022 | AL7: =SUM(T7,Z7,AF7) -> 3645.1692 | AM7: =SUM(U7,AA7,AG7) -> 1023.1749 | AN7: =SUM(V7,AB7,AH7) -> 167.86676 | AO7: =SUM(W7,AC7,AI7) -> 41.755843 | AP7: =SUM(X7,AD7,AJ7) -> 0 | AQ7: =SUM(AL7:AP7) -> 4877.9668 | AU7: 0.5 | AW7: =SUM(AR7:AV7) -> 0.5 | AX7: 44.613244 | BD7: =SUM(AX7:BC7) -> 44.613244 | BJ7: =SUM(BE7:BI7) -> 0 | BK7: =SUM(AR7,AX7,BE7) -> 44.613244 | BL7: =SUM(AS7,AY7,BF7) -> 0 | BM7: =SUM(AT7,AZ7,BG7) -> 0 | BN7: =SUM(AU7,BA7,BH7) -> 0.5 | BO7: =SUM(AV7,BB7,BI7) -> 0 | BP7: =SUM(BC7) -> 0 | BQ7: =SUM(BK7:BP7) -> 45.113244 | BW7: =SUM(BR7:BV7) -> 0 | BX7: 1792.7085 | BY7: 337.00566 | CA7: 9.25 | CC7: =SUM(BX7:CB7) -> 2138.9642 | CD7: 3385.9002 | CE7: 3391.4301 | CF7: 1644.8352 | CG7: 58.67271 | CJ7: =SUM(CD7:CI7) -> 8480.8383 | CK7: =SUM(BR7,BX7,CD7) -> 5178.6088 | CL7: =SUM(BS7,BY7,CE7) -> 3728.4358 | CM7: =SUM(BT7,BZ7,CF7) -> 1644.8352 | CN7: =SUM(BU7,CA7,CG7) -> 67.92271 | CO7: =SUM(BV7,CB7,CH7) -> 0 | CP7: =SUM(CI7) -> 0 | CQ7: =SUM(CK7:CP7) -> 10619.802 | CS7: 2424.8194 | CT7: 1966.6673 | CU7: 624.50191 | CX7: =SUM(CR7:CW7) -> 5015.9886 | CY7: 680.56358 | CZ7: 500.25721 | DA7: 1247.1032 | DB7: 686.44296 | DC7: 11.747227 | DE7: =SUM(CY7:DD7) -> 3126.1142 | DL7: =SUM(DF7:DK7) -> 0 | DM7: 114.06859 | DP7: 0.25 | DS7: =SUM(DM7:DR7) -> 114.31859 | DT7: =SUM(CR7,CY7,DF7,DM7) -> 794.63217 | DU7: =SUM(CS7,CZ7,DG7,DN7) -> 2925.0766 | DV7: =SUM(CT7,DA7,DH7,DO7) -> 3213.7705 | DW7: =SUM(CU7,DB7,DI7,DP7) -> 1311.1949 | DX7: =SUM(CV7,DC7,DJ7,DQ7) -> 11.747227 | DY7: =SUM(CW7,DD7,DK7,DR7) -> 0 | DZ7: =SUM(DT7:DY7) -> 8256.4214 | EA7: 57.726758 | EB7: 235.23614 | EC7: 117.98092 | ED7: 17.967721 | EF7: =SUM(EA7:EE7) -> 428.91154 | EL7: =SUM(EG7:EK7) -> 0 | EM7: 141.65685 | EN7: 254.12872 | EO7: 1040.7525 | EP7: 2280.1813 | EQ7: 235.03188 | ER7: =SUM(EM7:EQ7) -> 3951.7512 | ES7: 270.80758 | ET7: 310.44246 | EU7: 1110.9882 | EV7: 132.05418 | EX7: =SUM(ES7:EW7) -> 1824.2924 | EY7: 17.720554 | EZ7: 1613.3974 | FA7: 1834.6817 | FB7: 216.1319 | FC7: 379.25184 | FD7: =SUM(EY7:FC7) -> 4061.1834 | FE7: 40.735715 | FF7: 111.10436 | FG7: 310.69449 | FH7: 647.88486 | FJ7: =SUM(FE7:FI7) -> 1110.4194 | FK7: 123.42421 | FL7: 26.68352 | FM7: 26.870712 | FN7: 2 | FP7: =SUM(FK7:FO7) -> 178.97844 | FQ7: =SUM(EA7,EG7,EM7,ES7,EY7,FE7,FK7) -> 652.07166 | FR7: =SUM(EB7,EH7,EN7,ET7,EZ7,FF7,FL7) -> 2550.9926 | FS7: =SUM(EC7,EI7,EO7,EU7,FA7,FG7,FM7) -> 4441.9685 | FT7: =SUM(ED7,EJ7,EP7,EV7,FB7,FH7,FN7) -> 3296.2199 | FU7: =SUM(EE7,EK7,EQ7,EW7,FC7,FI7,FO7) -> 614.28373 | FV7: =SUM(FQ7:FU7) -> 11555.536 | FW7: 462.93609 | FZ7: 0.5 | GB7: =SUM(FW7:GA7) -> 463.43609 | GH7: =SUM(GC7:GG7) -> 0 | GI7: 519.35755 | GJ7: 45.780252 | GL7: 1.75 | GN7: =SUM(GI7:GM7) -> 566.88781 | GR7: 0.5 | GT7: =SUM(GO7:GS7) -> 0.5 | GU7: 197.62659 | GV7: 2755.0922 | GX7: 69.543801 | GZ7: =SUM(GU7:GY7) -> 3022.2626 | HA7: 1009.1959 | HB7: 687.02498 | HC7: 317.14423 | HD7: 19.527521 | HF7: =SUM(HA7:HE7) -> 2032.8926 | HL7: =SUM(HG7:HK7) -> 0 | HR7: =SUM(HM7:HQ7) -> 0 | HS7: =SUM(FW7,GC7,GI7,GO7,GU7,HA7,HG7,HM7) -> 2189.1161 | HT7: =SUM(FX7,GD7,GJ7,GP7,GV7,HB7,HH7,HN7) -> 3487.8974 | HU7: =SUM(HO7,HI7,HC7,GW7,GQ7,GK7,GE7,FY7) -> 317.14423 | HV7: =SUM(HP7,HJ7,HD7,GX7,GR7,GL7,GF7,FZ7) -> 91.821323 | HW7: =SUM(HQ7,HK7,HE7,GY7,GS7,GM7,GG7,GA7) -> 0 | HX7: =SUM(HS7:HW7) -> 6085.9791 | HY7: 69983.737 | HZ7: 20379.35 | IA7: 3824.9565 | IB7: 27.25 | ID7: =SUM(HY7:IC7) -> 94215.294 | IE7: 917.01829 | IF7: 86.147686 | IH7: 3.25 | IJ7: =SUM(IE7:II7) -> 1006.416 | IK7: 86608.482 | IL7: 112461.68 | IM7: 59538.465 | IN7: 864.75661 | IO7: 155.64953 | IP7: =SUM(IK7:IO7) -> 259629.04 | IQ7: =SUM(HY7,IE7,IK7) -> 157509.24 | IR7: =SUM(HZ7,IF7,IL7) -> 132927.18 | IS7: =SUM(IA7,IG7,IM7) -> 63363.422 | IT7: =SUM(IB7,IH7,IN7) -> 895.25661 | IU7: =SUM(IC7,II7,IO7) -> 155.64953 | IV7: =SUM(IQ7:IU7) -> 354850.75 | IW7: 60457.882 | IX7: 23133.735 | IY7: 941.2409 | IZ7: 27.75 | JB7: =SUM(IW7:JA7) -> 84560.608 | JC7: 9126.081 | JD7: 839.9758 | JF7: 71 | JH7: =SUM(JC7:JG7) -> 10037.057 | JI7: 19243.017 | JJ7: 4352.5465 | JK7: 64.796074 | JL7: 108.75 | JN7: =SUM(JI7:JM7) -> 23769.109 | JO7: =SUM(IW7,JC7,JI7) -> 88826.98 | JP7: =SUM(IX7,JD7,JJ7) -> 28326.257 | JQ7: =SUM(IY7,JE7,JK7) -> 1006.037 | JR7: =SUM(IZ7,JF7,JL7) -> 207.5 | JS7: =SUM(JA7,JG7,JM7) -> 0 | JT7: =SUM(JO7:JS7) -> 118366.77 | JV7: =SUM(N7,AL7,BK7,CK7,DT7,FQ7,HS7,IQ7,JO7) -> 259475.22 | JW7: =SUM(O7,AM7,BL7,CL7,DU7,FR7,HT7,IR7,JP7) -> 175121.36 | JX7: =SUM(P7,AN7,BM7,CM7,DV7,FS7,HU7,IS7,JQ7) -> 74155.044 | JY7: =SUM(Q7,AO7,BN7,CN7,DW7,FT7,HV7,IT7,JR7) -> 5913.6713 | JZ7: =SUM(R7,AP7,BO7,CO7,DX7,FU7,HW7,IU7,JS7) -> 781.68049 | KA7: =SUM(BP7,CP7,DY7) -> 0 | KB7: =SUM(JV7:KA7) -> 515446.97
A8: IBB=Western Balsam Bark Beetle | B8: 53750.923 | C8: 17901.723 | D8: 56.687933 | E8: 8 | G8: =SUM(B8:F8) -> 71717.334 | M8: =SUM(H8:L8) -> 0 | N8: =SUM(B8,H8) -> 53750.923 | O8: =SUM(C8,I8) -> 17901.723 | P8: =SUM(D8,J8) -> 56.687933 | Q8: =SUM(E8,K8) -> 8 | R8: =SUM(F8,L8) -> 0 | S8: =SUM(N8:R8) -> 71717.334 | T8: 5722.6994 | U8: 132.63355 | W8: 6 | Y8: =SUM(T8:X8) -> 5861.3329 | Z8: 26566.977 | AA8: 944.46262 | AB8: 107.35867 | AC8: 18.75 | AE8: =SUM(Z8:AD8) -> 27637.548 | AF8: 4003.9252 | AG8: 27.984347 | AI8: 1 | AK8: =SUM(AF8:AJ8) -> 4032.9095 | AL8: =SUM(T8,Z8,AF8) -> 36293.602 | AM8: =SUM(U8,AA8,AG8) -> 1105.0805 | AN8: =SUM(V8,AB8,AH8) -> 107.35867 | AO8: =SUM(W8,AC8,AI8) -> 25.75 | AP8: =SUM(X8,AD8,AJ8) -> 0 | AQ8: =SUM(AL8:AP8) -> 37531.791 | AR8: 148.08272 | AU8: 1 | AW8: =SUM(AR8:AV8) -> 149.08272 | BD8: =SUM(AX8:BC8) -> 0 | BE8: 143.64334 | BH8: 1 | BJ8: =SUM(BE8:BI8) -> 144.64334 | BK8: =SUM(AR8,AX8,BE8) -> 291.72605 | BL8: =SUM(AS8,AY8,BF8) -> 0 | BM8: =SUM(AT8,AZ8,BG8) -> 0 | BN8: =SUM(AU8,BA8,BH8) -> 2 | BO8: =SUM(AV8,BB8,BI8) -> 0 | BP8: =SUM(BC8) -> 0 | BQ8: =SUM(BK8:BP8) -> 293.72605 | BR8: 3876.3449 | BS8: 30.692944 | BT8: 85.465144 | BU8: 12.75 | BW8: =SUM(BR8:BV8) -> 4005.253 | BX8: 53876.444 | BY8: 1069.8534 | CA8: 42.25 | CC8: =SUM(BX8:CB8) -> 54988.547 | CD8: 64949.274 | CE8: 5429.947 | CF8: 658.02369 | CG8: 70.346439 | CJ8: =SUM(CD8:CI8) -> 71107.591 | CK8: =SUM(BR8,BX8,CD8) -> 122702.06 | CL8: =SUM(BS8,BY8,CE8) -> 6530.4934 | CM8: =SUM(BT8,BZ8,CF8) -> 743.48883 | CN8: =SUM(BU8,CA8,CG8) -> 125.34644 | CO8: =SUM(BV8,CB8,CH8) -> 0 | CP8: =SUM(CI8) -> 0 | CQ8: =SUM(CK8:CP8) -> 130101.39 | CR8: 51826.23 | CS8: 5366.6199 | CT8: 36.25364 | CU8: 199.95605 | CX8: =SUM(CR8:CW8) -> 57429.06 | CY8: 14838.76 | CZ8: 741.64109 | DA8: 27.39756 | DB8: 89.225419 | DE8: =SUM(CY8:DD8) -> 15697.024 | DF8: 7438.9492 | DG8: 69.797578 | DI8: 48.923165 | DL8: =SUM(DF8:DK8) -> 7557.6699 | DM8: 41948.684 | DN8: 351.06622 | DP8: 62.685018 | DS8: =SUM(DM8:DR8) -> 42362.436 | DT8: =SUM(CR8,CY8,DF8,DM8) -> 116052.62 | DU8: =SUM(CS8,CZ8,DG8,DN8) -> 6529.1248 | DV8: =SUM(CT8,DA8,DH8,DO8) -> 63.651201 | DW8: =SUM(CU8,DB8,DI8,DP8) -> 400.78966 | DX8: =SUM(CV8,DC8,DJ8,DQ8) -> 0 | DY8: =SUM(CW8,DD8,DK8,DR8) -> 0 | DZ8: =SUM(DT8:DY8) -> 123046.19 | EA8: 6273.4678 | EB8: 884.86355 | ED8: 24.75 | EF8: =SUM(EA8:EE8) -> 7183.0814 | EG8: 1678.105 | EJ8: 5 | EL8: =SUM(EG8:EK8) -> 1683.105 | EM8: 4833.3912 | EN8: 3051.5527 | EO8: 1023.4729 | EP8: 28.5 | ER8: =SUM(EM8:EQ8) -> 8936.9168 | ES8: 3765.4274 | ET8: 5956.0698 | EU8: 1313.7276 | EV8: 24.138622 | EX8: =SUM(ES8:EW8) -> 11059.363 | EY8: 7871.5921 | EZ8: 5582.5885 | FA8: 1991.3729 | FB8: 76.336587 | FD8: =SUM(EY8:FC8) -> 15521.89 | FE8: 6578.6664 | FF8: 1869.9064 | FG8: 64.441441 | FH8: 27.25 | FJ8: =SUM(FE8:FI8) -> 8540.2643 | FK8: 4317.114 | FL8: 1019.212 | FM8: 14.382429 | FN8: 8 | FP8: =SUM(FK8:FO8) -> 5358.7084 | FQ8: =SUM(EA8,EG8,EM8,ES8,EY8,FE8,FK8) -> 35317.764 | FR8: =SUM(EB8,EH8,EN8,ET8,EZ8,FF8,FL8) -> 18364.193 | FS8: =SUM(EC8,EI8,EO8,EU8,FA8,FG8,FM8) -> 4407.3972 | FT8: =SUM(ED8,EJ8,EP8,EV8,FB8,FH8,FN8) -> 193.97521 | FU8: =SUM(EE8,EK8,EQ8,EW8,FC8,FI8,FO8) -> 0 | FV8: =SUM(FQ8:FU8) -> 58283.329 | FW8: 202832.04 | FX8: 8001.0042 | FY8: 711.40489 | FZ8: 31.832054 | GB8: =SUM(FW8:GA8) -> 211576.28 | GC8: 2404.3652 | GF8: 5.75 | GH8: =SUM(GC8:GG8) -> 2410.1152 | GI8: 10569.733 | GJ8: 216.09671 | GL8: 2.25 | GN8: =SUM(GI8:GM8) -> 10788.08 | GO8: 84772.544 | GP8: 363.7398 | GR8: 5.5 | GT8: =SUM(GO8:GS8) -> 85141.784 | GU8: 157552.76 | GV8: 7410.63 | GW8: 1607.5582 | GX8: 39.632819 | GZ8: =SUM(GU8:GY8) -> 166610.58 | HA8: 311441.05 | HB8: 8999.7089 | HC8: 721.6575 | HD8: 68.150598 | HF8: =SUM(HA8:HE8) -> 321230.56 | HG8: 1517.4985 | HJ8: 0.25 | HL8: =SUM(HG8:HK8) -> 1517.7485 | HR8: =SUM(HM8:HQ8) -> 0 | HS8: =SUM(FW8,GC8,GI8,GO8,GU8,HA8,HG8,HM8) -> 771089.99 | HT8: =SUM(FX8,GD8,GJ8,GP8,GV8,HB8,HH8,HN8) -> 24991.18 | HU8: =SUM(HO8,HI8,HC8,GW8,GQ8,GK8,GE8,FY8) -> 3040.6206 | HV8: =SUM(HP8,HJ8,HD8,GX8,GR8,GL8,GF8,FZ8) -> 153.36547 | HW8: =SUM(HQ8,HK8,HE8,GY8,GS8,GM8,GG8,GA8) -> 0 | HX8: =SUM(HS8:HW8) -> 799275.15 | HY8: 451152.3 | HZ8: 110016.64 | IA8: 3524.669 | IB8: 129.25 | ID8: =SUM(HY8:IC8) -> 564822.87 | IE8: 214766.5 | IF8: 18077.518 | IG8: 185.29673 | IH8: 63.75 | IJ8: =SUM(IE8:II8) -> 233093.07 | IK8: 752716.35 | IL8: 179946.39 | IM8: 1697.4536 | IN8: 449.73479 | IP8: =SUM(IK8:IO8) -> 934809.92 | IQ8: =SUM(HY8,IE8,IK8) -> 1418635.2 | IR8: =SUM(HZ8,IF8,IL8) -> 308040.55 | IS8: =SUM(IA8,IG8,IM8) -> 5407.4192 | IT8: =SUM(IB8,IH8,IN8) -> 642.73479 | IU8: =SUM(IC8,II8,IO8) -> 0 | IV8: =SUM(IQ8:IU8) -> 1732725.9 | IW8: 159417.26 | IX8: 34886.305 | IY8: 14.354727 | IZ8: 54.5 | JB8: =SUM(IW8:JA8) -> 194372.42 | JC8: 77722.093 | JD8: 11224.492 | JE8: 233.91461 | JF8: 129.5 | JH8: =SUM(JC8:JG8) -> 89310 | JI8: 9405.9422 | JJ8: 1025.6702 | JK8: 8.8791499 | JL8: 37.5 | JN8: =SUM(JI8:JM8) -> 10477.992 | JO8: =SUM(IW8,JC8,JI8) -> 246545.29 | JP8: =SUM(IX8,JD8,JJ8) -> 47136.467 | JQ8: =SUM(IY8,JE8,JK8) -> 257.14849 | JR8: =SUM(IZ8,JF8,JL8) -> 221.5 | JS8: =SUM(JA8,JG8,JM8) -> 0 | JT8: =SUM(JO8:JS8) -> 294160.41 | JV8: =SUM(N8,AL8,BK8,CK8,DT8,FQ8,HS8,IQ8,JO8) -> 2800679.1 | JW8: =SUM(O8,AM8,BL8,CL8,DU8,FR8,HT8,IR8,JP8) -> 430598.81 | JX8: =SUM(P8,AN8,BM8,CM8,DV8,FS8,HU8,IS8,JQ8) -> 14083.772 | JY8: =SUM(Q8,AO8,BN8,CN8,DW8,FT8,HV8,IT8,JR8) -> 1773.4616 | JZ8: =SUM(R8,AP8,BO8,CO8,DX8,FU8,HW8,IU8,JS8) -> 0 | KA8: =SUM(BP8,CP8,DY8) -> 0 | KB8: =SUM(JV8:KA8) -> 3247135.2
A9: IBD=Douglas-fir Beetle | E9: 1 | G9: =SUM(B9:F9) -> 1 | H9: 26.890172 | M9: =SUM(H9:L9) -> 26.890172 | N9: =SUM(B9,H9) -> 26.890172 | O9: =SUM(C9,I9) -> 0 | P9: =SUM(D9,J9) -> 0 | Q9: =SUM(E9,K9) -> 1 | R9: =SUM(F9,L9) -> 0 | S9: =SUM(N9:R9) -> 27.890172 | T9: 1311.6879 | U9: 227.37 | W9: 30.25 | Y9: =SUM(T9:X9) -> 1569.3079 | Z9: 766.13185 | AA9: 222.11346 | AB9: 50.621744 | AC9: 29.487206 | AE9: =SUM(Z9:AD9) -> 1068.3543 | AF9: 121.13879 | AG9: 36.854634 | AH9: 8.2829466 | AI9: 163.19453 | AK9: =SUM(AF9:AJ9) -> 329.4709 | AL9: =SUM(T9,Z9,AF9) -> 2198.9585 | AM9: =SUM(U9,AA9,AG9) -> 486.3381 | AN9: =SUM(V9,AB9,AH9) -> 58.90469 | AO9: =SUM(W9,AC9,AI9) -> 222.93174 | AP9: =SUM(X9,AD9,AJ9) -> 0 | AQ9: =SUM(AL9:AP9) -> 2967.133 | AR9: 1257.7619 | AS9: 1188.1726 | AT9: 68.199901 | AU9: 8.5 | AW9: =SUM(AR9:AV9) -> 2522.6344 | BD9: =SUM(AX9:BC9) -> 0 | BE9: 1387.7575 | BF9: 1389.5594 | BG9: 378.6214 | BH9: 35.093909 | BJ9: =SUM(BE9:BI9) -> 3191.0322 | BK9: =SUM(AR9,AX9,BE9) -> 2645.5194 | BL9: =SUM(AS9,AY9,BF9) -> 2577.732 | BM9: =SUM(AT9,AZ9,BG9) -> 446.8213 | BN9: =SUM(AU9,BA9,BH9) -> 43.593909 | BO9: =SUM(AV9,BB9,BI9) -> 0 | BP9: =SUM(BC9) -> 0 | BQ9: =SUM(BK9:BP9) -> 5713.6666 | BR9: 9588.1547 | BS9: 819.50133 | BT9: 1471.3921 | BU9: 500.09111 | BW9: =SUM(BR9:BV9) -> 12379.139 | BX9: 1484.8022 | BY9: 759.59787 | BZ9: 337.77892 | CA9: 103.5 | CC9: =SUM(BX9:CB9) -> 2685.679 | CD9: 38638.703 | CE9: 13164.211 | CF9: 2258.9198 | CG9: 671.03694 | CJ9: =SUM(CD9:CI9) -> 54732.871 | CK9: =SUM(BR9,BX9,CD9) -> 49711.66 | CL9: =SUM(BS9,BY9,CE9) -> 14743.311 | CM9: =SUM(BT9,BZ9,CF9) -> 4068.0908 | CN9: =SUM(BU9,CA9,CG9) -> 1274.628 | CO9: =SUM(BV9,CB9,CH9) -> 0 | CP9: =SUM(CI9) -> 0 | CQ9: =SUM(CK9:CP9) -> 69797.69 | CR9: 372.09426 | CS9: 857.32638 | CT9: 1108.6464 | CU9: 917.40267 | CV9: 83.586177 | CX9: =SUM(CR9:CW9) -> 3339.0559 | CZ9: 58.180029 | DA9: 69.845058 | DB9: 129.48988 | DC9: 8.6133684 | DE9: =SUM(CY9:DD9) -> 266.12834 | DG9: 155.77484 | DH9: 145.46994 | DI9: 183.13749 | DJ9: 4.094722 | DL9: =SUM(DF9:DK9) -> 488.47699 | DM9: 168.39185 | DN9: 927.32943 | DO9: 931.29184 | DP9: 474.73 | DQ9: 24.040769 | DS9: =SUM(DM9:DR9) -> 2525.7839 | DT9: =SUM(CR9,CY9,DF9,DM9) -> 540.48611 | DU9: =SUM(CS9,CZ9,DG9,DN9) -> 1998.6107 | DV9: =SUM(CT9,DA9,DH9,DO9) -> 2255.2532 | DW9: =SUM(CU9,DB9,DI9,DP9) -> 1704.76 | DX9: =SUM(CV9,DC9,DJ9,DQ9) -> 120.33504 | DY9: =SUM(CW9,DD9,DK9,DR9) -> 0 | DZ9: =SUM(DT9:DY9) -> 6619.4451 | EA9: 263.17159 | EB9: 1248.3 | EC9: 812.90922 | ED9: 71 | EF9: =SUM(EA9:EE9) -> 2395.3808 | EG9: 216.59453 | EH9: 548.44027 | EI9: 326.60911 | EJ9: 34.996025 | EL9: =SUM(EG9:EK9) -> 1126.6399 | EM9: 123.401 | EN9: 292.79962 | EO9: 109.82411 | EP9: 51.75 | ER9: =SUM(EM9:EQ9) -> 577.77473 | EU9: 158.50059 | EV9: 22.069947 | EX9: =SUM(ES9:EW9) -> 180.57053 | EY9: 181.6787 | EZ9: 559.81573 | FA9: 645.09341 | FB9: 128.27633 | FD9: =SUM(EY9:FC9) -> 1514.8642 | FE9: 36.063727 | FF9: 424.71955 | FG9: 496.80441 | FH9: 65.938327 | FJ9: =SUM(FE9:FI9) -> 1023.526 | FK9: 9.1763533 | FL9: 153.08 | FM9: 95.323881 | FN9: 7.5 | FP9: =SUM(FK9:FO9) -> 265.08023 | FQ9: =SUM(EA9,EG9,EM9,ES9,EY9,FE9,FK9) -> 830.0859 | FR9: =SUM(EB9,EH9,EN9,ET9,EZ9,FF9,FL9) -> 3227.1552 | FS9: =SUM(EC9,EI9,EO9,EU9,FA9,FG9,FM9) -> 2645.0647 | FT9: =SUM(ED9,EJ9,EP9,EV9,FB9,FH9,FN9) -> 381.53063 | FU9: =SUM(EE9,EK9,EQ9,EW9,FC9,FI9,FO9) -> 0 | FV9: =SUM(FQ9:FU9) -> 7083.8364 | GB9: =SUM(FW9:GA9) -> 0 | GH9: =SUM(GC9:GG9) -> 0 | GN9: =SUM(GI9:GM9) -> 0 | GT9: =SUM(GO9:GS9) -> 0 | GV9: 77.676104 | GW9: 341.95458 | GZ9: =SUM(GU9:GY9) -> 419.63069 | HD9: 0.75 | HF9: =SUM(HA9:HE9) -> 0.75 | HL9: =SUM(HG9:HK9) -> 0 | HR9: =SUM(HM9:HQ9) -> 0 | HS9: =SUM(FW9,GC9,GI9,GO9,GU9,HA9,HG9,HM9) -> 0 | HT9: =SUM(FX9,GD9,GJ9,GP9,GV9,HB9,HH9,HN9) -> 77.676104 | HU9: =SUM(HO9,HI9,HC9,GW9,GQ9,GK9,GE9,FY9) -> 341.95458 | HV9: =SUM(HP9,HJ9,HD9,GX9,GR9,GL9,GF9,FZ9) -> 0.75 | HW9: =SUM(HQ9,HK9,HE9,GY9,GS9,GM9,GG9,GA9) -> 0 | HX9: =SUM(HS9:HW9) -> 420.38069 | ID9: =SUM(HY9:IC9) -> 0 | IE9: 284.97967 | IH9: 4.75 | IJ9: =SUM(IE9:II9) -> 289.72967 | IK9: 2285.4715 | IL9: 2115.3224 | IM9: 470.73995 | IN9: 173 | IP9: =SUM(IK9:IO9) -> 5044.5338 | IQ9: =SUM(HY9,IE9,IK9) -> 2570.4512 | IR9: =SUM(HZ9,IF9,IL9) -> 2115.3224 | IS9: =SUM(IA9,IG9,IM9) -> 470.73995 | IT9: =SUM(IB9,IH9,IN9) -> 177.75 | IU9: =SUM(IC9,II9,IO9) -> 0 | IV9: =SUM(IQ9:IU9) -> 5334.2635 | JB9: =SUM(IW9:JA9) -> 0 | JH9: =SUM(JC9:JG9) -> 0 | JN9: =SUM(JI9:JM9) -> 0 | JO9: =SUM(IW9,JC9,JI9) -> 0 | JP9: =SUM(IX9,JD9,JJ9) -> 0 | JQ9: =SUM(IY9,JE9,JK9) -> 0 | JR9: =SUM(IZ9,JF9,JL9) -> 0 | JS9: =SUM(JA9,JG9,JM9) -> 0 | JT9: =SUM(JO9:JS9) -> 0 | JV9: =SUM(N9,AL9,BK9,CK9,DT9,FQ9,HS9,IQ9,JO9) -> 58524.051 | JW9: =SUM(O9,AM9,BL9,CL9,DU9,FR9,HT9,IR9,JP9) -> 25226.145 | JX9: =SUM(P9,AN9,BM9,CM9,DV9,FS9,HU9,IS9,JQ9) -> 10286.829 | JY9: =SUM(Q9,AO9,BN9,CN9,DW9,FT9,HV9,IT9,JR9) -> 3806.9444 | JZ9: =SUM(R9,AP9,BO9,CO9,DX9,FU9,HW9,IU9,JS9) -> 120.33504 | KA9: =SUM(BP9,CP9,DY9) -> 0 | KB9: =SUM(JV9:KA9) -> 97964.305
A10: IBF = Fir engraver Beetle | G10: =SUM(B10:F10) -> 0 | M10: =SUM(H10:L10) -> 0 | N10: =SUM(B10,H10) -> 0 | O10: =SUM(C10,I10) -> 0 | P10: =SUM(D10,J10) -> 0 | Q10: =SUM(E10,K10) -> 0 | R10: =SUM(F10,L10) -> 0 | S10: =SUM(N10:R10) -> 0 | Y10: =SUM(T10:X10) -> 0 | AE10: =SUM(Z10:AD10) -> 0 | AK10: =SUM(AF10:AJ10) -> 0 | AL10: =SUM(T10,Z10,AF10) -> 0 | AM10: =SUM(U10,AA10,AG10) -> 0 | AN10: =SUM(V10,AB10,AH10) -> 0 | AO10: =SUM(W10,AC10,AI10) -> 0 | AP10: =SUM(X10,AD10,AJ10) -> 0 | AQ10: =SUM(AL10:AP10) -> 0 | AW10: =SUM(AR10:AV10) -> 0 | BD10: =SUM(AX10:BC10) -> 0 | BJ10: =SUM(BE10:BI10) -> 0 | BK10: =SUM(AR10,AX10,BE10) -> 0 | BL10: =SUM(AS10,AY10,BF10) -> 0 | BM10: =SUM(AT10,AZ10,BG10) -> 0 | BN10: =SUM(AU10,BA10,BH10) -> 0 | BO10: =SUM(AV10,BB10,BI10) -> 0 | BP10: =SUM(BC10) -> 0 | BQ10: =SUM(BK10:BP10) -> 0 | BW10: =SUM(BR10:BV10) -> 0 | CC10: =SUM(BX10:CB10) -> 0 | CJ10: =SUM(CD10:CI10) -> 0 | CK10: =SUM(BR10,BX10,CD10) -> 0 | CL10: =SUM(BS10,BY10,CE10) -> 0 | CM10: =SUM(BT10,BZ10,CF10) -> 0 | CN10: =SUM(BU10,CA10,CG10) -> 0 | CO10: =SUM(BV10,CB10,CH10) -> 0 | CP10: =SUM(CI10) -> 0 | CQ10: =SUM(CK10:CP10) -> 0 | CX10: =SUM(CR10:CW10) -> 0 | DE10: =SUM(CY10:DD10) -> 0 | DL10: =SUM(DF10:DK10) -> 0 | DS10: =SUM(DM10:DR10) -> 0 | DT10: =SUM(CR10,CY10,DF10,DM10) -> 0 | DU10: =SUM(CS10,CZ10,DG10,DN10) -> 0 | DV10: =SUM(CT10,DA10,DH10,DO10) -> 0 | DW10: =SUM(CU10,DB10,DI10,DP10) -> 0 | DX10: =SUM(CV10,DC10,DJ10,DQ10) -> 0 | DY10: =SUM(CW10,DD10,DK10,DR10) -> 0 | DZ10: =SUM(DT10:DY10) -> 0 | EF10: =SUM(EA10:EE10) -> 0 | EL10: =SUM(EG10:EK10) -> 0 | ER10: =SUM(EM10:EQ10) -> 0 | EX10: =SUM(ES10:EW10) -> 0 | FD10: =SUM(EY10:FC10) -> 0 | FJ10: =SUM(FE10:FI10) -> 0 | FP10: =SUM(FK10:FO10) -> 0 | FQ10: =SUM(EA10,EG10,EM10,ES10,EY10,FE10,FK10) -> 0 | FR10: =SUM(EB10,EH10,EN10,ET10,EZ10,FF10,FL10) -> 0 | FS10: =SUM(EC10,EI10,EO10,EU10,FA10,FG10,FM10) -> 0 | FT10: =SUM(ED10,EJ10,EP10,EV10,FB10,FH10,FN10) -> 0 | FU10: =SUM(EE10,EK10,EQ10,EW10,FC10,FI10,FO10) -> 0 | FV10: =SUM(FQ10:FU10) -> 0 | GB10: =SUM(FW10:GA10) -> 0 | GH10: =SUM(GC10:GG10) -> 0 | GN10: =SUM(GI10:GM10) -> 0 | GT10: =SUM(GO10:GS10) -> 0 | GZ10: =SUM(GU10:GY10) -> 0 | HF10: =SUM(HA10:HE10) -> 0 | HL10: =SUM(HG10:HK10) -> 0 | HR10: =SUM(HM10:HQ10) -> 0 | HS10: =SUM(FW10,GC10,GI10,GO10,GU10,HA10,HG10,HM10) -> 0 | HT10: =SUM(FX10,GD10,GJ10,GP10,GV10,HB10,HH10,HN10) -> 0 | HU10: =SUM(HO10,HI10,HC10,GW10,GQ10,GK10,GE10,FY10) -> 0 | HV10: =SUM(HP10,HJ10,HD10,GX10,GR10,GL10,GF10,FZ10) -> 0 | HW10: =SUM(HQ10,HK10,HE10,GY10,GS10,GM10,GG10,GA10) -> 0 | HX10: =SUM(HS10:HW10) -> 0 | ID10: =SUM(HY10:IC10) -> 0 | IJ10: =SUM(IE10:II10) -> 0 | IP10: =SUM(IK10:IO10) -> 0 | IQ10: =SUM(HY10,IE10,IK10) -> 0 | IR10: =SUM(HZ10,IF10,IL10) -> 0 | IS10: =SUM(IA10,IG10,IM10) -> 0 | IT10: =SUM(IB10,IH10,IN10) -> 0 | IU10: =SUM(IC10,II10,IO10) -> 0 | IV10: =SUM(IQ10:IU10) -> 0 | JB10: =SUM(IW10:JA10) -> 0 | JH10: =SUM(JC10:JG10) -> 0 | JN10: =SUM(JI10:JM10) -> 0 | JO10: =SUM(IW10,JC10,JI10) -> 0 | JP10: =SUM(IX10,JD10,JJ10) -> 0 | JQ10: =SUM(IY10,JE10,JK10) -> 0 | JR10: =SUM(IZ10,JF10,JL10) -> 0 | JS10: =SUM(JA10,JG10,JM10) -> 0 | JT10: =SUM(JO10:JS10) -> 0 | JV10: =SUM(N10,AL10,BK10,CK10,DT10,FQ10,HS10,IQ10,JO10) -> 0 | JW10: =SUM(O10,AM10,BL10,CL10,DU10,FR10,HT10,IR10,JP10) -> 0 | JX10: =SUM(P10,AN10,BM10,CM10,DV10,FS10,HU10,IS10,JQ10) -> 0 | JY10: =SUM(Q10,AO10,BN10,CN10,DW10,FT10,HV10,IT10,JR10) -> 0 | JZ10: =SUM(R10,AP10,BO10,CO10,DX10,FU10,HW10,IU10,JS10) -> 0 | KA10: =SUM(BP10,CP10,DY10) -> 0 | KB10: =SUM(JV10:KA10) -> 0
A11: IBP = Twig Beetle | G11: =SUM(B11:F11) -> 0 | M11: =SUM(H11:L11) -> 0 | N11: =SUM(B11,H11) -> 0 | O11: =SUM(C11,I11) -> 0 | P11: =SUM(D11,J11) -> 0 | Q11: =SUM(E11,K11) -> 0 | R11: =SUM(F11,L11) -> 0 | S11: =SUM(N11:R11) -> 0 | Y11: =SUM(T11:X11) -> 0 | AE11: =SUM(Z11:AD11) -> 0 | AK11: =SUM(AF11:AJ11) -> 0 | AL11: =SUM(T11,Z11,AF11) -> 0 | AM11: =SUM(U11,AA11,AG11) -> 0 | AN11: =SUM(V11,AB11,AH11) -> 0 | AO11: =SUM(W11,AC11,AI11) -> 0 | AP11: =SUM(X11,AD11,AJ11) -> 0 | AQ11: =SUM(AL11:AP11) -> 0 | AW11: =SUM(AR11:AV11) -> 0 | BD11: =SUM(AX11:BC11) -> 0 | BJ11: =SUM(BE11:BI11) -> 0 | BK11: =SUM(AR11,AX11,BE11) -> 0 | BL11: =SUM(AS11,AY11,BF11) -> 0 | BM11: =SUM(AT11,AZ11,BG11) -> 0 | BN11: =SUM(AU11,BA11,BH11) -> 0 | BO11: =SUM(AV11,BB11,BI11) -> 0 | BP11: =SUM(BC11) -> 0 | BQ11: =SUM(BK11:BP11) -> 0 | BW11: =SUM(BR11:BV11) -> 0 | CC11: =SUM(BX11:CB11) -> 0 | CJ11: =SUM(CD11:CI11) -> 0 | CK11: =SUM(BR11,BX11,CD11) -> 0 | CL11: =SUM(BS11,BY11,CE11) -> 0 | CM11: =SUM(BT11,BZ11,CF11) -> 0 | CN11: =SUM(BU11,CA11,CG11) -> 0 | CO11: =SUM(BV11,CB11,CH11) -> 0 | CP11: =SUM(CI11) -> 0 | CQ11: =SUM(CK11:CP11) -> 0 | CX11: =SUM(CR11:CW11) -> 0 | DE11: =SUM(CY11:DD11) -> 0 | DL11: =SUM(DF11:DK11) -> 0 | DS11: =SUM(DM11:DR11) -> 0 | DT11: =SUM(CR11,CY11,DF11,DM11) -> 0 | DU11: =SUM(CS11,CZ11,DG11,DN11) -> 0 | DV11: =SUM(CT11,DA11,DH11,DO11) -> 0 | DW11: =SUM(CU11,DB11,DI11,DP11) -> 0 | DX11: =SUM(CV11,DC11,DJ11,DQ11) -> 0 | DY11: =SUM(CW11,DD11,DK11,DR11) -> 0 | DZ11: =SUM(DT11:DY11) -> 0 | EF11: =SUM(EA11:EE11) -> 0 | EL11: =SUM(EG11:EK11) -> 0 | ER11: =SUM(EM11:EQ11) -> 0 | EX11: =SUM(ES11:EW11) -> 0 | FD11: =SUM(EY11:FC11) -> 0 | FJ11: =SUM(FE11:FI11) -> 0 | FP11: =SUM(FK11:FO11) -> 0 | FQ11: =SUM(EA11,EG11,EM11,ES11,EY11,FE11,FK11) -> 0 | FR11: =SUM(EB11,EH11,EN11,ET11,EZ11,FF11,FL11) -> 0 | FS11: =SUM(EC11,EI11,EO11,EU11,FA11,FG11,FM11) -> 0 | FT11: =SUM(ED11,EJ11,EP11,EV11,FB11,FH11,FN11) -> 0 | FU11: =SUM(EE11,EK11,EQ11,EW11,FC11,FI11,FO11) -> 0 | FV11: =SUM(FQ11:FU11) -> 0 | GB11: =SUM(FW11:GA11) -> 0 | GH11: =SUM(GC11:GG11) -> 0 | GN11: =SUM(GI11:GM11) -> 0 | GT11: =SUM(GO11:GS11) -> 0 | GZ11: =SUM(GU11:GY11) -> 0 | HF11: =SUM(HA11:HE11) -> 0 | HL11: =SUM(HG11:HK11) -> 0 | HR11: =SUM(HM11:HQ11) -> 0 | HS11: =SUM(FW11,GC11,GI11,GO11,GU11,HA11,HG11,HM11) -> 0 | HT11: =SUM(FX11,GD11,GJ11,GP11,GV11,HB11,HH11,HN11) -> 0 | HU11: =SUM(HO11,HI11,HC11,GW11,GQ11,GK11,GE11,FY11) -> 0 | HV11: =SUM(HP11,HJ11,HD11,GX11,GR11,GL11,GF11,FZ11) -> 0 | HW11: =SUM(HQ11,HK11,HE11,GY11,GS11,GM11,GG11,GA11) -> 0 | HX11: =SUM(HS11:HW11) -> 0 | ID11: =SUM(HY11:IC11) -> 0 | IJ11: =SUM(IE11:II11) -> 0 | IP11: =SUM(IK11:IO11) -> 0 | IQ11: =SUM(HY11,IE11,IK11) -> 0 | IR11: =SUM(HZ11,IF11,IL11) -> 0 | IS11: =SUM(IA11,IG11,IM11) -> 0 | IT11: =SUM(IB11,IH11,IN11) -> 0 | IU11: =SUM(IC11,II11,IO11) -> 0 | IV11: =SUM(IQ11:IU11) -> 0 | JB11: =SUM(IW11:JA11) -> 0 | JH11: =SUM(JC11:JG11) -> 0 | JN11: =SUM(JI11:JM11) -> 0 | JO11: =SUM(IW11,JC11,JI11) -> 0 | JP11: =SUM(IX11,JD11,JJ11) -> 0 | JQ11: =SUM(IY11,JE11,JK11) -> 0 | JR11: =SUM(IZ11,JF11,JL11) -> 0 | JS11: =SUM(JA11,JG11,JM11) -> 0 | JT11: =SUM(JO11:JS11) -> 0 | JV11: =SUM(N11,AL11,BK11,CK11,DT11,FQ11,HS11,IQ11,JO11) -> 0 | JW11: =SUM(O11,AM11,BL11,CL11,DU11,FR11,HT11,IR11,JP11) -> 0 | JX11: =SUM(P11,AN11,BM11,CM11,DV11,FS11,HU11,IS11,JQ11) -> 0 | JY11: =SUM(Q11,AO11,BN11,CN11,DW11,FT11,HV11,IT11,JR11) -> 0 | JZ11: =SUM(R11,AP11,BO11,CO11,DX11,FU11,HW11,IU11,JS11) -> 0 | KA11: =SUM(BP11,CP11,DY11) -> 0 | KB11: =SUM(JV11:KA11) -> 0
A12: IBI=Engraver Beetle (Ips species) | G12: =SUM(B12:F12) -> 0 | M12: =SUM(H12:L12) -> 0 | N12: =SUM(B12,H12) -> 0 | O12: =SUM(C12,I12) -> 0 | P12: =SUM(D12,J12) -> 0 | Q12: =SUM(E12,K12) -> 0 | R12: =SUM(F12,L12) -> 0 | S12: =SUM(N12:R12) -> 0 | Y12: =SUM(T12:X12) -> 0 | AE12: =SUM(Z12:AD12) -> 0 | AK12: =SUM(AF12:AJ12) -> 0 | AL12: =SUM(T12,Z12,AF12) -> 0 | AM12: =SUM(U12,AA12,AG12) -> 0 | AN12: =SUM(V12,AB12,AH12) -> 0 | AO12: =SUM(W12,AC12,AI12) -> 0 | AP12: =SUM(X12,AD12,AJ12) -> 0 | AQ12: =SUM(AL12:AP12) -> 0 | AW12: =SUM(AR12:AV12) -> 0 | BD12: =SUM(AX12:BC12) -> 0 | BJ12: =SUM(BE12:BI12) -> 0 | BK12: =SUM(AR12,AX12,BE12) -> 0 | BL12: =SUM(AS12,AY12,BF12) -> 0 | BM12: =SUM(AT12,AZ12,BG12) -> 0 | BN12: =SUM(AU12,BA12,BH12) -> 0 | BO12: =SUM(AV12,BB12,BI12) -> 0 | BP12: =SUM(BC12) -> 0 | BQ12: =SUM(BK12:BP12) -> 0 | BW12: =SUM(BR12:BV12) -> 0 | CC12: =SUM(BX12:CB12) -> 0 | CJ12: =SUM(CD12:CI12) -> 0 | CK12: =SUM(BR12,BX12,CD12) -> 0 | CL12: =SUM(BS12,BY12,CE12) -> 0 | CM12: =SUM(BT12,BZ12,CF12) -> 0 | CN12: =SUM(BU12,CA12,CG12) -> 0 | CO12: =SUM(BV12,CB12,CH12) -> 0 | CP12: =SUM(CI12) -> 0 | CQ12: =SUM(CK12:CP12) -> 0 | CX12: =SUM(CR12:CW12) -> 0 | DE12: =SUM(CY12:DD12) -> 0 | DL12: =SUM(DF12:DK12) -> 0 | DS12: =SUM(DM12:DR12) -> 0 | DT12: =SUM(CR12,CY12,DF12,DM12) -> 0 | DU12: =SUM(CS12,CZ12,DG12,DN12) -> 0 | DV12: =SUM(CT12,DA12,DH12,DO12) -> 0 | DW12: =SUM(CU12,DB12,DI12,DP12) -> 0 | DX12: =SUM(CV12,DC12,DJ12,DQ12) -> 0 | DY12: =SUM(CW12,DD12,DK12,DR12) -> 0 | DZ12: =SUM(DT12:DY12) -> 0 | EF12: =SUM(EA12:EE12) -> 0 | EL12: =SUM(EG12:EK12) -> 0 | ER12: =SUM(EM12:EQ12) -> 0 | EX12: =SUM(ES12:EW12) -> 0 | FD12: =SUM(EY12:FC12) -> 0 | FJ12: =SUM(FE12:FI12) -> 0 | FP12: =SUM(FK12:FO12) -> 0 | FQ12: =SUM(EA12,EG12,EM12,ES12,EY12,FE12,FK12) -> 0 | FR12: =SUM(EB12,EH12,EN12,ET12,EZ12,FF12,FL12) -> 0 | FS12: =SUM(EC12,EI12,EO12,EU12,FA12,FG12,FM12) -> 0 | FT12: =SUM(ED12,EJ12,EP12,EV12,FB12,FH12,FN12) -> 0 | FU12: =SUM(EE12,EK12,EQ12,EW12,FC12,FI12,FO12) -> 0 | FV12: =SUM(FQ12:FU12) -> 0 | GB12: =SUM(FW12:GA12) -> 0 | GH12: =SUM(GC12:GG12) -> 0 | GN12: =SUM(GI12:GM12) -> 0 | GT12: =SUM(GO12:GS12) -> 0 | GZ12: =SUM(GU12:GY12) -> 0 | HF12: =SUM(HA12:HE12) -> 0 | HL12: =SUM(HG12:HK12) -> 0 | HR12: =SUM(HM12:HQ12) -> 0 | HS12: =SUM(FW12,GC12,GI12,GO12,GU12,HA12,HG12,HM12) -> 0 | HT12: =SUM(FX12,GD12,GJ12,GP12,GV12,HB12,HH12,HN12) -> 0 | HU12: =SUM(HO12,HI12,HC12,GW12,GQ12,GK12,GE12,FY12) -> 0 | HV12: =SUM(HP12,HJ12,HD12,GX12,GR12,GL12,GF12,FZ12) -> 0 | HW12: =SUM(HQ12,HK12,HE12,GY12,GS12,GM12,GG12,GA12) -> 0 | HX12: =SUM(HS12:HW12) -> 0 | ID12: =SUM(HY12:IC12) -> 0 | IJ12: =SUM(IE12:II12) -> 0 | IP12: =SUM(IK12:IO12) -> 0 | IQ12: =SUM(HY12,IE12,IK12) -> 0 | IR12: =SUM(HZ12,IF12,IL12) -> 0 | IS12: =SUM(IA12,IG12,IM12) -> 0 | IT12: =SUM(IB12,IH12,IN12) -> 0 | IU12: =SUM(IC12,II12,IO12) -> 0 | IV12: =SUM(IQ12:IU12) -> 0 | JB12: =SUM(IW12:JA12) -> 0 | JH12: =SUM(JC12:JG12) -> 0 | JN12: =SUM(JI12:JM12) -> 0 | JO12: =SUM(IW12,JC12,JI12) -> 0 | JP12: =SUM(IX12,JD12,JJ12) -> 0 | JQ12: =SUM(IY12,JE12,JK12) -> 0 | JR12: =SUM(IZ12,JF12,JL12) -> 0 | JS12: =SUM(JA12,JG12,JM12) -> 0 | JT12: =SUM(JO12:JS12) -> 0 | JV12: =SUM(N12,AL12,BK12,CK12,DT12,FQ12,HS12,IQ12,JO12) -> 0 | JW12: =SUM(O12,AM12,BL12,CL12,DU12,FR12,HT12,IR12,JP12) -> 0 | JX12: =SUM(P12,AN12,BM12,CM12,DV12,FS12,HU12,IS12,JQ12) -> 0 | JY12: =SUM(Q12,AO12,BN12,CN12,DW12,FT12,HV12,IT12,JR12) -> 0 | JZ12: =SUM(R12,AP12,BO12,CO12,DX12,FU12,HW12,IU12,JS12) -> 0 | KA12: =SUM(BP12,CP12,DY12) -> 0 | KB12: =SUM(JV12:KA12) -> 0
A13: IBW=Western Pine Beetle | G13: =SUM(B13:F13) -> 0 | M13: =SUM(H13:L13) -> 0 | N13: =SUM(B13,H13) -> 0 | O13: =SUM(C13,I13) -> 0 | P13: =SUM(D13,J13) -> 0 | Q13: =SUM(E13,K13) -> 0 | R13: =SUM(F13,L13) -> 0 | S13: =SUM(N13:R13) -> 0 | Y13: =SUM(T13:X13) -> 0 | AE13: =SUM(Z13:AD13) -> 0 | AK13: =SUM(AF13:AJ13) -> 0 | AL13: =SUM(T13,Z13,AF13) -> 0 | AM13: =SUM(U13,AA13,AG13) -> 0 | AN13: =SUM(V13,AB13,AH13) -> 0 | AO13: =SUM(W13,AC13,AI13) -> 0 | AP13: =SUM(X13,AD13,AJ13) -> 0 | AQ13: =SUM(AL13:AP13) -> 0 | AW13: =SUM(AR13:AV13) -> 0 | BD13: =SUM(AX13:BC13) -> 0 | BJ13: =SUM(BE13:BI13) -> 0 | BK13: =SUM(AR13,AX13,BE13) -> 0 | BL13: =SUM(AS13,AY13,BF13) -> 0 | BM13: =SUM(AT13,AZ13,BG13) -> 0 | BN13: =SUM(AU13,BA13,BH13) -> 0 | BO13: =SUM(AV13,BB13,BI13) -> 0 | BP13: =SUM(BC13) -> 0 | BQ13: =SUM(BK13:BP13) -> 0 | BW13: =SUM(BR13:BV13) -> 0 | CC13: =SUM(BX13:CB13) -> 0 | CJ13: =SUM(CD13:CI13) -> 0 | CK13: =SUM(BR13,BX13,CD13) -> 0 | CL13: =SUM(BS13,BY13,CE13) -> 0 | CM13: =SUM(BT13,BZ13,CF13) -> 0 | CN13: =SUM(BU13,CA13,CG13) -> 0 | CO13: =SUM(BV13,CB13,CH13) -> 0 | CP13: =SUM(CI13) -> 0 | CQ13: =SUM(CK13:CP13) -> 0 | CX13: =SUM(CR13:CW13) -> 0 | DB13: 0.5 | DE13: =SUM(CY13:DD13) -> 0.5 | DI13: 0.25 | DL13: =SUM(DF13:DK13) -> 0.25 | DP13: 1.25 | DS13: =SUM(DM13:DR13) -> 1.25 | DT13: =SUM(CR13,CY13,DF13,DM13) -> 0 | DU13: =SUM(CS13,CZ13,DG13,DN13) -> 0 | DV13: =SUM(CT13,DA13,DH13,DO13) -> 0 | DW13: =SUM(CU13,DB13,DI13,DP13) -> 2 | DX13: =SUM(CV13,DC13,DJ13,DQ13) -> 0 | DY13: =SUM(CW13,DD13,DK13,DR13) -> 0 | DZ13: =SUM(DT13:DY13) -> 2 | EC13: 41.23 | ED13: 2 | EF13: =SUM(EA13:EE13) -> 43.23 | EJ13: 2.25 | EL13: =SUM(EG13:EK13) -> 2.25 | EP13: 0.75 | ER13: =SUM(EM13:EQ13) -> 0.75 | EX13: =SUM(ES13:EW13) -> 0 | FB13: 1 | FD13: =SUM(EY13:FC13) -> 1 | FG13: 10.062297 | FH13: 3 | FJ13: =SUM(FE13:FI13) -> 13.062297 | FP13: =SUM(FK13:FO13) -> 0 | FQ13: =SUM(EA13,EG13,EM13,ES13,EY13,FE13,FK13) -> 0 | FR13: =SUM(EB13,EH13,EN13,ET13,EZ13,FF13,FL13) -> 0 | FS13: =SUM(EC13,EI13,EO13,EU13,FA13,FG13,FM13) -> 51.292297 | FT13: =SUM(ED13,EJ13,EP13,EV13,FB13,FH13,FN13) -> 9 | FU13: =SUM(EE13,EK13,EQ13,EW13,FC13,FI13,FO13) -> 0 | FV13: =SUM(FQ13:FU13) -> 60.292297 | GB13: =SUM(FW13:GA13) -> 0 | GH13: =SUM(GC13:GG13) -> 0 | GN13: =SUM(GI13:GM13) -> 0 | GT13: =SUM(GO13:GS13) -> 0 | GZ13: =SUM(GU13:GY13) -> 0 | HF13: =SUM(HA13:HE13) -> 0 | HL13: =SUM(HG13:HK13) -> 0 | HR13: =SUM(HM13:HQ13) -> 0 | HS13: =SUM(FW13,GC13,GI13,GO13,GU13,HA13,HG13,HM13) -> 0 | HT13: =SUM(FX13,GD13,GJ13,GP13,GV13,HB13,HH13,HN13) -> 0 | HU13: =SUM(HO13,HI13,HC13,GW13,GQ13,GK13,GE13,FY13) -> 0 | HV13: =SUM(HP13,HJ13,HD13,GX13,GR13,GL13,GF13,FZ13) -> 0 | HW13: =SUM(HQ13,HK13,HE13,GY13,GS13,GM13,GG13,GA13) -> 0 | HX13: =SUM(HS13:HW13) -> 0 | ID13: =SUM(HY13:IC13) -> 0 | IJ13: =SUM(IE13:II13) -> 0 | IP13: =SUM(IK13:IO13) -> 0 | IQ13: =SUM(HY13,IE13,IK13) -> 0 | IR13: =SUM(HZ13,IF13,IL13) -> 0 | IS13: =SUM(IA13,IG13,IM13) -> 0 | IT13: =SUM(IB13,IH13,IN13) -> 0 | IU13: =SUM(IC13,II13,IO13) -> 0 | IV13: =SUM(IQ13:IU13) -> 0 | JB13: =SUM(IW13:JA13) -> 0 | JH13: =SUM(JC13:JG13) -> 0 | JN13: =SUM(JI13:JM13) -> 0 | JO13: =SUM(IW13,JC13,JI13) -> 0 | JP13: =SUM(IX13,JD13,JJ13) -> 0 | JQ13: =SUM(IY13,JE13,JK13) -> 0 | JR13: =SUM(IZ13,JF13,JL13) -> 0 | JS13: =SUM(JA13,JG13,JM13) -> 0 | JT13: =SUM(JO13:JS13) -> 0 | JV13: =SUM(N13,AL13,BK13,CK13,DT13,FQ13,HS13,IQ13,JO13) -> 0 | JW13: =SUM(O13,AM13,BL13,CL13,DU13,FR13,HT13,IR13,JP13) -> 0 | JX13: =SUM(P13,AN13,BM13,CM13,DV13,FS13,HU13,IS13,JQ13) -> 51.292297 | JY13: =SUM(Q13,AO13,BN13,CN13,DW13,FT13,HV13,IT13,JR13) -> 11 | JZ13: =SUM(R13,AP13,BO13,CO13,DX13,FU13,HW13,IU13,JS13) -> 0 | KA13: =SUM(BP13,CP13,DY13) -> 0 | KB13: =SUM(JV13:KA13) -> 62.292297
A14: IBL=Lodgepole Pine Beetle | G14: =SUM(B14:F14) -> 0 | M14: =SUM(H14:L14) -> 0 | N14: =SUM(B14,H14) -> 0 | O14: =SUM(C14,I14) -> 0 | P14: =SUM(D14,J14) -> 0 | Q14: =SUM(E14,K14) -> 0 | R14: =SUM(F14,L14) -> 0 | S14: =SUM(N14:R14) -> 0 | Y14: =SUM(T14:X14) -> 0 | AE14: =SUM(Z14:AD14) -> 0 | AK14: =SUM(AF14:AJ14) -> 0 | AL14: =SUM(T14,Z14,AF14) -> 0 | AM14: =SUM(U14,AA14,AG14) -> 0 | AN14: =SUM(V14,AB14,AH14) -> 0 | AO14: =SUM(W14,AC14,AI14) -> 0 | AP14: =SUM(X14,AD14,AJ14) -> 0 | AQ14: =SUM(AL14:AP14) -> 0 | AW14: =SUM(AR14:AV14) -> 0 | BD14: =SUM(AX14:BC14) -> 0 | BJ14: =SUM(BE14:BI14) -> 0 | BK14: =SUM(AR14,AX14,BE14) -> 0 | BL14: =SUM(AS14,AY14,BF14) -> 0 | BM14: =SUM(AT14,AZ14,BG14) -> 0 | BN14: =SUM(AU14,BA14,BH14) -> 0 | BO14: =SUM(AV14,BB14,BI14) -> 0 | BP14: =SUM(BC14) -> 0 | BQ14: =SUM(BK14:BP14) -> 0 | BW14: =SUM(BR14:BV14) -> 0 | CC14: =SUM(BX14:CB14) -> 0 | CJ14: =SUM(CD14:CI14) -> 0 | CK14: =SUM(BR14,BX14,CD14) -> 0 | CL14: =SUM(BS14,BY14,CE14) -> 0 | CM14: =SUM(BT14,BZ14,CF14) -> 0 | CN14: =SUM(BU14,CA14,CG14) -> 0 | CO14: =SUM(BV14,CB14,CH14) -> 0 | CP14: =SUM(CI14) -> 0 | CQ14: =SUM(CK14:CP14) -> 0 | CX14: =SUM(CR14:CW14) -> 0 | DE14: =SUM(CY14:DD14) -> 0 | DL14: =SUM(DF14:DK14) -> 0 | DS14: =SUM(DM14:DR14) -> 0 | DT14: =SUM(CR14,CY14,DF14,DM14) -> 0 | DU14: =SUM(CS14,CZ14,DG14,DN14) -> 0 | DV14: =SUM(CT14,DA14,DH14,DO14) -> 0 | DW14: =SUM(CU14,DB14,DI14,DP14) -> 0 | DX14: =SUM(CV14,DC14,DJ14,DQ14) -> 0 | DY14: =SUM(CW14,DD14,DK14,DR14) -> 0 | DZ14: =SUM(DT14:DY14) -> 0 | EF14: =SUM(EA14:EE14) -> 0 | EL14: =SUM(EG14:EK14) -> 0 | ER14: =SUM(EM14:EQ14) -> 0 | EX14: =SUM(ES14:EW14) -> 0 | FD14: =SUM(EY14:FC14) -> 0 | FJ14: =SUM(FE14:FI14) -> 0 | FP14: =SUM(FK14:FO14) -> 0 | FQ14: =SUM(EA14,EG14,EM14,ES14,EY14,FE14,FK14) -> 0 | FR14: =SUM(EB14,EH14,EN14,ET14,EZ14,FF14,FL14) -> 0 | FS14: =SUM(EC14,EI14,EO14,EU14,FA14,FG14,FM14) -> 0 | FT14: =SUM(ED14,EJ14,EP14,EV14,FB14,FH14,FN14) -> 0 | FU14: =SUM(EE14,EK14,EQ14,EW14,FC14,FI14,FO14) -> 0 | FV14: =SUM(FQ14:FU14) -> 0 | GB14: =SUM(FW14:GA14) -> 0 | GH14: =SUM(GC14:GG14) -> 0 | GN14: =SUM(GI14:GM14) -> 0 | GT14: =SUM(GO14:GS14) -> 0 | GZ14: =SUM(GU14:GY14) -> 0 | HF14: =SUM(HA14:HE14) -> 0 | HL14: =SUM(HG14:HK14) -> 0 | HR14: =SUM(HM14:HQ14) -> 0 | HS14: =SUM(FW14,GC14,GI14,GO14,GU14,HA14,HG14,HM14) -> 0 | HT14: =SUM(FX14,GD14,GJ14,GP14,GV14,HB14,HH14,HN14) -> 0 | HU14: =SUM(HO14,HI14,HC14,GW14,GQ14,GK14,GE14,FY14) -> 0 | HV14: =SUM(HP14,HJ14,HD14,GX14,GR14,GL14,GF14,FZ14) -> 0 | HW14: =SUM(HQ14,HK14,HE14,GY14,GS14,GM14,GG14,GA14) -> 0 | HX14: =SUM(HS14:HW14) -> 0 | ID14: =SUM(HY14:IC14) -> 0 | IJ14: =SUM(IE14:II14) -> 0 | IP14: =SUM(IK14:IO14) -> 0 | IQ14: =SUM(HY14,IE14,IK14) -> 0 | IR14: =SUM(HZ14,IF14,IL14) -> 0 | IS14: =SUM(IA14,IG14,IM14) -> 0 | IT14: =SUM(IB14,IH14,IN14) -> 0 | IU14: =SUM(IC14,II14,IO14) -> 0 | IV14: =SUM(IQ14:IU14) -> 0 | JB14: =SUM(IW14:JA14) -> 0 | JH14: =SUM(JC14:JG14) -> 0 | JN14: =SUM(JI14:JM14) -> 0 | JO14: =SUM(IW14,JC14,JI14) -> 0 | JP14: =SUM(IX14,JD14,JJ14) -> 0 | JQ14: =SUM(IY14,JE14,JK14) -> 0 | JR14: =SUM(IZ14,JF14,JL14) -> 0 | JS14: =SUM(JA14,JG14,JM14) -> 0 | JT14: =SUM(JO14:JS14) -> 0 | JV14: =SUM(N14,AL14,BK14,CK14,DT14,FQ14,HS14,IQ14,JO14) -> 0 | JW14: =SUM(O14,AM14,BL14,CL14,DU14,FR14,HT14,IR14,JP14) -> 0 | JX14: =SUM(P14,AN14,BM14,CM14,DV14,FS14,HU14,IS14,JQ14) -> 0 | JY14: =SUM(Q14,AO14,BN14,CN14,DW14,FT14,HV14,IT14,JR14) -> 0 | JZ14: =SUM(R14,AP14,BO14,CO14,DX14,FU14,HW14,IU14,JS14) -> 0 | KA14: =SUM(BP14,CP14,DY14) -> 0 | KB14: =SUM(JV14:KA14) -> 0
A15: IBT=Red Turpentine Beetle | G15: =SUM(B15:F15) -> 0 | M15: =SUM(H15:L15) -> 0 | N15: =SUM(B15,H15) -> 0 | O15: =SUM(C15,I15) -> 0 | P15: =SUM(D15,J15) -> 0 | Q15: =SUM(E15,K15) -> 0 | R15: =SUM(F15,L15) -> 0 | S15: =SUM(N15:R15) -> 0 | Y15: =SUM(T15:X15) -> 0 | AE15: =SUM(Z15:AD15) -> 0 | AK15: =SUM(AF15:AJ15) -> 0 | AL15: =SUM(T15,Z15,AF15) -> 0 | AM15: =SUM(U15,AA15,AG15) -> 0 | AN15: =SUM(V15,AB15,AH15) -> 0 | AO15: =SUM(W15,AC15,AI15) -> 0 | AP15: =SUM(X15,AD15,AJ15) -> 0 | AQ15: =SUM(AL15:AP15) -> 0 | AW15: =SUM(AR15:AV15) -> 0 | BD15: =SUM(AX15:BC15) -> 0 | BJ15: =SUM(BE15:BI15) -> 0 | BK15: =SUM(AR15,AX15,BE15) -> 0 | BL15: =SUM(AS15,AY15,BF15) -> 0 | BM15: =SUM(AT15,AZ15,BG15) -> 0 | BN15: =SUM(AU15,BA15,BH15) -> 0 | BO15: =SUM(AV15,BB15,BI15) -> 0 | BP15: =SUM(BC15) -> 0 | BQ15: =SUM(BK15:BP15) -> 0 | BW15: =SUM(BR15:BV15) -> 0 | CC15: =SUM(BX15:CB15) -> 0 | CJ15: =SUM(CD15:CI15) -> 0 | CK15: =SUM(BR15,BX15,CD15) -> 0 | CL15: =SUM(BS15,BY15,CE15) -> 0 | CM15: =SUM(BT15,BZ15,CF15) -> 0 | CN15: =SUM(BU15,CA15,CG15) -> 0 | CO15: =SUM(BV15,CB15,CH15) -> 0 | CP15: =SUM(CI15) -> 0 | CQ15: =SUM(CK15:CP15) -> 0 | CX15: =SUM(CR15:CW15) -> 0 | DE15: =SUM(CY15:DD15) -> 0 | DL15: =SUM(DF15:DK15) -> 0 | DS15: =SUM(DM15:DR15) -> 0 | DT15: =SUM(CR15,CY15,DF15,DM15) -> 0 | DU15: =SUM(CS15,CZ15,DG15,DN15) -> 0 | DV15: =SUM(CT15,DA15,DH15,DO15) -> 0 | DW15: =SUM(CU15,DB15,DI15,DP15) -> 0 | DX15: =SUM(CV15,DC15,DJ15,DQ15) -> 0 | DY15: =SUM(CW15,DD15,DK15,DR15) -> 0 | DZ15: =SUM(DT15:DY15) -> 0 | EF15: =SUM(EA15:EE15) -> 0 | EL15: =SUM(EG15:EK15) -> 0 | ER15: =SUM(EM15:EQ15) -> 0 | EX15: =SUM(ES15:EW15) -> 0 | FD15: =SUM(EY15:FC15) -> 0 | FJ15: =SUM(FE15:FI15) -> 0 | FP15: =SUM(FK15:FO15) -> 0 | FQ15: =SUM(EA15,EG15,EM15,ES15,EY15,FE15,FK15) -> 0 | FR15: =SUM(EB15,EH15,EN15,ET15,EZ15,FF15,FL15) -> 0 | FS15: =SUM(EC15,EI15,EO15,EU15,FA15,FG15,FM15) -> 0 | FT15: =SUM(ED15,EJ15,EP15,EV15,FB15,FH15,FN15) -> 0 | FU15: =SUM(EE15,EK15,EQ15,EW15,FC15,FI15,FO15) -> 0 | FV15: =SUM(FQ15:FU15) -> 0 | GB15: =SUM(FW15:GA15) -> 0 | GH15: =SUM(GC15:GG15) -> 0 | GN15: =SUM(GI15:GM15) -> 0 | GT15: =SUM(GO15:GS15) -> 0 | GZ15: =SUM(GU15:GY15) -> 0 | HF15: =SUM(HA15:HE15) -> 0 | HL15: =SUM(HG15:HK15) -> 0 | HR15: =SUM(HM15:HQ15) -> 0 | HS15: =SUM(FW15,GC15,GI15,GO15,GU15,HA15,HG15,HM15) -> 0 | HT15: =SUM(FX15,GD15,GJ15,GP15,GV15,HB15,HH15,HN15) -> 0 | HU15: =SUM(HO15,HI15,HC15,GW15,GQ15,GK15,GE15,FY15) -> 0 | HV15: =SUM(HP15,HJ15,HD15,GX15,GR15,GL15,GF15,FZ15) -> 0 | HW15: =SUM(HQ15,HK15,HE15,GY15,GS15,GM15,GG15,GA15) -> 0 | HX15: =SUM(HS15:HW15) -> 0 | ID15: =SUM(HY15:IC15) -> 0 | IJ15: =SUM(IE15:II15) -> 0 | IP15: =SUM(IK15:IO15) -> 0 | IQ15: =SUM(HY15,IE15,IK15) -> 0 | IR15: =SUM(HZ15,IF15,IL15) -> 0 | IS15: =SUM(IA15,IG15,IM15) -> 0 | IT15: =SUM(IB15,IH15,IN15) -> 0 | IU15: =SUM(IC15,II15,IO15) -> 0 | IV15: =SUM(IQ15:IU15) -> 0 | JB15: =SUM(IW15:JA15) -> 0 | JH15: =SUM(JC15:JG15) -> 0 | JN15: =SUM(JI15:JM15) -> 0 | JO15: =SUM(IW15,JC15,JI15) -> 0 | JP15: =SUM(IX15,JD15,JJ15) -> 0 | JQ15: =SUM(IY15,JE15,JK15) -> 0 | JR15: =SUM(IZ15,JF15,JL15) -> 0 | JS15: =SUM(JA15,JG15,JM15) -> 0 | JT15: =SUM(JO15:JS15) -> 0 | JV15: =SUM(N15,AL15,BK15,CK15,DT15,FQ15,HS15,IQ15,JO15) -> 0 | JW15: =SUM(O15,AM15,BL15,CL15,DU15,FR15,HT15,IR15,JP15) -> 0 | JX15: =SUM(P15,AN15,BM15,CM15,DV15,FS15,HU15,IS15,JQ15) -> 0 | JY15: =SUM(Q15,AO15,BN15,CN15,DW15,FT15,HV15,IT15,JR15) -> 0 | JZ15: =SUM(R15,AP15,BO15,CO15,DX15,FU15,HW15,IU15,JS15) -> 0 | KA15: =SUM(BP15,CP15,DY15) -> 0 | KB15: =SUM(JV15:KA15) -> 0
