Workbook
Name fhdata_Query: #REF!
Name PARKS_Query: #REF!
Name sum_data: #REF!

Sheet Annual Report
A1: 2019 Aerial Overview Summary for British Columbia
B2: Great Bear Rainforest | C2: Regions | K2: Provincial
C3: South Coast | D3: West Coast | E3: Cariboo | F3: Thompson/ Okanagan | G3: Kootenay/ Boundary | H3: Skeena | I3: Omineca | J3: Northeast | K3: Total
A5: Bark Beetles
A6: IBM=Mountain Pine Beetle | B6: =Master!S6 -> 8580.6054 | C6: =Master!AQ6 -> 871.05763 | D6: =Master!BQ6 -> 50.926264 | E6: =Master!CQ6 -> 41964.474 | F6: =Master!DZ6 -> 6852.4565 | G6: =Master!FV6 -> 14092.521 | H6: =Master!HX6 -> 3202.0865 | I6: =Master!IV6 -> 86657.273 | J6: =Master!JT6 -> 15172.698 | K6: =SUM(B6:J6) -> 177444.1
A7: IBS=Spruce Beetle | B7: =Master!S7 -> 788.63315 | C7: =Master!AQ7 -> 4877.9668 | D7: =Master!BQ7 -> 45.113244 | E7: =Master!CQ7 -> 10619.802 | F7: =Master!DZ7 -> 8256.4214 | G7: =Master!FV7 -> 11555.536 | H7: =Master!HX7 -> 6085.9791 | I7: =Master!IV7 -> 354850.75 | J7: =Master!JT7 -> 118366.77 | K7: =SUM(B7:J7) -> 515446.97
A8: IBB=Western Balsam Bark Beetle | B8: =Master!S8 -> 71717.334 | C8: =Master!AQ8 -> 37531.791 | D8: =Master!BQ8 -> 293.72605 | E8: =Master!CQ8 -> 130101.39 | F8: =Master!DZ8 -> 123046.19 | G8: =Master!FV8 -> 58283.329 | H8: =Master!HX8 -> 799275.15 | I8: =Master!IV8 -> 1732725.9 | J8: =Master!JT8 -> 294160.41 | K8: =SUM(B8:J8) -> 3247135.2
A9: IBD=Douglas-fir Beetle | B9: =Master!S9 -> 27.890172 | C9: =Master!AQ9 -> 2967.133 | D9: =Master!BQ9 -> 5713.6666 | E9: =Master!CQ9 -> 69797.69 | F9: =Master!DZ9 -> 6619.4451 | G9: =Master!FV9 -> 7083.8364 | H9: =Master!HX9 -> 420.38069 | I9: =Master!IV9 -> 5334.2635 | J9: =Master!JT9 -> 0 | K9: =SUM(B9:J9) -> 97964.305
A10: IBF=Fir engraver beetle | B10: =Master!S10 -> 0 | C10: =Master!AQ10 -> 0 | D10: =Master!BQ10 -> 0 | E10: =Master!CQ10 -> 0 | F10: =Master!DZ10 -> 0 | G10: =Master!FV10 -> 0 | H10: =Master!HX10 -> 0 | I10: =Master!IV10 -> 0 | J10: =Master!JT10 -> 0 | K10: =SUM(B10:J10) -> 0
A11: IBP=Twig beetle | B11: =Master!S11 -> 0 | C11: =Master!AQ11 -> 0 | D11: =Master!BQ11 -> 0 | E11: =Master!CQ11 -> 0 | F11: =Master!DZ11 -> 0 | G11: =Master!FV11 -> 0 | H11: =Master!HX11 -> 0 | I11: =Master!IV11 -> 0 | J11: =Master!JT11 -> 0 | K11: =SUM(B11:J11) -> 0
A12: IBI=Engraver Beetle (Ips species) | B12: =Master!S12 -> 0 | C12: =Master!AQ12 -> 0 | D12: =Master!BQ12 -> 0 | E12: =Master!CQ12 -> 0 | F12: =Master!DZ12 -> 0 | G12: =Master!FV12 -> 0 | H12: =Master!HX12 -> 0 | I12: =Master!IV12 -> 0 | J12: =Master!JT12 -> 0 | K12: =SUM(B12:J12) -> 0
A13: IBW=Western Pine Beetle | B13: =Master!S13 -> 0 | C13: =Master!AQ13 -> 0 | D13: =Master!BQ13 -> 0 | E13: =Master!CQ13 -> 0 | F13: =Master!DZ13 -> 2 | G13: =Master!FV13 -> 60.292297 | H13: =Master!HX13 -> 0 | I13: =Master!IV13 -> 0 | J13: =Master!JT13 -> 0 | K13: =SUM(B13:J13) -> 62.292297
A14: IBL=Lodgepole Pine Beetle | B14: =Master!S14 -> 0 | C14: =Master!AQ14 -> 0 | D14: =Master!BQ14 -> 0 | E14: =Master!CQ14 -> 0 | F14: =Master!DZ14 -> 0 | G14: =Master!FV14 -> 0 | H14: =Master!HX14 -> 0 | I14: =Master!IV14 -> 0 | J14: =Master!JT14 -> 0 | K14: =SUM(B14:J14) -> 0
A15: IBT=Red Turpentine Beetle | B15: =Master!S15 -> 0 | C15: =Master!AQ15 -> 0 | D15: =Master!BQ15 -> 0 | E15: =Master!CQ15 -> 0 | F15: =Master!DZ15 -> 0 | G15: =Master!FV15 -> 0 | H15: =Master!HX15 -> 0 | I15: =Master!IV15 -> 0 | J15: =Master!JT15 -> 0 | K15: =SUM(B15:J15) -> 0
A16: IB=Unknown Bark Beetle Mortality | B16: =Master!S16 -> 0 | C16: =Master!AQ16 -> 0 | D16: =Master!BQ16 -> 0 | E16: =Master!CQ16 -> 0 | F16: =Master!DZ16 -> 0 | G16: =Master!FV16 -> 0 | H16: =Master!HX16 -> 0 | I16: =Master!IV16 -> 0 | J16: =Master!JT16 -> 54.119169 | K16: =SUM(B16:J16) -> 54.119169
A17: IWW=Warrens Root Collar Weevil | B17: =Master!S17 -> 0 | C17: =Master!AQ17 -> 0 | D17: =Master!BQ17 -> 0 | E17: =Master!CQ17 -> 0 | F17: =Master!DZ17 -> 0 | G17: =Master!FV17 -> 0 | H17: =Master!HX17 -> 0 | I17: =Master!IV17 -> 0 | J17: =Master!JT17 -> 0 | K17: =SUM(B17:J17) -> 0
A18: Total All BB= | B18: =Master!S18 -> 81114.463 | C18: =Master!AQ18 -> 46247.948 | D18: =Master!BQ18 -> 6103.4322 | E18: =Master!CQ18 -> 252483.36 | F18: =Master!DZ18 -> 144776.51 | G18: =Master!FV18 -> 91075.515 | H18: =Master!HX18 -> 808983.6 | I18: =Master!IV18 -> 2179568.1 | J18: =Master!JT18 -> 427754 | K18: =SUM(B18:J18) -> 4038107
A20: Defoliators
A21: ID=Defoliators | B21: =Master!S21 -> 14.472746 | C21: =Master!AQ21 -> 51.621405 | D21: =Master!BQ21 -> 313.34627 | E21: =Master!CQ21 -> 740.89488 | F21: =Master!DZ21 -> 0 | G21: =Master!FV21 -> 0 | H21: =Master!HX21 -> 89.085815 | I21: =Master!IV21 -> 0 | J21: =Master!JT21 -> 363.56271 | K21: =SUM(B21:J21) -> 1572.9838
A22: IAB=Balsam Woolly Adelgid | B22: =Master!S22 -> 247.25666 | C22: =Master!AQ22 -> 131.03939 | D22: =Master!BQ22 -> 1351.4186 | E22: =Master!CQ22 -> 0 | F22: =Master!DZ22 -> 66.022326 | G22: =Master!FV22 -> 0 | H22: =Master!HX22 -> 0 | I22: =Master!IV22 -> 0 | J22: =Master!JT22 -> 0 | K22: =SUM(B22:J22) -> 1795.737
A23: IAS=Green Spruce Aphid | B23: =Master!S23 -> 0 | C23: =Master!AQ23 -> 0 | D23: =Master!BQ23 -> 0 | E23: =Master!CQ23 -> 0 | F23: =Master!DZ23 -> 0 | G23: =Master!FV23 -> 0 | H23: =Master!HX23 -> 0 | I23: =Master!IV23 -> 0 | J23: =Master!JT23 -> 0 | K23: =SUM(B23:J23) -> 0
A24: ID1=Leaf Beetles | B24: =Master!S24 -> 0 | C24: =Master!AQ24 -> 899.65911 | D24: =Master!BQ24 -> 164.75639 | E24: =Master!CQ24 -> 0 | F24: =Master!DZ24 -> 0 | G24: =Master!FV24 -> 0 | H24: =Master!HX24 -> 0 | I24: =Master!IV24 -> 0 | J24: =Master!JT24 -> 0 | K24: =SUM(B24:J24) -> 1064.4155
A25: ID2=Bruce spanworm | B25: =Master!S25 -> 0 | C25: =Master!AQ25 -> 0 | D25: =Master!BQ25 -> 0 | E25: =Master!CQ25 -> 0 | F25: =Master!DZ25 -> 0 | G25: =Master!FV25 -> 0 | H25: =Master!HX25 -> 0 | I25: =Master!IV25 -> 0 | J25: =Master!JT25 -> 750.80493 | K25: =SUM(B25:J25) -> 750.80493
A26: ID6=Aspen Leaf Miner | B26: =Master!S26 -> 1275.407 | C26: =Master!AQ26 -> 0 | D26: =Master!BQ26 -> 0 | E26: =Master!CQ26 -> 259843.24 | F26: =Master!DZ26 -> 34250.334 | G26: =Master!FV26 -> 25936.299 | H26: =Master!HX26 -> 379540.89 | I26: =Master!IV26 -> 580520.85 | J26: =Master!JT26 -> 45536.034 | K26: =SUM(B26:J26) -> 1326903.1
A27: IDA=Black Army Cutworm | B27: =Master!S27 -> 0 | C27: =Master!AQ27 -> 0 | D27: =Master!BQ27 -> 0 | E27: =Master!CQ27 -> 0 | F27: =Master!DZ27 -> 0 | G27: =Master!FV27 -> 0 | H27: =Master!HX27 -> 0 | I27: =Master!IV27 -> 0 | J27: =Master!JT27 -> 0 | K27: =SUM(B27:J27) -> 0
A28: IDB=2-Year Budworm | B28: =Master!S28 -> 0 | C28: =Master!AQ28 -> 0 | D28: =Master!BQ28 -> 0 | E28: =Master!CQ28 -> 2549.4078 | F28: =Master!DZ28 -> 921.55957 | G28: =Master!FV28 -> 0 | H28: =Master!HX28 -> 27526.776 | I28: =Master!IV28 -> 99207.458 | J28: =Master!JT28 -> 0 | K28: =SUM(B28:J28) -> 130205.2
A29: IDC=Larch casebearer | B29: =Master!S29 -> 0 | C29: =Master!AQ29 -> 0 | D29: =Master!BQ29 -> 0 | E29: =Master!CQ29 -> 0 | F29: =Master!DZ29 -> 0 | G29: =Master!FV29 -> 0 | H29: =Master!HX29 -> 0 | I29: =Master!IV29 -> 0 | J29: =Master!JT29 -> 0 | K29: =SUM(B29:J29) -> 0
A30: IDD=Western Winter Moth | B30: =Master!S30 -> 0 | C30: =Master!AQ30 -> 0 | D30: =Master!BQ30 -> 0 | E30: =Master!CQ30 -> 0 | F30: =Master!DZ30 -> 0 | G30: =Master!FV30 -> 0 | H30: =Master!HX30 -> 0 | I30: =Master!IV30 -> 0 | J30: =Master!JT30 -> 0 | K30: =SUM(B30:J30) -> 0
A31: IDE=Eastern Spruce Budworm | B31: =Master!S31 -> 0 | C31: =Master!AQ31 -> 0 | D31: =Master!BQ31 -> 0 | E31: =Master!CQ31 -> 0 | F31: =Master!DZ31 -> 0 | G31: =Master!FV31 -> 0 | H31: =Master!HX31 -> 12.472706 | I31: =Master!IV31 -> 0 | J31: =Master!JT31 -> 3872.9782 | K31: =SUM(B31:J31) -> 3885.4509
A32: IDF=Forest Tent Caterpillar | B32: =Master!S32 -> 0 | C32: =Master!AQ32 -> 0 | D32: =Master!BQ32 -> 0 | E32: =Master!CQ32 -> 0 | F32: =Master!DZ32 -> 0 | G32: =Master!FV32 -> 0 | H32: =Master!HX32 -> 0 | I32: =Master!IV32 -> 0 | J32: =Master!JT32 -> 0 | K32: =SUM(B32:J32) -> 0
... A49: Total Defoliators= | B49: =Master!S49 -> 1537.1364 | C49: =Master!AQ49 -> 3265.9684 | D49: =Master!BQ49 -> 2402.3442 | E49: =Master!CQ49 -> 281491.56 | F49: =Master!DZ49 -> 45899.878 | G49: =Master!FV49 -> 28713.628 | H49: =Master!HX49 -> 407492.97 | I49: =Master!IV49 -> 763071.84 | J49: =Master!JT49 -> 57795.36 | K49: =SUM(B49:J49) -> 1591670.7
A51: Other
A52: N | B52: =Master!S52 -> 0 | C52: =Master!AQ52 -> 0 | D52: =Master!BQ52 -> 1.5 | E52: =Master!CQ52 -> 0 | F52: =Master!DZ52 -> 0 | G52: =Master!FV52 -> 0 | H52: =Master!HX52 -> 0 | I52: =Master!IV52 -> 0 | J52: =Master!JT52 -> 0 | K52: =SUM(B52:J52) -> 1.5
A53: NAV=Avalanche or snow slide | B53: =Master!S53 -> 0 | C53: =Master!AQ53 -> 0 | D53: =Master!BQ53 -> 0 | E53: =Master!CQ53 -> 0 | F53: =Master!DZ53 -> 6.9112096 | G53: =Master!FV53 -> 0 | H53: =Master!HX53 -> 0 | I53: =Master!IV53 -> 0 | J53: =Master!JT53 -> 0 | K53: =SUM(B53:J53) -> 6.9112096
A54: NB=Fire | B54: =Master!S54 -> 50.917924 | C54: =Master!AQ54 -> 212.83743 | D54: =Master!BQ54 -> 69.313237 | E54: =Master!CQ54 -> 217.81666 | F54: =Master!DZ54 -> 4130.5673 | G54: =Master!FV54 -> 162.66747 | H54: =Master!HX54 -> 9440.5985 | I54: =Master!IV54 -> 472.91801 | J54: =Master!JT54 -> 7294.8649 | K54: =SUM(B54:J54) -> 22052.501
A55: NBP=Post Fire | B55: =Master!S55 -> 5323.047 | C55: =Master!AQ55 -> 355.97266 | D55: =Master!BQ55 -> 0 | E55: =Master!CQ55 -> 66661.047 | F55: =Master!DZ55 -> 1467.5661 | G55: =Master!FV55 -> 5661.0696 | H55: =Master!HX55 -> 15245.945 | I55: =Master!IV55 -> 10232.426 | J55: =Master!JT55 -> 1925.8235 | K55: =SUM(B55:J55) -> 106872.9
A56: NCA=Aspen decline | B56: =Master!S56 -> 0 | C56: =Master!AQ56 -> 0 | D56: =Master!BQ56 -> 0 | E56: =Master!CQ56 -> 226.53824 | F56: =Master!DZ56 -> 421.33003 | G56: =Master!FV56 -> 20.771669 | H56: =Master!HX56 -> 0 | I56: =Master!IV56 -> 6.095299 | J56: =Master!JT56 -> 11185.48 | K56: =SUM(B56:J56) -> 11860.216
A57: NCB=Birch decline | B57: =Master!S57 -> 0 | C57: =Master!AQ57 -> 0 | D57: =Master!BQ57 -> 0 | E57: =Master!CQ57 -> 0 | F57: =Master!DZ57 -> 0 | G57: =Master!FV57 -> 0 | H57: =Master!HX57 -> 0 | I57: =Master!IV57 -> 0 | J57: =Master!JT57 -> 0 | K57: =SUM(B57:J57) -> 0
A58: NCF=Douglas-fir decline | B58: =Master!S58 -> 0 | C58: =Master!AQ58 -> 0 | D58: =Master!BQ58 -> 0 | E58: =Master!CQ58 -> 0 | F58: =Master!DZ58 -> 0 | G58: =Master!FV58 -> 0 | H58: =Master!HX58 -> 0 | I58: =Master!IV58 -> 0 | J58: =Master!JT58 -> 0 | K58: =SUM(B58:J58) -> 0
A59: NCY=Yellow cedar decline | B59: =Master!S59 -> 18469.147 | C59: =Master!AQ59 -> 0 | D59: =Master!BQ59 -> 4626.3773 | E59: =Master!CQ59 -> 0 | F59: =Master!DZ59 -> 0 | G59: =Master!FV59 -> 0 | H59: =Master!HX59 -> 353.52346 | I59: =Master!IV59 -> 0 | J59: =Master!JT59 -> 0 | K59: =SUM(B59:J59) -> 23449.048
A60: NDM=Drought Mortality | B60: =Master!S60 -> 218.30755 | C60: =Master!AQ60 -> 2937.2388 | D60: =Master!BQ60 -> 3855.7058 | E60: =Master!CQ60 -> 1109.1728 | F60: =Master!DZ60 -> 822.27774 | G60: =Master!FV60 -> 6951.7338 | H60: =Master!HX60 -> 3442.1205 | I60: =Master!IV60 -> 617.93887 | J60: =Master!JT60 -> 23.13109 | K60: =SUM(B60:J60) -> 19977.627
A61: NDF=Drought Foliage | B61: =Master!S61 -> 0 | C61: =Master!AQ61 -> 0 | D61: =Master!BQ61 -> 0 | E61: =Master!CQ61 -> 0 | F61: =Master!DZ61 -> 2831.1597 | G61: =Master!FV61 -> 0 | H61: =Master!HX61 -> 0 | I61: =Master!IV61 -> 11.419472 | J61: =Master!JT61 -> 38.682632 | K61: =SUM(B61:J61) -> 2881.2619
A62: NE=Cedar Flagging | B62: =Master!S62 -> 0 | C62: =Master!AQ62 -> 0 | D62: =Master!BQ62 -> 0 | E62: =Master!CQ62 -> 43096.113 | F62: =Master!DZ62 -> 21605.483 | G62: =Master!FV62 -> 13341.848 | H62: =Master!HX62 -> 0 | I62: =Master!IV62 -> 37537.43 | J62: =Master!JT62 -> 0 | K62: =SUM(B62:J62) -> 115580.87
A63: NF=Flooding | B63: =Master!S63 -> 41.501699 | C63: =Master!AQ63 -> 130.39789 | D63: =Master!BQ63 -> 113.23104 | E63: =Master!CQ63 -> 843.07555 | F63: =Master!DZ63 -> 58.936189 | G63: =Master!FV63 -> 68.73524 | H63: =Master!HX63 -> 196.30116 | I63: =Master!IV63 -> 251.22467 | J63: =Master!JT63 -> 10074.75 | K63: =SUM(B63:J63) -> 11778.153
... A73: TM=Treatment Mechanical | B73: =Master!S73 -> 0 | C73: =Master!AQ73 -> 0 | D73: =Master!BQ73 -> 0 | E73: =Master!CQ73 -> 0 | F73: =Master!DZ73 -> 0 | G73: =Master!FV73 -> 0 | H73: =Master!HX73 -> 44.794386 | I73: =Master!IV73 -> 0 | J73: =Master!JT73 -> 0 | K73: =SUM(B73:J73) -> 44.794386
A74: Total Abiotics= | B74: =Master!S74 -> 24488.605 | C74: =Master!AQ74 -> 3677.5162 | D74: =Master!BQ74 -> 12689.965 | E74: =Master!CQ74 -> 112153.76 | F74: =Master!DZ74 -> 31578.794 | G74: =Master!FV74 -> 26495.124 | H74: =Master!HX74 -> 28774.248 | I74: =Master!IV74 -> 49168.566 | J74: =Master!JT74 -> 40463.554 | K74: =SUM(K52:K73) -> 329534.93
A76: Diseases
A77: DF=Diseases | B77: =Master!S77 -> 0 | C77: =Master!AQ77 -> 0 | D77: =Master!BQ77 -> 0 | E77: =Master!CQ77 -> 0 | F77: =Master!DZ77 -> 0 | G77: =Master!FV77 -> 30.94 | H77: =Master!HX77 -> 0 | I77: =Master!IV77 -> 0 | J77: =Master!JT77 -> 0 | K77: =SUM(B77:J77) -> 30.94
A78: DFB=Delphinella needle cast | B78: =Master!S78 -> 0 | C78: =Master!AQ78 -> 0 | D78: =Master!BQ78 -> 0 | E78: =Master!CQ78 -> 0 | F78: =Master!DZ78 -> 0 | G78: =Master!FV78 -> 0 | H78: =Master!HX78 -> 0 | I78: =Master!IV78 -> 0 | J78: =Master!JT78 -> 0 | K78: =SUM(B78:J78) -> 0
A79: DFC=Large-spored Spruce-labrador Tea Rust | B79: =Master!S79 -> 0 | C79: =Master!AQ79 -> 0 | D79: =Master!BQ79 -> 0 | E79: =Master!CQ79 -> 0 | F79: =Master!DZ79 -> 0 | G79: =Master!FV79 -> 0 | H79: =Master!HX79 -> 0 | I79: =Master!IV79 -> 0 | J79: =Master!JT79 -> 4135.6846 | K79: =SUM(B79:J79) -> 4135.6846
A80: DFE=Elytroderma Needle Cast | B80: =Master!S80 -> 0 | C80: =Master!AQ80 -> 0 | D80: =Master!BQ80 -> 0 | E80: =Master!CQ80 -> 0 | F80: =Master!DZ80 -> 0 | G80: =Master!FV80 -> 0 | H80: =Master!HX80 -> 0 | I80: =Master!IV80 -> 0 | J80: =Master!JT80 -> 0 | K80: =SUM(B80:J80) -> 0
A81: DFG=Cottonwood Leaf Rust | B81: =Master!S81 -> 0 | C81: =Master!AQ81 -> 0 | D81: =Master!BQ81 -> 0 | E81: =Master!CQ81 -> 0 | F81: =Master!DZ81 -> 138.85406 | G81: =Master!FV81 -> 0 | H81: =Master!HX81 -> 0 | I81: =Master!IV81 -> 0 | J81: =Master!JT81 -> 0 | K81: =SUM(B81:J81) -> 138.85406
A82: DFH=Larch Needle Blight | B82: =Master!S82 -> 0 | C82: =Master!AQ82 -> 0 | D82: =Master!BQ82 -> 0 | E82: =Master!CQ82 -> 0 | F82: =Master!DZ82 -> 0 | G82: =Master!FV82 -> 2121.9666 | H82: =Master!HX82 -> 0 | I82: =Master!IV82 -> 0 | J82: =Master!JT82 -> 0 | K82: =SUM(B82:J82) -> 2121.9666
A83: DFK=Septoria Leaf Spot | B83: =Master!S83 -> 0 | C83: =Master!AQ83 -> 0 | D83: =Master!BQ83 -> 0 | E83: =Master!CQ83 -> 0 | F83: =Master!DZ83 -> 0 | G83: =Master!FV83 -> 0 | H83: =Master!HX83 -> 0 | I83: =Master!IV83 -> 0 | J83: =Master!JT83 -> 0 | K83: =SUM(B83:J83) -> 0
A84: DFL=Lophodermella Needle Cast | B84: =Master!S84 -> 0 | C84: =Master!AQ84 -> 0 | D84: =Master!BQ84 -> 0 | E84: =Master!CQ84 -> 0 | F84: =Master!DZ84 -> 0 | G84: =Master!FV84 -> 0 | H84: =Master!HX84 -> 0 | I84: =Master!IV84 -> 0 | J84: =Master!JT84 -> 0 | K84: =SUM(B84:J84) -> 0
A85: DFM=Larch Needle Cast | B85: =Master!S85 -> 0 | C85: =Master!AQ85 -> 0 | D85: =Master!BQ85 -> 0 | E85: =Master!CQ85 -> 0 | F85: =Master!DZ85 -> 0 | G85: =Master!FV85 -> 0 | H85: =Master!HX85 -> 0 | I85: =Master!IV85 -> 0 | J85: =Master!JT85 -> 0 | K85: =SUM(B85:J85) -> 0
A86: DFO=Lophodermium Needle Cast | B86: =Master!S86 -> 0 | C86: =Master!AQ86 -> 0 | D86: =Master!BQ86 -> 0 | E86: =Master!CQ86 -> 0 | F86: =Master!DZ86 -> 0 | G86: =Master!FV86 -> 0 | H86: =Master!HX86 -> 0 | I86: =Master!IV86 -> 0 | J86: =Master!JT86 -> 0 | K86: =SUM(B86:J86) -> 0
A87: DFR-Douglas-fir Needle Cast | B87: =Master!S87 -> 0 | C87: =Master!AQ87 -> 0 | D87: =Master!BQ87 -> 0 | E87: =Master!CQ87 -> 0 | F87: =Master!DZ87 -> 0 | G87: =Master!FV87 -> 0 | H87: =Master!HX87 -> 0 | I87: =Master!IV87 -> 0 | J87: =Master!JT87 -> 0 | K87: =SUM(B87:J87) -> 0
A88: DFS=Dothistroma Needle Blight | B88: =Master!S88 -> 0 | C88: =Master!AQ88 -> 0 | D88: =Master!BQ88 -> 0 | E88: =Master!CQ88 -> 0 | F88: =Master!DZ88 -> 189.87513 | G88: =Master!FV88 -> 156.13432 | H88: =Master!HX88 -> 0 | I88: =Master!IV88 -> 0 | J88: =Master!JT88 -> 0 | K88: =SUM(B88:J88) -> 346.00945
... A102: Total Diseases= | B102: =Master!S102 -> 2364.3352 | C102: =Master!AQ102 -> 4534.9673 | D102: =Master!BQ102 -> 849.10669 | E102: =Master!CQ102 -> 0.5 | F102: =Master!DZ102 -> 1100.5631 | G102: =Master!FV102 -> 2309.0409 | H102: =Master!HX102 -> 11304.487 | I102: =Master!IV102 -> 0 | J102: =Master!JT102 -> 4252.5672 | K102: =SUM(B102:J102) -> 26715.567
A104: Animals
A105: A=Animals | B105: =Master!S105 -> 0 | C105: =Master!AQ105 -> 0 | D105: =Master!BQ105 -> 0 | E105: =Master!CQ105 -> 0 | F105: =Master!DZ105 -> 0 | G105: =Master!FV105 -> 0 | H105: =Master!HX105 -> 320.80596 | I105: =Master!IV105 -> 98.105036 | J105: =Master!JT105 -> 0 | K105: =SUM(B105:J105) -> 418.911
A106: AB=Bear | B106: =Master!S106 -> 0 | C106: =Master!AQ106 -> 20.295741 | D106: =Master!BQ106 -> 0 | E106: =Master!CQ106 -> 2.75 | F106: =Master!DZ106 -> 73.177321 | G106: =Master!FV106 -> 832.42152 | H106: =Master!HX106 -> 120.6477 | I106: =Master!IV106 -> 15.876707 | J106: =Master!JT106 -> 580.71612 | K106: =SUM(B106:J106) -> 1645.8851
A107: AD=Deer | B107: =Master!S107 -> 0 | C107: =Master!AQ107 -> 0 | D107: =Master!BQ107 -> 0 | E107: =Master!CQ107 -> 0 | F107: =Master!DZ107 -> 0 | G107: =Master!FV107 -> 0 | H107: =Master!HX107 -> 0 | I107: =Master!IV107 -> 0 | J107: =Master!JT107 -> 0 | K107: =SUM(B107:J107) -> 0
A108: AH=Hare | B108: =Master!S108 -> 0 | C108: =Master!AQ108 -> 0 | D108: =Master!BQ108 -> 0 | E108: =Master!CQ108 -> 0 | F108: =Master!DZ108 -> 0 | G108: =Master!FV108 -> 0 | H108: =Master!HX108 -> 0 | I108: =Master!IV108 -> 0 | J108: =Master!JT108 -> 0 | K108: =SUM(B108:J108) -> 0
A109: AP=Porcupine | B109: =Master!S109 -> 0 | C109: =Master!AQ109 -> 0 | D109: =Master!BQ109 -> 0 | E109: =Master!CQ109 -> 0 | F109: =Master!DZ109 -> 0 | G109: =Master!FV109 -> 0 | H109: =Master!HX109 -> 0 | I109: =Master!IV109 -> 0 | J109: =Master!JT109 -> 15.609345 | K109: =SUM(B109:J109) -> 15.609345
A110: Total Animals= | B110: =Master!S110 -> 0 | C110: =Master!AQ110 -> 20.295741 | D110: =Master!BQ110 -> 0 | E110: =Master!CQ110 -> 2.75 | F110: =Master!DZ110 -> 73.177321 | G110: =Master!FV110 -> 832.42152 | H110: =Master!HX110 -> 441.45366 | I110: =Master!IV110 -> 113.98174 | J110: =Master!JT110 -> 596.32547 | K110: =SUM(B110:J110) -> 2080.4055
A112: Total Other= | B112: =Master!S112 -> 26852.94 | C112: =Master!AQ112 -> 8232.7792 | D112: =Master!BQ112 -> 13539.071 | E112: =Master!CQ112 -> 112157.01 | F112: =Master!DZ112 -> 32752.535 | G112: =Master!FV112 -> 29636.587 | H112: =Master!HX112 -> 40520.188 | I112: =Master!IV112 -> 49282.548 | J112: =Master!JT112 -> 45312.447 | K112: =SUM(B112:J112) -> 358286.11
A114: Total = | B114: =Master!S114 -> 109504.54 | C114: =Master!AQ114 -> 57746.696 | D114: =Master!BQ114 -> 22044.848 | E114: =Master!CQ114 -> 646131.93 | F114: =Master!DZ114 -> 223428.93 | G114: =Master!FV114 -> 149425.73 | H114: =Master!HX114 -> 1256996.8 | I114: =Master!IV114 -> 2991922.5 | J114: =Master!JT114 -> 530861.8 | K114: =Master!$KB$114 -> 5988108.6

Sheet Master
A1: 2019 Aerial Overview Summary for British Columbia by TSA's
T2: South Coast Forest Region | AR2: West Coast Forest Region | BR2: Cariboo Forest Region | CR2: Thompson Okanagan Forest Region | EA2: Kootenay/Boundary Forest Region | FW2: Skeena Forest Region | HY2: Omineca Forest Region | IW2: Northeast Forest Region
A3: TSA's | B3: Great Bear Rainforest North TSA (TGBN) | H3: Great Bear Rainforest South TSA (TGBS) | N3: GREAT BEAR RAINFOREST TOTAL | T3: Fraser | U3: (TFR) | Z3: Soo | AA3: (TSO) | AF3: Sunshine Coast | AH3: (TSC) | AL3: SOUTH COAST FOREST REGION TOTAL | AR3: Arrowsmith | AT3: (TAS) | AX3: Haida Gwaii | AZ3: (THG) | BE3: North Island (TNI) | BK3: WEST COAST FOREST REGION TOTAL | BR3: 100 Mile House | BT3: (TMH) | BX3: Quesnel | BY3: (TQU) | CD3: Williams Lake | CE3: (TWL) | CK3: CARIBOO FOREST REGION TOTAL | CR3: Kamloops | CS3: (TKA) | CY3: Lillooet | CZ3: (TLI) | DF3: Merritt | DG3: (TME) | DM3: Okanagan | DN3: (TOK) | DT3: THOMPSON/OKANAGAN FOREST REGION TOTAL | EA3: Arrow | EB3: (TAR) | EG3: Boundary | EH3: (TBO) | EM3: Cranbrook | EN3: (TCB) | ES3: Golden | ET3: (TGO) | EY3: Invermere | EZ3: (TIN) | FE3: Kootenay Lake | FF3: (TKL) | FK3: Revelstoke | FL3: (TRE) | FQ3: KOOTENAY/BOUNDRY FOREST REGION | FW3: Bulkley | FX3: (TBU) | GC3: Cassiar | GD3: (TCA) | GI3: Kalum | GJ3: (TKM) | GO3: Kispiox | GP3: (TKI) | GU3: Lakes | GV3: (TLA) | HA3: Morice | HB3: (TMO) | HG3: Nass | HH3: (TNA) | HM3: North Coast | HN3: (TNC) | HS3: SKEENA FOREST REGION | HY3: MacKenzie | HZ3: (TMK) | IE3: Robson Valley | IG3: (TRV) | IK3: Prince George | IM3: (TPG) | IQ3: OMINECA FOREST REGION | IW3: Dawson Creek | IY3: (TDC) | JC3: Fort Nelson | JD3: (TFN) | JI3: Fort St. John | JK3: (TJO) | JO3: NORTHEAST FOREST REGION | JV3: GRAND TOTAL
B4: Trace | C4: Light | D4: Moderate | E4: Severe | F4: Very Sev | G4: Total | H4: Trace | I4: Light | J4: Moderate | K4: Severe | L4: Very Sev | M4: Total | N4: Trace | O4: Light | P4: Moderate | Q4: Severe | R4: Ver Sev | S4: Total | T4: Trace | U4: Light | V4: Moderate | W4: Severe | X4: Very Sev | Y4: Total | Z4: Trace | AA4: Light | AB4: Moderate | AC4: Severe | AD4: Very Sev | AE4: Total | AF4: Trace | AG4: Light | AH4: Moderate | AI4: Severe | AJ4: Very Sev | AK4: Total | AL4: Trace | AM4: Light | AN4: Moderate | AO4: Severe | AP4: Ver Sev | AQ4: Total | AR4: Trace | AS4: Light | AT4: Moderate | AU4: Severe | AV4: Very Sev | AW4: Total | AX4: Trace | AY4: Light | AZ4: Moderate | BA4: Severe | BB4: Very Sev | BC4: Grey | BD4: Total | BE4: Trace | BF4: Light | BG4: Moderate | BH4: Severe | BI4: Very Sev | BJ4: Total | BK4: Trace | BL4: Light | BM4: Moderate | BN4: Severe | BO4: Ver Sev | BP4: Grey | BQ4: Total | BR4: Trace | BS4: Light | BT4: Moderate | BU4: Severe | BV4: Very Sev | BW4: Total | BX4: Trace | BY4: Light | BZ4: Moderate | CA4: Severe | CB4: Very Sev | CC4: Total | CD4: Trace | CE4: Light | CF4: Moderate | CG4: Severe | CH4: Very Sev | CI4: Grey | CJ4: Total | CK4: Trace | CL4: Light | CM4: Moderate | CN4: Severe | CO4: Ver Sev | CP4: Grey | CQ4: Total | CR4: Trace | CS4: Light | CT4: Moderate | CU4: Severe | CV4: Very Sev | CW4: Grey | CX4: Total | CY4: Trace | CZ4: Light | DA4: Moderate | DB4: Severe | DC4: Very Sev | DD4: Grey | DE4: Total | DF4: Trace | DG4: Light | DH4: Moderate | DI4: Severe | DJ4: Very Sev | DK4: Grey | DL4: Total | DM4: Trace | DN4: Light | DO4: Moderate | DP4: Severe | DQ4: Very Sev | DR4: Grey | DS4: Total | DT4: Trace | DU4: Light | DV4: Moderate | DW4: Severe | DX4: Ver Sev | DY4: Grey | DZ4: Total | EA4: Trace | EB4: Light | EC4: Moderate | ED4: Severe | EE4: Very Sev | EF4: Total | EG4: Trace | EH4: Light | EI4: Moderate | EJ4: Severe | EK4: Very Sev | EL4: Total | EM4: Trace | EN4: Light | EO4: Moderate | EP4: Severe | EQ4: Very Sev | ER4: Total | ES4: Trace | ET4: Light | EU4: Moderate | EV4: Severe | EW4: Very Sev | EX4: Total | EY4: Trace | EZ4: Light | FA4: Moderate | FB4: Severe | FC4: Very Sev | FD4: Total | FE4: Trace | FF4: Light | FG4: Moderate | FH4: Severe | FI4: Very Sev | FJ4: Total | FK4: Trace | FL4: Light | FM4: Moderate | FN4: Severe | FO4: Very Sev | FP4: Total | FQ4: Trace | FR4: Light | FS4: Moderate | FT4: Severe | FU4: Very Sev | FV4: TOTAL | FW4: Trace | FX4: Light | FY4: Moderate | FZ4: Severe | GA4: Very Sev | GB4: Total | GC4: Trace | GD4: Light | GE4: Moderate | GF4: Severe | GG4: Very Sev | GH4: Total | GI4: Trace | GJ4: Light | GK4: Moderate | GL4: Severe | GM4: Very Sev | GN4: Total | GO4: Trace | GP4: Light | GQ4: Moderate | GR4: Severe | GS4: Very Sev | GT4: Total | GU4: Trace | GV4: Light | GW4: Moderate | GX4: Severe | GY4: Very Sev | GZ4: Total | HA4: Trace | HB4: Light | HC4: Moderate | HD4: Severe | HE4: Very Sev | HF4: Total | HG4: Trace | HH4: Light | HI4: Moderate | HJ4: Severe | HK4: Very Sev | HL4: Total | HM4: Trace | HN4: Light | HO4: Moderate | HP4: Severe | HQ4: Very Sev | HR4: Total | HS4: Trace | HT4: Light | HU4: Moderate | HV4: Severe | HW4: Very Sev | HX4: TOTAL | HY4: Trace | HZ4: Light | IA4: Moderate | IB4: Severe | IC4: Very Sev | ID4: Total | IE4: Trace | IF4: Light | IG4: Moderate | IH4: Severe | II4: Very Sev | IJ4: Total | IK4: Trace | IL4: Light | IM4: Moderate | IN4: Severe | IO4: Very Sev | IP4: Total | IQ4: Trace | IR4: Light | IS4: Moderate | IT4: Severe | IU4: Very Sev | IV4: TOTAL | IW4: Trace | IX4: Light | IY4: Moderate | IZ4: Severe | JA4: Very Sev | JB4: Total | JC4: Trace | JD4: Light | JE4: Moderate | JF4: Severe | JG4: Very Sev | JH4: Total | JI4: Trace | JJ4: Light | JK4: Moderate | JL4: Severe | JM4: Very Sev | JN4: Total | JO4: Trace | JP4: Light | JQ4: Moderate | JR4: Severe | JS4: Very Sev | JT4: TOTAL | JV4: Trace | JW4: Light | JX4: Moderate | JY4: Severe | JZ4: Very Sev | KA4: Grey | KB4: TOTAL
A5: Bark Beetles
A6: IBM=Mountain Pine Beetle | B6: 8355.436 | C6: 224.41941 | E6: 0.75 | G6: =SUM(B6:F6) -> 8580.6054 | M6: =SUM(H6:L6) -> 0 | N6: =SUM(B6,H6) -> 8355.436 | O6: =SUM(C6,I6) -> 224.41941 | P6: =SUM(D6,J6) -> 0 | Q6: =SUM(E6,K6) -> 0.75 | R6: =SUM(F6,L6) -> 0 | S6: =SUM(N6:R6) -> 8580.6054 | T6: 75.921412 | U6: 6.5839355 | Y6: =SUM(T6:X6) -> 82.505348 | Z6: 108.51556 | AA6: 87.019943 | AB6: 204.37219 | AC6: 102.49475 | AE6: =SUM(Z6:AD6) -> 502.40245 | AF6: 84.993049 | AG6: 150.17102 | AH6: 50.985761 | AK6: =SUM(AF6:AJ6) -> 286.14983 | AL6: =SUM(T6,Z6,AF6) -> 269.43002 | AM6: =SUM(U6,AA6,AG6) -> 243.7749 | AN6: =SUM(V6,AB6,AH6) -> 255.35795 | AO6: =SUM(W6,AC6,AI6) -> 102.49475 | AP6: =SUM(X6,AD6,AJ6) -> 0 | AQ6: =SUM(AL6:AP6) -> 871.05763 | AW6: =SUM(AR6:AV6) -> 0 | AZ6: 50.926264 | BD6: =SUM(AX6:BC6) -> 50.926264 | BJ6: =SUM(BE6:BI6) -> 0 | BK6: =SUM(AR6,AX6,BE6) -> 0 | BL6: =SUM(AS6,AY6,BF6) -> 0 | BM6: =SUM(AT6,AZ6,BG6) -> 50.926264 | BN6: =SUM(AU6,BA6,BH6) -> 0 | BO6: =SUM(AV6,BB6,BI6) -> 0 | BP6: =SUM(BC6) -> 0 | BQ6: =SUM(BK6:BP6) -> 50.926264 | BW6: =SUM(BR6:BV6) -> 0 | BY6: 60.023637 | CA6: 2.5 | CC6: =SUM(BX6:CB6) -> 62.523637 | CD6: 15301.478 | CE6: 20413.234 | CF6: 5475.921 | CG6: 711.31717 | CJ6: =SUM(CD6:CI6) -> 41901.95 | CK6: =SUM(BR6,BX6,CD6) -> 15301.478 | CL6: =SUM(BS6,BY6,CE6) -> 20473.257 | CM6: =SUM(BT6,BZ6,CF6) -> 5475.921 | CN6: =SUM(BU6,CA6,CG6) -> 713.81717 | CO6: =SUM(BV6,CB6,CH6) -> 0 | CP6: =SUM(CI6) -> 0 | CQ6: =SUM(CK6:CP6) -> 41964.474 | CX6: =SUM(CR6:CW6) -> 0 | CY6: 697.24219 | CZ6: 4015.8903 | DA6: 1875.5112 | DB6: 214.07904 | DE6: =SUM(CY6:DD6) -> 6802.7227 | DI6: 2.5 | DL6: =SUM(DF6:DK6) -> 2.5 | DM6: 1.6160287 | DN6: 44.117724 | DP6: 1.5 | DS6: =SUM(DM6:DR6) -> 47.233753 | DT6: =SUM(CR6,CY6,DF6,DM6) -> 698.85822 | DU6: =SUM(CS6,CZ6,DG6,DN6) -> 4060.008 | DV6: =SUM(CT6,DA6,DH6,DO6) -> 1875.5112 | DW6: =SUM(CU6,DB6,DI6,DP6) -> 218.07904 | DX6: =SUM(CV6,DC6,DJ6,DQ6) -> 0 | DY6: =SUM(CW6,DD6,DK6,DR6) -> 0 | DZ6: =SUM(DT6:DY6) -> 6852.4565 | EA6: 574.10031 | EB6: 290.00603 | EC6: 172.39 | ED6: 35 | EF6: =SUM(EA6:EE6) -> 1071.4963 | EG6: 640.99765 | EH6: 208.56703 | EI6: 42.377632 | EJ6: 17.75 | EL6: =SUM(EG6:EK6) -> 909.69231 | EM6: 499.54719 | EN6: 629.63292 | EO6: 184.01555 | EP6: 51 | ER6: =SUM(EM6:EQ6) -> 1364.1957 | ES6: 217.82079 | ET6: 128.73825 | EU6: 219.60053 | EV6: 57.254784 | EW6: 185.98807 | EX6: =SUM(ES6:EW6) -> 809.40242 | EY6: 967.9212 | EZ6: 1552.2954 | FA6: 2957.509 | FB6: 588.61356 | FC6: 16.623911 | FD6: =SUM(EY6:FC6) -> 6082.963 | FE6: 719.42005 | FF6: 1473.8374 | FG6: 1188.5876 | FH6: 203.79652 | FJ6: =SUM(FE6:FI6) -> 3585.6416 | FK6: 46.886112 | FL6: 67.16877 | FM6: 148.07446 | FN6: 7 | FP6: =SUM(FK6:FO6) -> 269.12935 | FQ6: =SUM(EA6,EG6,EM6,ES6,EY6,FE6,FK6) -> 3666.6933 | FR6: =SUM(EB6,EH6,EN6,ET6,EZ6,FF6,FL6) -> 4350.2458 | FS6: =SUM(EC6,EI6,EO6,EU6,FA6,FG6,FM6) -> 4912.5548 | FT6: =SUM(ED6,EJ6,EP6,EV6,FB6,FH6,FN6) -> 960.41486 | FU6: =SUM(EE6,EK6,EQ6,EW6,FC6,FI6,FO6) -> 202.61198 | FV6: =SUM(FQ6:FU6) -> 14092.521 | FW6: 1025.4897 | FX6: 918.82802 | FY6: 27.128568 | FZ6: 7.75 | GB6: =SUM(FW6:GA6) -> 1979.1963 | GC6: 1218.1402 | GF6: 2.75 | GH6: =SUM(GC6:GG6) -> 1220.8902 | GN6: =SUM(GI6:GM6) -> 0 | GT6: =SUM(GO6:GS6) -> 0 | GX6: 1.75 | GZ6: =SUM(GU6:GY6) -> 1.75 | HD6: 0.25 | HF6: =SUM(HA6:HE6) -> 0.25 | HL6: =SUM(HG6:HK6) -> 0 | HR6: =SUM(HM6:HQ6) -> 0 | HS6: =SUM(FW6,GC6,GI6,GO6,GU6,HA6,HG6,HM6) -> 2243.6299 | HT6: =SUM(FX6,GD6,GJ6,GP6,GV6,HB6,HH6,HN6) -> 918.82802 | HU6: =SUM(HO6,HI6,HC6,GW6,GQ6,GK6,GE6,FY6) -> 27.128568 | HV6: =SUM(HP6,HJ6,HD6,GX6,GR6,GL6,GF6,FZ6) -> 12.5 | HW6: =SUM(HQ6,HK6,HE6,GY6,GS6,GM6,GG6,GA6) -> 0 | HX6: =SUM(HS6:HW6) -> 3202.0865 | HY6: 1863.7914 | IB6: 13 | ID6: =SUM(HY6:IC6) -> 1876.7914 | IE6: 20655.269 | IF6: 36837.126 | IG6: 5464.3188 | IH6: 262.81302 | IJ6: =SUM(IE6:II6) -> 63219.526 | IK6: 13446.989 | IL6: 6359.5429 | IM6: 1736.1729 | IN6: 18.25 | IP6: =SUM(IK6:IO6) -> 21560.955 | IQ6: =SUM(HY6,IE6,IK6) -> 35966.049 | IR6: =SUM(HZ6,IF6,IL6) -> 43196.669 | IS6: =SUM(IA6,IG6,IM6) -> 7200.4917 | IT6: =SUM(IB6,IH6,IN6) -> 294.06302 | IU6: =SUM(IC6,II6,IO6) -> 0 | IV6: =SUM(IQ6:IU6) -> 86657.273 | IW6: 866.03958 | IX6: 187.71077 | IY6: 99.667868 | IZ6: 13 | JB6: =SUM(IW6:JA6) -> 1166.4182 | JC6: 13440.346 | JD6: 48.052307 | JF6: 45.75 | JH6: =SUM(JC6:JG6) -> 13534.148 | JI6: 457.38165 | JL6: 14.75 | JN6: =SUM(JI6:JM6) -> 472.13165 | JO6: =SUM(IW6,JC6,JI6) -> 14763.767 | JP6: =SUM(IX6,JD6,JJ6) -> 235.76307 | JQ6: =SUM(IY6,JE6,JK6) -> 99.667868 | JR6: =SUM(IZ6,JF6,JL6) -> 73.5 | JS6: =SUM(JA6,JG6,JM6) -> 0 | JT6: =SUM(JO6:JS6) -> 15172.698 | JV6: =SUM(N6,AL6,BK6,CK6,DT6,FQ6,HS6,IQ6,JO6) -> 81265.342 | JW6: =SUM(O6,AM6,BL6,CL6,DU6,FR6,HT6,IR6,JP6) -> 73702.965 | JX6: =SUM(P6,AN6,BM6,CM6,DV6,FS6,HU6,IS6,JQ6) -> 19897.559 | JY6: =SUM(Q6,AO6,BN6,CN6,DW6,FT6,HV6,IT6,JR6) -> 2375.6189 | JZ6: =SUM(R6,AP6,BO6,CO6,DX6,FU6,HW6,IU6,JS6) -> 202.61198 | KA6: =SUM(BP6,CP6,DY6) -> 0 | KB6: =SUM(JV6:KA6) -> 177444.1
A7: IBS=Spruce Beetle | B7: 311.20771 | C7: 152.34589 | E7: 1.5 | G7: =SUM(B7:F7) -> 465.05359 | H7: 323.57956 | M7: =SUM(H7:L7) -> 323.57956 | N7: =SUM(B7,H7) -> 634.78726 | O7: =SUM(C7,I7) -> 152.34589 | P7: =SUM(D7,J7) -> 0 | Q7: =SUM(E7,K7) -> 1.5 | R7: =SUM(F7,L7) -> 0 | S7: =SUM(N7:R7) -> 788.63315 | T7: 3219.5178 | U7: 751.42541 | W7: 16.642834 | Y7: =SUM(T7:X7) -> 3987.586 | Z7: 412.36781 | AA7: 238.78296 | AB7: 167.86676 | AC7: 24.613009 | AE7: =SUM(Z7:AD7) -> 843.63054 | AF7: 13.283642 | AG7: 32.966578 | AI7: 0.5 | AK7: =SUM(AF7:AJ7) -> 46.75022 | AL7: =SUM(T7,Z7,AF7) -> 3645.1692 | AM7: =SUM(U7,AA7,AG7) -> 1023.1749 | AN7: =SUM(V7,AB7,AH7) -> 167.86676 | AO7: =SUM(W7,AC7,AI7) -> 41.755843 | AP7: =SUM(X7,AD7,AJ7) -> 0 | AQ7: =SUM(AL7:AP7) -> 4877.9668 | AU7: 0.5 | AW7: =SUM(AR7:AV7) -> 0.5 | AX7: 44.613244 | BD7: =SUM(AX7:BC7) -> 44.613244 | BJ7: =SUM(BE7:BI7) -> 0 | BK7: =SUM(AR7,AX7,BE7) -> 44.613244 | BL7: =SUM(AS7,AY7,BF7) -> 0 | BM7: =SUM(AT7,AZ7,BG7) -> 0 | BN7: =SUM(AU7,BA7,BH7) -> 0.5 | BO7: =SUM(AV7,BB7,BI7) -> 0 | BP7: =SUM(BC7) -> 0 | BQ7: =SUM(BK7:BP7) -> 45.113244 | BW7: =SUM(BR7:BV7) -> 0 | BX7: 1792.7085 | BY7: 337.00566 | CA7: 9.25 | CC7: =SUM(BX7:CB7) -> 2138.9642 | CD7: 3385.9002 | CE7: 3391.4301 | CF7: 1644.8352 | CG7: 58.67271 | CJ7: =SUM(CD7:CI7) -> 8480.8383 | CK7: =SUM(BR7,BX7,CD7) -> 5178.6088 | CL7: =SUM(BS7,BY7,CE7) -> 3728.4358 | CM7: =SUM(BT7,BZ7,CF7) -> 1644.8352 | CN7: =SUM(BU7,CA7,CG7) -> 67.92271 | CO7: =SUM(BV7,CB7,CH7) -> 0 | CP7: =SUM(CI7) -> 0 | CQ7: =SUM(CK7:CP7) -> 10619.802 | CS7: 2424.8194 | CT7: 1966.6673 | CU7: 624.50191 | CX7: =SUM(CR7:CW7) -> 5015.9886 | CY7: 680.56358 | CZ7: 500.25721 | DA7: 1247.1032 | DB7: 686.44296 | DC7: 11.747227 | DE7: =SUM(CY7:DD7) -> 3126.1142 | DL7: =SUM(DF7:DK7) -> 0 | DM7: 114.06859 | DP7: 0.25 | DS7: =SUM(DM7:DR7) -> 114.31859 | DT7: =SUM(CR7,CY7,DF7,DM7) -> 794.63217 | DU7: =SUM(CS7,CZ7,DG7,DN7) -> 2925.0766 | DV7: =SUM(CT7,DA7,DH7,DO7) -> 3213.7705 | DW7: =SUM(CU7,DB7,DI7,DP7) -> 1311.1949 | DX7: =SUM(CV7,DC7,DJ7,DQ7) -> 11.747227 | DY7: =SUM(CW7,DD7,DK7,DR7) -> 0 | DZ7: =SUM(DT7:DY7) -> 8256.4214 | EA7: 57.726758 | EB7: 235.23614 | EC7: 117.98092 | ED7: 17.967721 | EF7: =SUM(EA7:EE7) -> 428.91154 | EL7: =SUM(EG7:EK7) -> 0 | EM7: 141.65685 | EN7: 254.12872 | EO7: 1040.7525 | EP7: 2280.1813 | EQ7: 235.03188 | ER7: =SUM(EM7:EQ7) -> 3951.7512 | ES7: 270.80758 | ET7: 310.44246 | EU7: 1110.9882 | EV7: 132.05418 | EX7: =SUM(ES7:EW7) -> 1824.2924 | EY7: 17.720554 | EZ7: 1613.3974 | FA7: 1834.6817 | FB7: 216.1319 | FC7: 379.25184 | FD7: =SUM(EY7:FC7) -> 4061.1834 | FE7: 40.735715 | FF7: 111.10436 | FG7: 310.69449 | FH7: 647.88486 | FJ7: =SUM(FE7:FI7) -> 1110.4194 | FK7: 123.42421 | FL7: 26.68352 | FM7: 26.870712 | FN7: 2 | FP7: =SUM(FK7:FO7) -> 178.97844 | FQ7: =SUM(EA7,EG7,EM7,ES7,EY7,FE7,FK7) -> 652.07166 | FR7: =SUM(EB7,EH7,EN7,ET7,EZ7,FF7,FL7) -> 2550.9926 | FS7: =SUM(EC7,EI7,EO7,EU7,FA7,FG7,FM7) -> 4441.9685 | FT7: =SUM(ED7,EJ7,EP7,EV7,FB7,FH7,FN7) -> 3296.2199 | FU7: =SUM(EE7,EK7,EQ7,EW7,FC7,FI7,FO7) -> 614.28373 | FV7: =SUM(FQ7:FU7) -> 11555.536 | FW7: 462.93609 | FZ7: 0.5 | GB7: =SUM(FW7:GA7) -> 463.43609 | GH7: =SUM(GC7:GG7) -> 0 | GI7: 519.35755 | GJ7: 45.780252 | GL7: 1.75 | GN7: =SUM(GI7:GM7) -> 566.88781 | GR7: 0.5 | GT7: =SUM(GO7:GS7) -> 0.5 | GU7: 197.62659 | GV7: 2755.0922 | GX7: 69.543801 | GZ7: =SUM(GU7:GY7) -> 3022.2626 | HA7: 1009.1959 | HB7: 687.02498 | HC7: 317.14423 | HD7: 19.527521 | HF7: =SUM(HA7:HE7) -> 2032.8926 | HL7: =SUM(HG7:HK7) -> 0 | HR7: =SUM(HM7:HQ7) -> 0 | HS7: =SUM(FW7,GC7,GI7,GO7,GU7,HA7,HG7,HM7) -> 2189.1161 | HT7: =SUM(FX7,GD7,GJ7,GP7,GV7,HB7,HH7,HN7) -> 3487.8974 | HU7: =SUM(HO7,HI7,HC7,GW7,GQ7,GK7,GE7,FY7) -> 317.14423 | HV7: =SUM(HP7,HJ7,HD7,GX7,GR7,GL7,GF7,FZ7) -> 91.821323 | HW7: =SUM(HQ7,HK7,HE7,GY7,GS7,GM7,GG7,GA7) -> 0 | HX7: =SUM(HS7:HW7) -> 6085.9791 | HY7: 69983.737 | HZ7: 20379.35 | IA7: 3824.9565 | IB7: 27.25 | ID7: =SUM(HY7:IC7) -> 94215.294 | IE7: 917.01829 | IF7: 86.147686 | IH7: 3.25 | IJ7: =SUM(IE7:II7) -> 1006.416 | IK7: 86608.482 | IL7: 112461.68 | IM7: 59538.465 | IN7: 864.75661 | IO7: 155.64953 | IP7: =SUM(IK7:IO7) -> 259629.04 | IQ7: =SUM(HY7,IE7,IK7) -> 157509.24 | IR7: =SUM(HZ7,IF7,IL7) -> 132927.18 | IS7: =SUM(IA7,IG7,IM7) -> 63363.422 | IT7: =SUM(IB7,IH7,IN7) -> 895.25661 | IU7: =SUM(IC7,II7,IO7) -> 155.64953 | IV7: =SUM(IQ7:IU7) -> 354850.75 | IW7: 60457.882 | IX7: 23133.735 | IY7: 941.2409 | IZ7: 27.75 | JB7: =SUM(IW7:JA7) -> 84560.608 | JC7: 9126.081 | JD7: 839.9758 | JF7: 71 | JH7: =SUM(JC7:JG7) -> 10037.057 | JI7: 19243.017 | JJ7: 4352.5465 | JK7: 64.796074 | JL7: 108.75 | JN7: =SUM(JI7:JM7) -> 23769.109 | JO7: =SUM(IW7,JC7,JI7) -> 88826.98 | JP7: =SUM(IX7,JD7,JJ7) -> 28326.257 | JQ7: =SUM(IY7,JE7,JK7) -> 1006.037 | JR7: =SUM(IZ7,JF7,JL7) -> 207.5 | JS7: =SUM(JA7,JG7,JM7) -> 0 | JT7: =SUM(JO7:JS7) -> 118366.77 | JV7: =SUM(N7,AL7,BK7,CK7,DT7,FQ7,HS7,IQ7,JO7) -> 259475.22 | JW7: =SUM(O7,AM7,BL7,CL7,DU7,FR7,HT7,IR7,JP7) -> 175121.36 | JX7: =SUM(P7,AN7,BM7,CM7,DV7,FS7,HU7,IS7,JQ7) -> 74155.044 | JY7: =SUM(Q7,AO7,BN7,CN7,DW7,FT7,HV7,IT7,JR7) -> 5913.6713 | JZ7: =SUM(R7,AP7,BO7,CO7,DX7,FU7,HW7,IU7,JS7) -> 781.68049 | KA7: =SUM(BP7,CP7,DY7) -> 0 | KB7: =SUM(JV7:KA7) -> 515446.97
A8: IBB=Western Balsam Bark Beetle | B8: 53750.923 | C8: 17901.723 | D8: 56.687933 | E8: 8 | G8: =SUM(B8:F8) -> 71717.334 | M8: =SUM(H8:L8) -> 0 | N8: =SUM(B8,H8) -> 53750.923 | O8: =SUM(C8,I8) -> 17901.723 | P8: =SUM(D8,J8) -> 56.687933 | Q8: =SUM(E8,K8) -> 8 | R8: =SUM(F8,L8) -> 0 | S8: =SUM(N8:R8) -> 71717.334 | T8: 5722.6994 | U8: 132.63355 | W8: 6 | Y8: =SUM(T8:X8) -> 5861.3329 | Z8: 26566.977 | AA8: 944.46262 | AB8: 107.35867 | AC8: 18.75 | AE8: =SUM(Z8:AD8) -> 27637.548 | AF8: 4003.9252 | AG8: 27.984347 | AI8: 1 | AK8: =SUM(AF8:AJ8) -> 4032.9095 | AL8: =SUM(T8,Z8,AF8) -> 36293.602 | AM8: =SUM(U8,AA8,AG8) -> 1105.0805 | AN8: =SUM(V8,AB8,AH8) -> 107.35867 | AO8: =SUM(W8,AC8,AI8) -> 25.75 | AP8: =SUM(X8,AD8,AJ8) -> 0 | AQ8: =SUM(AL8:AP8) -> 37531.791 | AR8: 148.08272 | AU8: 1 | AW8: =SUM(AR8:AV8) -> 149.08272 | BD8: =SUM(AX8:BC8) -> 0 | BE8: 143.64334 | BH8: 1 | BJ8: =SUM(BE8:BI8) -> 144.64334 | BK8: =SUM(AR8,AX8,BE8) -> 291.72605 | BL8: =SUM(AS8,AY8,BF8) -> 0 | BM8: =SUM(AT8,AZ8,BG8) -> 0 | BN8: =SUM(AU8,BA8,BH8) -> 2 | BO8: =SUM(AV8,BB8,BI8) -> 0 | BP8: =SUM(BC8) -> 0 | BQ8: =SUM(BK8:BP8) -> 293.72605 | BR8: 3876.3449 | BS8: 30.692944 | BT8: 85.465144 | BU8: 12.75 | BW8: =SUM(BR8:BV8) -> 4005.253 | BX8: 53876.444 | BY8: 1069.8534 | CA8: 42.25 | CC8: =SUM(BX8:CB8) -> 54988.547 | CD8: 64949.274 | CE8: 5429.947 | CF8: 658.02369 | CG8: 70.346439 | CJ8: =SUM(CD8:CI8) -> 71107.591 | CK8: =SUM(BR8,BX8,CD8) -> 122702.06 | CL8: =SUM(BS8,BY8,CE8) -> 6530.4934 | CM8: =SUM(BT8,BZ8,CF8) -> 743.48883 | CN8: =SUM(BU8,CA8,CG8) -> 125.34644 | CO8: =SUM(BV8,CB8,CH8) -> 0 | CP8: =SUM(CI8) -> 0 | CQ8: =SUM(CK8:CP8) -> 130101.39 | CR8: 51826.23 | CS8: 5366.6199 | CT8: 36.25364 | CU8: 199.95605 | CX8: =SUM(CR8:CW8) -> 57429.06 | CY8: 14838.76 | CZ8: 741.64109 | DA8: 27.39756 | DB8: 89.225419 | DE8: =SUM(CY8:DD8) -> 15697.024 | DF8: 7438.9492 | DG8: 69.797578 | DI8: 48.923165 | DL8: =SUM(DF8:DK8) -> 7557.6699 | DM8: 41948.684 | DN8: 351.06622 | DP8: 62.685018 | DS8: =SUM(DM8:DR8) -> 42362.436 | DT8: =SUM(CR8,CY8,DF8,DM8) -> 116052.62 | DU8: =SUM(CS8,CZ8,DG8,DN8) -> 6529.1248 | DV8: =SUM(CT8,DA8,DH8,DO8) -> 63.651201 | DW8: =SUM(CU8,DB8,DI8,DP8) -> 400.78966 | DX8: =SUM(CV8,DC8,DJ8,DQ8) -> 0 | DY8: =SUM(CW8,DD8,DK8,DR8) -> 0 | DZ8: =SUM(DT8:DY8) -> 123046.19 | EA8: 6273.4678 | EB8: 884.86355 | ED8: 24.75 | EF8: =SUM(EA8:EE8) -> 7183.0814 | EG8: 1678.105 | EJ8: 5 | EL8: =SUM(EG8:EK8) -> 1683.105 | EM8: 4833.3912 | EN8: 3051.5527 | EO8: 1023.4729 | EP8: 28.5 | ER8: =SUM(EM8:EQ8) -> 8936.9168 | ES8: 3765.4274 | ET8: 5956.0698 | EU8: 1313.7276 | EV8: 24.138622 | EX8: =SUM(ES8:EW8) -> 11059.363 | EY8: 7871.5921 | EZ8: 5582.5885 | FA8: 1991.3729 | FB8: 76.336587 | FD8: =SUM(EY8:FC8) -> 15521.89 | FE8: 6578.6664 | FF8: 1869.9064 | FG8: 64.441441 | FH8: 27.25 | FJ8: =SUM(FE8:FI8) -> 8540.2643 | FK8: 4317.114 | FL8: 1019.212 | FM8: 14.382429 | FN8: 8 | FP8: =SUM(FK8:FO8) -> 5358.7084 | FQ8: =SUM(EA8,EG8,EM8,ES8,EY8,FE8,FK8) -> 35317.764 | FR8: =SUM(EB8,EH8,EN8,ET8,EZ8,FF8,FL8) -> 18364.193 | FS8: =SUM(EC8,EI8,EO8,EU8,FA8,FG8,FM8) -> 4407.3972 | FT8: =SUM(ED8,EJ8,EP8,EV8,FB8,FH8,FN8) -> 193.97521 | FU8: =SUM(EE8,EK8,EQ8,EW8,FC8,FI8,FO8) -> 0 | FV8: =SUM(FQ8:FU8) -> 58283.329 | FW8: 202832.04 | FX8: 8001.0042 | FY8: 711.40489 | FZ8: 31.832054 | GB8: =SUM(FW8:GA8) -> 211576.28 | GC8: 2404.3652 | GF8: 5.75 | GH8: =SUM(GC8:GG8) -> 2410.1152 | GI8: 10569.733 | GJ8: 216.09671 | GL8: 2.25 | GN8: =SUM(GI8:GM8) -> 10788.08 | GO8: 84772.544 | GP8: 363.7398 | GR8: 5.5 | GT8: =SUM(GO8:GS8) -> 85141.784 | GU8: 157552.76 | GV8: 7410.63 | GW8: 1607.5582 | GX8: 39.632819 | GZ8: =SUM(GU8:GY8) -> 166610.58 | HA8: 311441.05 | HB8: 8999.7089 | HC8: 721.6575 | HD8: 68.150598 | HF8: =SUM(HA8:HE8) -> 321230.56 | HG8: 1517.4985 | HJ8: 0.25 | HL8: =SUM(HG8:HK8) -> 1517.7485 | HR8: =SUM(HM8:HQ8) -> 0 | HS8: =SUM(FW8,GC8,GI8,GO8,GU8,HA8,HG8,HM8) -> 771089.99 | HT8: =SUM(FX8,GD8,GJ8,GP8,GV8,HB8,HH8,HN8) -> 24991.18 | HU8: =SUM(HO8,HI8,HC8,GW8,GQ8,GK8,GE8,FY8) -> 3040.6206 | HV8: =SUM(HP8,HJ8,HD8,GX8,GR8,GL8,GF8,FZ8) -> 153.36547 | HW8: =SUM(HQ8,HK8,HE8,GY8,GS8,GM8,GG8,GA8) -> 0 | HX8: =SUM(HS8:HW8) -> 799275.15 | HY8: 451152.3 | HZ8: 110016.64 | IA8: 3524.669 | IB8: 129.25 | ID8: =SUM(HY8:IC8) -> 564822.87 | IE8: 214766.5 | IF8: 18077.518 | IG8: 185.29673 | IH8: 63.75 | IJ8: =SUM(IE8:II8) -> 233093.07 | IK8: 752716.35 | IL8: 179946.39 | IM8: 1697.4536 | IN8: 449.73479 | IP8: =SUM(IK8:IO8) -> 934809.92 | IQ8: =SUM(HY8,IE8,IK8) -> 1418635.2 | IR8: =SUM(HZ8,IF8,IL8) -> 308040.55 | IS8: =SUM(IA8,IG8,IM8) -> 5407.4192 | IT8: =SUM(IB8,IH8,IN8) -> 642.73479 | IU8: =SUM(IC8,II8,IO8) -> 0 | IV8: =SUM(IQ8:IU8) -> 1732725.9 | IW8: 159417.26 | IX8: 34886.305 | IY8: 14.354727 | IZ8: 54.5 | JB8: =SUM(IW8:JA8) -> 194372.42 | JC8: 77722.093 | JD8: 11224.492 | JE8: 233.91461 | JF8: 129.5 | JH8: =SUM(JC8:JG8) -> 89310 | JI8: 9405.9422 | JJ8: 1025.6702 | JK8: 8.8791499 | JL8: 37.5 | JN8: =SUM(JI8:JM8) -> 10477.992 | JO8: =SUM(IW8,JC8,JI8) -> 246545.29 | JP8: =SUM(IX8,JD8,JJ8) -> 47136.467 | JQ8: =SUM(IY8,JE8,JK8) -> 257.14849 | JR8: =SUM(IZ8,JF8,JL8) -> 221.5 | JS8: =SUM(JA8,JG8,JM8) -> 0 | JT8: =SUM(JO8:JS8) -> 294160.41 | JV8: =SUM(N8,AL8,BK8,CK8,DT8,FQ8,HS8,IQ8,JO8) -> 2800679.1 | JW8: =SUM(O8,AM8,BL8,CL8,DU8,FR8,HT8,IR8,JP8) -> 430598.81 | JX8: =SUM(P8,AN8,BM8,CM8,DV8,FS8,HU8,IS8,JQ8) -> 14083.772 | JY8: =SUM(Q8,AO8,BN8,CN8,DW8,FT8,HV8,IT8,JR8) -> 1773.4616 | JZ8: =SUM(R8,AP8,BO8,CO8,DX8,FU8,HW8,IU8,JS8) -> 0 | KA8: =SUM(BP8,CP8,DY8) -> 0 | KB8: =SUM(JV8:KA8) -> 3247135.2
A9: IBD=Douglas-fir Beetle | E9: 1 | G9: =SUM(B9:F9) -> 1 | H9: 26.890172 | M9: =SUM(H9:L9) -> 26.890172 | N9: =SUM(B9,H9) -> 26.890172 | O9: =SUM(C9,I9) -> 0 | P9: =SUM(D9,J9) -> 0 | Q9: =SUM(E9,K9) -> 1 | R9: =SUM(F9,L9) -> 0 | S9: =SUM(N9:R9) -> 27.890172 | T9: 1311.6879 | U9: 227.37 | W9: 30.25 | Y9: =SUM(T9:X9) -> 1569.3079 | Z9: 766.13185 | AA9: 222.11346 | AB9: 50.621744 | AC9: 29.487206 | AE9: =SUM(Z9:AD9) -> 1068.3543 | AF9: 121.13879 | AG9: 36.854634 | AH9: 8.2829466 | AI9: 163.19453 | AK9: =SUM(AF9:AJ9) -> 329.4709 | AL9: =SUM(T9,Z9,AF9) -> 2198.9585 | AM9: =SUM(U9,AA9,AG9) -> 486.3381 | AN9: =SUM(V9,AB9,AH9) -> 58.90469 | AO9: =SUM(W9,AC9,AI9) -> 222.93174 | AP9: =SUM(X9,AD9,AJ9) -> 0 | AQ9: =SUM(AL9:AP9) -> 2967.133 | AR9: 1257.7619 | AS9: 1188.1726 | AT9: 68.199901 | AU9: 8.5 | AW9: =SUM(AR9:AV9) -> 2522.6344 | BD9: =SUM(AX9:BC9) -> 0 | BE9: 1387.7575 | BF9: 1389.5594 | BG9: 378.6214 | BH9: 35.093909 | BJ9: =SUM(BE9:BI9) -> 3191.0322 | BK9: =SUM(AR9,AX9,BE9) -> 2645.5194 | BL9: =SUM(AS9,AY9,BF9) -> 2577.732 | BM9: =SUM(AT9,AZ9,BG9) -> 446.8213 | BN9: =SUM(AU9,BA9,BH9) -> 43.593909 | BO9: =SUM(AV9,BB9,BI9) -> 0 | BP9: =SUM(BC9) -> 0 | BQ9: =SUM(BK9:BP9) -> 5713.6666 | BR9: 9588.1547 | BS9: 819.50133 | BT9: 1471.3921 | BU9: 500.09111 | BW9: =SUM(BR9:BV9) -> 12379.139 | BX9: 1484.8022 | BY9: 759.59787 | BZ9: 337.77892 | CA9: 103.5 | CC9: =SUM(BX9:CB9) -> 2685.679 | CD9: 38638.703 | CE9: 13164.211 | CF9: 2258.9198 | CG9: 671.03694 | CJ9: =SUM(CD9:CI9) -> 54732.871 | CK9: =SUM(BR9,BX9,CD9) -> 49711.66 | CL9: =SUM(BS9,BY9,CE9) -> 14743.311 | CM9: =SUM(BT9,BZ9,CF9) -> 4068.0908 | CN9: =SUM(BU9,CA9,CG9) -> 1274.628 | CO9: =SUM(BV9,CB9,CH9) -> 0 | CP9: =SUM(CI9) -> 0 | CQ9: =SUM(CK9:CP9) -> 69797.69 | CR9: 372.09426 | CS9: 857.32638 | CT9: 1108.6464 | CU9: 917.40267 | CV9: 83.586177 | CX9: =SUM(CR9:CW9) -> 3339.0559 | CZ9: 58.180029 | DA9: 69.845058 | DB9: 129.48988 | DC9: 8.6133684 | DE9: =SUM(CY9:DD9) -> 266.12834 | DG9: 155.77484 | DH9: 145.46994 | DI9: 183.13749 | DJ9: 4.094722 | DL9: =SUM(DF9:DK9) -> 488.47699 | DM9: 168.39185 | DN9: 927.32943 | DO9: 931.29184 | DP9: 474.73 | DQ9: 24.040769 | DS9: =SUM(DM9:DR9) -> 2525.7839 | DT9: =SUM(CR9,CY9,DF9,DM9) -> 540.48611 | DU9: =SUM(CS9,CZ9,DG9,DN9) -> 1998.6107 | DV9: =SUM(CT9,DA9,DH9,DO9) -> 2255.2532 | DW9: =SUM(CU9,DB9,DI9,DP9) -> 1704.76 | DX9: =SUM(CV9,DC9,DJ9,DQ9) -> 120.33504 | DY9: =SUM(CW9,DD9,DK9,DR9) -> 0 | DZ9: =SUM(DT9:DY9) -> 6619.4451 | EA9: 263.17159 | EB9: 1248.3 | EC9: 812.90922 | ED9: 71 | EF9: =SUM(EA9:EE9) -> 2395.3808 | EG9: 216.59453 | EH9: 548.44027 | EI9: 326.60911 | EJ9: 34.996025 | EL9: =SUM(EG9:EK9) -> 1126.6399 | EM9: 123.401 | EN9: 292.79962 | EO9: 109.82411 | EP9: 51.75 | ER9: =SUM(EM9:EQ9) -> 577.77473 | EU9: 158.50059 | EV9: 22.069947 | EX9: =SUM(ES9:EW9) -> 180.57053 | EY9: 181.6787 | EZ9: 559.81573 | FA9: 645.09341 | FB9: 128.27633 | FD9: =SUM(EY9:FC9) -> 1514.8642 | FE9: 36.063727 | FF9: 424.71955 | FG9: 496.80441 | FH9: 65.938327 | FJ9: =SUM(FE9:FI9) -> 1023.526 | FK9: 9.1763533 | FL9: 153.08 | FM9: 95.323881 | FN9: 7.5 | FP9: =SUM(FK9:FO9) -> 265.08023 | FQ9: =SUM(EA9,EG9,EM9,ES9,EY9,FE9,FK9) -> 830.0859 | FR9: =SUM(EB9,EH9,EN9,ET9,EZ9,FF9,FL9) -> 3227.1552 | FS9: =SUM(EC9,EI9,EO9,EU9,FA9,FG9,FM9) -> 2645.0647 | FT9: =SUM(ED9,EJ9,EP9,EV9,FB9,FH9,FN9) -> 381.53063 | FU9: =SUM(EE9,EK9,EQ9,EW9,FC9,FI9,FO9) -> 0 | FV9: =SUM(FQ9:FU9) -> 7083.8364 | GB9: =SUM(FW9:GA9) -> 0 | GH9: =SUM(GC9:GG9) -> 0 | GN9: =SUM(GI9:GM9) -> 0 | GT9: =SUM(GO9:GS9) -> 0 | GV9: 77.676104 | GW9: 341.95458 | GZ9: =SUM(GU9:GY9) -> 419.63069 | HD9: 0.75 | HF9: =SUM(HA9:HE9) -> 0.75 | HL9: =SUM(HG9:HK9) -> 0 | HR9: =SUM(HM9:HQ9) -> 0 | HS9: =SUM(FW9,GC9,GI9,GO9,GU9,HA9,HG9,HM9) -> 0 | HT9: =SUM(FX9,GD9,GJ9,GP9,GV9,HB9,HH9,HN9) -> 77.676104 | HU9: =SUM(HO9,HI9,HC9,GW9,GQ9,GK9,GE9,FY9) -> 341.95458 | HV9: =SUM(HP9,HJ9,HD9,GX9,GR9,GL9,GF9,FZ9) -> 0.75 | HW9: =SUM(HQ9,HK9,HE9,GY9,GS9,GM9,GG9,GA9) -> 0 | HX9: =SUM(HS9:HW9) -> 420.38069 | ID9: =SUM(HY9:IC9) -> 0 | IE9: 284.97967 | IH9: 4.75 | IJ9: =SUM(IE9:II9) -> 289.72967 | IK9: 2285.4715 | IL9: 2115.3224 | IM9: 470.73995 | IN9: 173 | IP9: =SUM(IK9:IO9) -> 5044.5338 | IQ9: =SUM(HY9,IE9,IK9) -> 2570.4512 | IR9: =SUM(HZ9,IF9,IL9) -> 2115.3224 | IS9: =SUM(IA9,IG9,IM9) -> 470.73995 | IT9: =SUM(IB9,IH9,IN9) -> 177.75 | IU9: =SUM(IC9,II9,IO9) -> 0 | IV9: =SUM(IQ9:IU9) -> 5334.2635 | JB9: =SUM(IW9:JA9) -> 0 | JH9: =SUM(JC9:JG9) -> 0 | JN9: =SUM(JI9:JM9) -> 0 | JO9: =SUM(IW9,JC9,JI9) -> 0 | JP9: =SUM(IX9,JD9,JJ9) -> 0 | JQ9: =SUM(IY9,JE9,JK9) -> 0 | JR9: =SUM(IZ9,JF9,JL9) -> 0 | JS9: =SUM(JA9,JG9,JM9) -> 0 | JT9: =SUM(JO9:JS9) -> 0 | JV9: =SUM(N9,AL9,BK9,CK9,DT9,FQ9,HS9,IQ9,JO9) -> 58524.051 | JW9: =SUM(O9,AM9,BL9,CL9,DU9,FR9,HT9,IR9,JP9) -> 25226.145 | JX9: =SUM(P9,AN9,BM9,CM9,DV9,FS9,HU9,IS9,JQ9) -> 10286.829 | JY9: =SUM(Q9,AO9,BN9,CN9,DW9,FT9,HV9,IT9,JR9) -> 3806.9444 | JZ9: =SUM(R9,AP9,BO9,CO9,DX9,FU9,HW9,IU9,JS9) -> 120.33504 | KA9: =SUM(BP9,CP9,DY9) -> 0 | KB9: =SUM(JV9:KA9) -> 97964.305
A10: IBF = Fir engraver Beetle | G10: =SUM(B10:F10) -> 0 | M10: =SUM(H10:L10) -> 0 | N10: =SUM(B10,H10) -> 0 | O10: =SUM(C10,I10) -> 0 | P10: =SUM(D10,J10) -> 0 | Q10: =SUM(E10,K10) -> 0 | R10: =SUM(F10,L10) -> 0 | S10: =SUM(N10:R10) -> 0 | Y10: =SUM(T10:X10) -> 0 | AE10: =SUM(Z10:AD10) -> 0 | AK10: =SUM(AF10:AJ10) -> 0 | AL10: =SUM(T10,Z10,AF10) -> 0 | AM10: =SUM(U10,AA10,AG10) -> 0 | AN10: =SUM(V10,AB10,AH10) -> 0 | AO10: =SUM(W10,AC10,AI10) -> 0 | AP10: =SUM(X10,AD10,AJ10) -> 0 | AQ10: =SUM(AL10:AP10) -> 0 | AW10: =SUM(AR10:AV10) -> 0 | BD10: =SUM(AX10:BC10) -> 0 | BJ10: =SUM(BE10:BI10) -> 0 | BK10: =SUM(AR10,AX10,BE10) -> 0 | BL10: =SUM(AS10,AY10,BF10) -> 0 | BM10: =SUM(AT10,AZ10,BG10) -> 0 | BN10: =SUM(AU10,BA10,BH10) -> 0 | BO10: =SUM(AV10,BB10,BI10) -> 0 | BP10: =SUM(BC10) -> 0 | BQ10: =SUM(BK10:BP10) -> 0 | BW10: =SUM(BR10:BV10) -> 0 | CC10: =SUM(BX10:CB10) -> 0 | CJ10: =SUM(CD10:CI10) -> 0 | CK10: =SUM(BR10,BX10,CD10) -> 0 | CL10: =SUM(BS10,BY10,CE10) -> 0 | CM10: =SUM(BT10,BZ10,CF10) -> 0 | CN10: =SUM(BU10,CA10,CG10) -> 0 | CO10: =SUM(BV10,CB10,CH10) -> 0 | CP10: =SUM(CI10) -> 0 | CQ10: =SUM(CK10:CP10) -> 0 | CX10: =SUM(CR10:CW10) -> 0 | DE10: =SUM(CY10:DD10) -> 0 | DL10: =SUM(DF10:DK10) -> 0 | DS10: =SUM(DM10:DR10) -> 0 | DT10: =SUM(CR10,CY10,DF10,DM10) -> 0 | DU10: =SUM(CS10,CZ10,DG10,DN10) -> 0 | DV10: =SUM(CT10,DA10,DH10,DO10) -> 0 | DW10: =SUM(CU10,DB10,DI10,DP10) -> 0 | DX10: =SUM(CV10,DC10,DJ10,DQ10) -> 0 | DY10: =SUM(CW10,DD10,DK10,DR10) -> 0 | DZ10: =SUM(DT10:DY10) -> 0 | EF10: =SUM(EA10:EE10) -> 0 | EL10: =SUM(EG10:EK10) -> 0 | ER10: =SUM(EM10:EQ10) -> 0 | EX10: =SUM(ES10:EW10) -> 0 | FD10: =SUM(EY10:FC10) -> 0 | FJ10: =SUM(FE10:FI10) -> 0 | FP10: =SUM(FK10:FO10) -> 0 | FQ10: =SUM(EA10,EG10,EM10,ES10,EY10,FE10,FK10) -> 0 | FR10: =SUM(EB10,EH10,EN10,ET10,EZ10,FF10,FL10) -> 0 | FS10: =SUM(EC10,EI10,EO10,EU10,FA10,FG10,FM10) -> 0 | FT10: =SUM(ED10,EJ10,EP10,EV10,FB10,FH10,FN10) -> 0 | FU10: =SUM(EE10,EK10,EQ10,EW10,FC10,FI10,FO10) -> 0 | FV10: =SUM(FQ10:FU10) -> 0 | GB10: =SUM(FW10:GA10) -> 0 | GH10: =SUM(GC10:GG10) -> 0 | GN10: =SUM(GI10:GM10) -> 0 | GT10: =SUM(GO10:GS10) -> 0 | GZ10: =SUM(GU10:GY10) -> 0 | HF10: =SUM(HA10:HE10) -> 0 | HL10: =SUM(HG10:HK10) -> 0 | HR10: =SUM(HM10:HQ10) -> 0 | HS10: =SUM(FW10,GC10,GI10,GO10,GU10,HA10,HG10,HM10) -> 0 | HT10: =SUM(FX10,GD10,GJ10,GP10,GV10,HB10,HH10,HN10) -> 0 | HU10: =SUM(HO10,HI10,HC10,GW10,GQ10,GK10,GE10,FY10) -> 0 | HV10: =SUM(HP10,HJ10,HD10,GX10,GR10,GL10,GF10,FZ10) -> 0 | HW10: =SUM(HQ10,HK10,HE10,GY10,GS10,GM10,GG10,GA10) -> 0 | HX10: =SUM(HS10:HW10) -> 0 | ID10: =SUM(HY10:IC10) -> 0 | IJ10: =SUM(IE10:II10) -> 0 | IP10: =SUM(IK10:IO10) -> 0 | IQ10: =SUM(HY10,IE10,IK10) -> 0 | IR10: =SUM(HZ10,IF10,IL10) -> 0 | IS10: =SUM(IA10,IG10,IM10) -> 0 | IT10: =SUM(IB10,IH10,IN10) -> 0 | IU10: =SUM(IC10,II10,IO10) -> 0 | IV10: =SUM(IQ10:IU10) -> 0 | JB10: =SUM(IW10:JA10) -> 0 | JH10: =SUM(JC10:JG10) -> 0 | JN10: =SUM(JI10:JM10) -> 0 | JO10: =SUM(IW10,JC10,JI10) -> 0 | JP10: =SUM(IX10,JD10,JJ10) -> 0 | JQ10: =SUM(IY10,JE10,JK10) -> 0 | JR10: =SUM(IZ10,JF10,JL10) -> 0 | JS10: =SUM(JA10,JG10,JM10) -> 0 | JT10: =SUM(JO10:JS10) -> 0 | JV10: =SUM(N10,AL10,BK10,CK10,DT10,FQ10,HS10,IQ10,JO10) -> 0 | JW10: =SUM(O10,AM10,BL10,CL10,DU10,FR10,HT10,IR10,JP10) -> 0 | JX10: =SUM(P10,AN10,BM10,CM10,DV10,FS10,HU10,IS10,JQ10) -> 0 | JY10: =SUM(Q10,AO10,BN10,CN10,DW10,FT10,HV10,IT10,JR10) -> 0 | JZ10: =SUM(R10,AP10,BO10,CO10,DX10,FU10,HW10,IU10,JS10) -> 0 | KA10: =SUM(BP10,CP10,DY10) -> 0 | KB10: =SUM(JV10:KA10) -> 0
A11: IBP = Twig Beetle | G11: =SUM(B11:F11) -> 0 | M11: =SUM(H11:L11) -> 0 | N11: =SUM(B11,H11) -> 0 | O11: =SUM(C11,I11) -> 0 | P11: =SUM(D11,J11) -> 0 | Q11: =SUM(E11,K11) -> 0 | R11: =SUM(F11,L11) -> 0 | S11: =SUM(N11:R11) -> 0 | Y11: =SUM(T11:X11) -> 0 | AE11: =SUM(Z11:AD11) -> 0 | AK11: =SUM(AF11:AJ11) -> 0 | AL11: =SUM(T11,Z11,AF11) -> 0 | AM11: =SUM(U11,AA11,AG11) -> 0 | AN11: =SUM(V11,AB11,AH11) -> 0 | AO11: =SUM(W11,AC11,AI11) -> 0 | AP11: =SUM(X11,AD11,AJ11) -> 0 | AQ11: =SUM(AL11:AP11) -> 0 | AW11: =SUM(AR11:AV11) -> 0 | BD11: =SUM(AX11:BC11) -> 0 | BJ11: =SUM(BE11:BI11) -> 0 | BK11: =SUM(AR11,AX11,BE11) -> 0 | BL11: =SUM(AS11,AY11,BF11) -> 0 | BM11: =SUM(AT11,AZ11,BG11) -> 0 | BN11: =SUM(AU11,BA11,BH11) -> 0 | BO11: =SUM(AV11,BB11,BI11) -> 0 | BP11: =SUM(BC11) -> 0 | BQ11: =SUM(BK11:BP11) -> 0 | BW11: =SUM(BR11:BV11) -> 0 | CC11: =SUM(BX11:CB11) -> 0 | CJ11: =SUM(CD11:CI11) -> 0 | CK11: =SUM(BR11,BX11,CD11) -> 0 | CL11: =SUM(BS11,BY11,CE11) -> 0 | CM11: =SUM(BT11,BZ11,CF11) -> 0 | CN11: =SUM(BU11,CA11,CG11) -> 0 | CO11: =SUM(BV11,CB11,CH11) -> 0 | CP11: =SUM(CI11) -> 0 | CQ11: =SUM(CK11:CP11) -> 0 | CX11: =SUM(CR11:CW11) -> 0 | DE11: =SUM(CY11:DD11) -> 0 | DL11: =SUM(DF11:DK11) -> 0 | DS11: =SUM(DM11:DR11) -> 0 | DT11: =SUM(CR11,CY11,DF11,DM11) -> 0 | DU11: =SUM(CS11,CZ11,DG11,DN11) -> 0 | DV11: =SUM(CT11,DA11,DH11,DO11) -> 0 | DW11: =SUM(CU11,DB11,DI11,DP11) -> 0 | DX11: =SUM(CV11,DC11,DJ11,DQ11) -> 0 | DY11: =SUM(CW11,DD11,DK11,DR11) -> 0 | DZ11: =SUM(DT11:DY11) -> 0 | EF11: =SUM(EA11:EE11) -> 0 | EL11: =SUM(EG11:EK11) -> 0 | ER11: =SUM(EM11:EQ11) -> 0 | EX11: =SUM(ES11:EW11) -> 0 | FD11: =SUM(EY11:FC11) -> 0 | FJ11: =SUM(FE11:FI11) -> 0 | FP11: =SUM(FK11:FO11) -> 0 | FQ11: =SUM(EA11,EG11,EM11,ES11,EY11,FE11,FK11) -> 0 | FR11: =SUM(EB11,EH11,EN11,ET11,EZ11,FF11,FL11) -> 0 | FS11: =SUM(EC11,EI11,EO11,EU11,FA11,FG11,FM11) -> 0 | FT11: =SUM(ED11,EJ11,EP11,EV11,FB11,FH11,FN11) -> 0 | FU11: =SUM(EE11,EK11,EQ11,EW11,FC11,FI11,FO11) -> 0 | FV11: =SUM(FQ11:FU11) -> 0 | GB11: =SUM(FW11:GA11) -> 0 | GH11: =SUM(GC11:GG11) -> 0 | GN11: =SUM(GI11:GM11) -> 0 | GT11: =SUM(GO11:GS11) -> 0 | GZ11: =SUM(GU11:GY11) -> 0 | HF11: =SUM(HA11:HE11) -> 0 | HL11: =SUM(HG11:HK11) -> 0 | HR11: =SUM(HM11:HQ11) -> 0 | HS11: =SUM(FW11,GC11,GI11,GO11,GU11,HA11,HG11,HM11) -> 0 | HT11: =SUM(FX11,GD11,GJ11,GP11,GV11,HB11,HH11,HN11) -> 0 | HU11: =SUM(HO11,HI11,HC11,GW11,GQ11,GK11,GE11,FY11) -> 0 | HV11: =SUM(HP11,HJ11,HD11,GX11,GR11,GL11,GF11,FZ11) -> 0 | HW11: =SUM(HQ11,HK11,HE11,GY11,GS11,GM11,GG11,GA11) -> 0 | HX11: =SUM(HS11:HW11) -> 0 | ID11: =SUM(HY11:IC11) -> 0 | IJ11: =SUM(IE11:II11) -> 0 | IP11: =SUM(IK11:IO11) -> 0 | IQ11: =SUM(HY11,IE11,IK11) -> 0 | IR11: =SUM(HZ11,IF11,IL11) -> 0 | IS11: =SUM(IA11,IG11,IM11) -> 0 | IT11: =SUM(IB11,IH11,IN11) -> 0 | IU11: =SUM(IC11,II11,IO11) -> 0 | IV11: =SUM(IQ11:IU11) -> 0 | JB11: =SUM(IW11:JA11) -> 0 | JH11: =SUM(JC11:JG11) -> 0 | JN11: =SUM(JI11:JM11) -> 0 | JO11: =SUM(IW11,JC11,JI11) -> 0 | JP11: =SUM(IX11,JD11,JJ11) -> 0 | JQ11: =SUM(IY11,JE11,JK11) -> 0 | JR11: =SUM(IZ11,JF11,JL11) -> 0 | JS11: =SUM(JA11,JG11,JM11) -> 0 | JT11: =SUM(JO11:JS11) -> 0 | JV11: =SUM(N11,AL11,BK11,CK11,DT11,FQ11,HS11,IQ11,JO11) -> 0 | JW11: =SUM(O11,AM11,BL11,CL11,DU11,FR11,HT11,IR11,JP11) -> 0 | JX11: =SUM(P11,AN11,BM11,CM11,DV11,FS11,HU11,IS11,JQ11) -> 0 | JY11: =SUM(Q11,AO11,BN11,CN11,DW11,FT11,HV11,IT11,JR11) -> 0 | JZ11: =SUM(R11,AP11,BO11,CO11,DX11,FU11,HW11,IU11,JS11) -> 0 | KA11: =SUM(BP11,CP11,DY11) -> 0 | KB11: =SUM(JV11:KA11) -> 0
A12: IBI=Engraver Beetle (Ips species) | G12: =SUM(B12:F12) -> 0 | M12: =SUM(H12:L12) -> 0 | N12: =SUM(B12,H12) -> 0 | O12: =SUM(C12,I12) -> 0 | P12: =SUM(D12,J12) -> 0 | Q12: =SUM(E12,K12) -> 0 | R12: =SUM(F12,L12) -> 0 | S12: =SUM(N12:R12) -> 0 | Y12: =SUM(T12:X12) -> 0 | AE12: =SUM(Z12:AD12) -> 0 | AK12: =SUM(AF12:AJ12) -> 0 | AL12: =SUM(T12,Z12,AF12) -> 0 | AM12: =SUM(U12,AA12,AG12) -> 0 | AN12: =SUM(V12,AB12,AH12) -> 0 | AO12: =SUM(W12,AC12,AI12) -> 0 | AP12: =SUM(X12,AD12,AJ12) -> 0 | AQ12: =SUM(AL12:AP12) -> 0 | AW12: =SUM(AR12:AV12) -> 0 | BD12: =SUM(AX12:BC12) -> 0 | BJ12: =SUM(BE12:BI12) -> 0 | BK12: =SUM(AR12,AX12,BE12) -> 0 | BL12: =SUM(AS12,AY12,BF12) -> 0 | BM12: =SUM(AT12,AZ12,BG12) -> 0 | BN12: =SUM(AU12,BA12,BH12) -> 0 | BO12: =SUM(AV12,BB12,BI12) -> 0 | BP12: =SUM(BC12) -> 0 | BQ12: =SUM(BK12:BP12) -> 0 | BW12: =SUM(BR12:BV12) -> 0 | CC12: =SUM(BX12:CB12) -> 0 | CJ12: =SUM(CD12:CI12) -> 0 | CK12: =SUM(BR12,BX12,CD12) -> 0 | CL12: =SUM(BS12,BY12,CE12) -> 0 | CM12: =SUM(BT12,BZ12,CF12) -> 0 | CN12: =SUM(BU12,CA12,CG12) -> 0 | CO12: =SUM(BV12,CB12,CH12) -> 0 | CP12: =SUM(CI12) -> 0 | CQ12: =SUM(CK12:CP12) -> 0 | CX12: =SUM(CR12:CW12) -> 0 | DE12: =SUM(CY12:DD12) -> 0 | DL12: =SUM(DF12:DK12) -> 0 | DS12: =SUM(DM12:DR12) -> 0 | DT12: =SUM(CR12,CY12,DF12,DM12) -> 0 | DU12: =SUM(CS12,CZ12,DG12,DN12) -> 0 | DV12: =SUM(CT12,DA12,DH12,DO12) -> 0 | DW12: =SUM(CU12,DB12,DI12,DP12) -> 0 | DX12: =SUM(CV12,DC12,DJ12,DQ12) -> 0 | DY12: =SUM(CW12,DD12,DK12,DR12) -> 0 | DZ12: =SUM(DT12:DY12) -> 0 | EF12: =SUM(EA12:EE12) -> 0 | EL12: =SUM(EG12:EK12) -> 0 | ER12: =SUM(EM12:EQ12) -> 0 | EX12: =SUM(ES12:EW12) -> 0 | FD12: =SUM(EY12:FC12) -> 0 | FJ12: =SUM(FE12:FI12) -> 0 | FP12: =SUM(FK12:FO12) -> 0 | FQ12: =SUM(EA12,EG12,EM12,ES12,EY12,FE12,FK12) -> 0 | FR12: =SUM(EB12,EH12,EN12,ET12,EZ12,FF12,FL12) -> 0 | FS12: =SUM(EC12,EI12,EO12,EU12,FA12,FG12,FM12) -> 0 | FT12: =SUM(ED12,EJ12,EP12,EV12,FB12,FH12,FN12) -> 0 | FU12: =SUM(EE12,EK12,EQ12,EW12,FC12,FI12,FO12) -> 0 | FV12: =SUM(FQ12:FU12) -> 0 | GB12: =SUM(FW12:GA12) -> 0 | GH12: =SUM(GC12:GG12) -> 0 | GN12: =SUM(GI12:GM12) -> 0 | GT12: =SUM(GO12:GS12) -> 0 | GZ12: =SUM(GU12:GY12) -> 0 | HF12: =SUM(HA12:HE12) -> 0 | HL12: =SUM(HG12:HK12) -> 0 | HR12: =SUM(HM12:HQ12) -> 0 | HS12: =SUM(FW12,GC12,GI12,GO12,GU12,HA12,HG12,HM12) -> 0 | HT12: =SUM(FX12,GD12,GJ12,GP12,GV12,HB12,HH12,HN12) -> 0 | HU12: =SUM(HO12,HI12,HC12,GW12,GQ12,GK12,GE12,FY12) -> 0 | HV12: =SUM(HP12,HJ12,HD12,GX12,GR12,GL12,GF12,FZ12) -> 0 | HW12: =SUM(HQ12,HK12,HE12,GY12,GS12,GM12,GG12,GA12) -> 0 | HX12: =SUM(HS12:HW12) -> 0 | ID12: =SUM(HY12:IC12) -> 0 | IJ12: =SUM(IE12:II12) -> 0 | IP12: =SUM(IK12:IO12) -> 0 | IQ12: =SUM(HY12,IE12,IK12) -> 0 | IR12: =SUM(HZ12,IF12,IL12) -> 0 | IS12: =SUM(IA12,IG12,IM12) -> 0 | IT12: =SUM(IB12,IH12,IN12) -> 0 | IU12: =SUM(IC12,II12,IO12) -> 0 | IV12: =SUM(IQ12:IU12) -> 0 | JB12: =SUM(IW12:JA12) -> 0 | JH12: =SUM(JC12:JG12) -> 0 | JN12: =SUM(JI12:JM12) -> 0 | JO12: =SUM(IW12,JC12,JI12) -> 0 | JP12: =SUM(IX12,JD12,JJ12) -> 0 | JQ12: =SUM(IY12,JE12,JK12) -> 0 | JR12: =SUM(IZ12,JF12,JL12) -> 0 | JS12: =SUM(JA12,JG12,JM12) -> 0 | JT12: =SUM(JO12:JS12) -> 0 | JV12: =SUM(N12,AL12,BK12,CK12,DT12,FQ12,HS12,IQ12,JO12) -> 0 | JW12: =SUM(O12,AM12,BL12,CL12,DU12,FR12,HT12,IR12,JP12) -> 0 | JX12: =SUM(P12,AN12,BM12,CM12,DV12,FS12,HU12,IS12,JQ12) -> 0 | JY12: =SUM(Q12,AO12,BN12,CN12,DW12,FT12,HV12,IT12,JR12) -> 0 | JZ12: =SUM(R12,AP12,BO12,CO12,DX12,FU12,HW12,IU12,JS12) -> 0 | KA12: =SUM(BP12,CP12,DY12) -> 0 | KB12: =SUM(JV12:KA12) -> 0
A13: IBW=Western Pine Beetle | G13: =SUM(B13:F13) -> 0 | M13: =SUM(H13:L13) -> 0 | N13: =SUM(B13,H13) -> 0 | O13: =SUM(C13,I13) -> 0 | P13: =SUM(D13,J13) -> 0 | Q13: =SUM(E13,K13) -> 0 | R13: =SUM(F13,L13) -> 0 | S13: =SUM(N13:R13) -> 0 | Y13: =SUM(T13:X13) -> 0 | AE13: =SUM(Z13:AD13) -> 0 | AK13: =SUM(AF13:AJ13) -> 0 | AL13: =SUM(T13,Z13,AF13) -> 0 | AM13: =SUM(U13,AA13,AG13) -> 0 | AN13: =SUM(V13,AB13,AH13) -> 0 | AO13: =SUM(W13,AC13,AI13) -> 0 | AP13: =SUM(X13,AD13,AJ13) -> 0 | AQ13: =SUM(AL13:AP13) -> 0 | AW13: =SUM(AR13:AV13) -> 0 | BD13: =SUM(AX13:BC13) -> 0 | BJ13: =SUM(BE13:BI13) -> 0 | BK13: =SUM(AR13,AX13,BE13) -> 0 | BL13: =SUM(AS13,AY13,BF13) -> 0 | BM13: =SUM(AT13,AZ13,BG13) -> 0 | BN13: =SUM(AU13,BA13,BH13) -> 0 | BO13: =SUM(AV13,BB13,BI13) -> 0 | BP13: =SUM(BC13) -> 0 | BQ13: =SUM(BK13:BP13) -> 0 | BW13: =SUM(BR13:BV13) -> 0 | CC13: =SUM(BX13:CB13) -> 0 | CJ13: =SUM(CD13:CI13) -> 0 | CK13: =SUM(BR13,BX13,CD13) -> 0 | CL13: =SUM(BS13,BY13,CE13) -> 0 | CM13: =SUM(BT13,BZ13,CF13) -> 0 | CN13: =SUM(BU13,CA13,CG13) -> 0 | CO13: =SUM(BV13,CB13,CH13) -> 0 | CP13: =SUM(CI13) -> 0 | CQ13: =SUM(CK13:CP13) -> 0 | CX13: =SUM(CR13:CW13) -> 0 | DB13: 0.5 | DE13: =SUM(CY13:DD13) -> 0.5 | DI13: 0.25 | DL13: =SUM(DF13:DK13) -> 0.25 | DP13: 1.25 | DS13: =SUM(DM13:DR13) -> 1.25 | DT13: =SUM(CR13,CY13,DF13,DM13) -> 0 | DU13: =SUM(CS13,CZ13,DG13,DN13) -> 0 | DV13: =SUM(CT13,DA13,DH13,DO13) -> 0 | DW13: =SUM(CU13,DB13,DI13,DP13) -> 2 | DX13: =SUM(CV13,DC13,DJ13,DQ13) -> 0 | DY13: =SUM(CW13,DD13,DK13,DR13) -> 0 | DZ13: =SUM(DT13:DY13) -> 2 | EC13: 41.23 | ED13: 2 | EF13: =SUM(EA13:EE13) -> 43.23 | EJ13: 2.25 | EL13: =SUM(EG13:EK13) -> 2.25 | EP13: 0.75 | ER13: =SUM(EM13:EQ13) -> 0.75 | EX13: =SUM(ES13:EW13) -> 0 | FB13: 1 | FD13: =SUM(EY13:FC13) -> 1 | FG13: 10.062297 | FH13: 3 | FJ13: =SUM(FE13:FI13) -> 13.062297 | FP13: =SUM(FK13:FO13) -> 0 | FQ13: =SUM(EA13,EG13,EM13,ES13,EY13,FE13,FK13) -> 0 | FR13: =SUM(EB13,EH13,EN13,ET13,EZ13,FF13,FL13) -> 0 | FS13: =SUM(EC13,EI13,EO13,EU13,FA13,FG13,FM13) -> 51.292297 | FT13: =SUM(ED13,EJ13,EP13,EV13,FB13,FH13,FN13) -> 9 | FU13: =SUM(EE13,EK13,EQ13,EW13,FC13,FI13,FO13) -> 0 | FV13: =SUM(FQ13:FU13) -> 60.292297 | GB13: =SUM(FW13:GA13) -> 0 | GH13: =SUM(GC13:GG13) -> 0 | GN13: =SUM(GI13:GM13) -> 0 | GT13: =SUM(GO13:GS13) -> 0 | GZ13: =SUM(GU13:GY13) -> 0 | HF13: =SUM(HA13:HE13) -> 0 | HL13: =SUM(HG13:HK13) -> 0 | HR13: =SUM(HM13:HQ13) -> 0 | HS13: =SUM(FW13,GC13,GI13,GO13,GU13,HA13,HG13,HM13) -> 0 | HT13: =SUM(FX13,GD13,GJ13,GP13,GV13,HB13,HH13,HN13) -> 0 | HU13: =SUM(HO13,HI13,HC13,GW13,GQ13,GK13,GE13,FY13) -> 0 | HV13: =SUM(HP13,HJ13,HD13,GX13,GR13,GL13,GF13,FZ13) -> 0 | HW13: =SUM(HQ13,HK13,HE13,GY13,GS13,GM13,GG13,GA13) -> 0 | HX13: =SUM(HS13:HW13) -> 0 | ID13: =SUM(HY13:IC13) -> 0 | IJ13: =SUM(IE13:II13) -> 0 | IP13: =SUM(IK13:IO13) -> 0 | IQ13: =SUM(HY13,IE13,IK13) -> 0 | IR13: =SUM(HZ13,IF13,IL13) -> 0 | IS13: =SUM(IA13,IG13,IM13) -> 0 | IT13: =SUM(IB13,IH13,IN13) -> 0 | IU13: =SUM(IC13,II13,IO13) -> 0 | IV13: =SUM(IQ13:IU13) -> 0 | JB13: =SUM(IW13:JA13) -> 0 | JH13: =SUM(JC13:JG13) -> 0 | JN13: =SUM(JI13:JM13) -> 0 | JO13: =SUM(IW13,JC13,JI13) -> 0 | JP13: =SUM(IX13,JD13,JJ13) -> 0 | JQ13: =SUM(IY13,JE13,JK13) -> 0 | JR13: =SUM(IZ13,JF13,JL13) -> 0 | JS13: =SUM(JA13,JG13,JM13) -> 0 | JT13: =SUM(JO13:JS13) -> 0 | JV13: =SUM(N13,AL13,BK13,CK13,DT13,FQ13,HS13,IQ13,JO13) -> 0 | JW13: =SUM(O13,AM13,BL13,CL13,DU13,FR13,HT13,IR13,JP13) -> 0 | JX13: =SUM(P13,AN13,BM13,CM13,DV13,FS13,HU13,IS13,JQ13) -> 51.292297 | JY13: =SUM(Q13,AO13,BN13,CN13,DW13,FT13,HV13,IT13,JR13) -> 11 | JZ13: =SUM(R13,AP13,BO13,CO13,DX13,FU13,HW13,IU13,JS13) -> 0 | KA13: =SUM(BP13,CP13,DY13) -> 0 | KB13: =SUM(JV13:KA13) -> 62.292297
A14: IBL=Lodgepole Pine Beetle | G14: =SUM(B14:F14) -> 0 | M14: =SUM(H14:L14) -> 0 | N14: =SUM(B14,H14) -> 0 | O14: =SUM(C14,I14) -> 0 | P14: =SUM(D14,J14) -> 0 | Q14: =SUM(E14,K14) -> 0 | R14: =SUM(F14,L14) -> 0 | S14: =SUM(N14:R14) -> 0 | Y14: =SUM(T14:X14) -> 0 | AE14: =SUM(Z14:AD14) -> 0 | AK14: =SUM(AF14:AJ14) -> 0 | AL14: =SUM(T14,Z14,AF14) -> 0 | AM14: =SUM(U14,AA14,AG14) -> 0 | AN14: =SUM(V14,AB14,AH14) -> 0 | AO14: =SUM(W14,AC14,AI14) -> 0 | AP14: =SUM(X14,AD14,AJ14) -> 0 | AQ14: =SUM(AL14:AP14) -> 0 | AW14: =SUM(AR14:AV14) -> 0 | BD14: =SUM(AX14:BC14) -> 0 | BJ14: =SUM(BE14:BI14) -> 0 | BK14: =SUM(AR14,AX14,BE14) -> 0 | BL14: =SUM(AS14,AY14,BF14) -> 0 | BM14: =SUM(AT14,AZ14,BG14) -> 0 | BN14: =SUM(AU14,BA14,BH14) -> 0 | BO14: =SUM(AV14,BB14,BI14) -> 0 | BP14: =SUM(BC14) -> 0 | BQ14: =SUM(BK14:BP14) -> 0 | BW14: =SUM(BR14:BV14) -> 0 | CC14: =SUM(BX14:CB14) -> 0 | CJ14: =SUM(CD14:CI14) -> 0 | CK14: =SUM(BR14,BX14,CD14) -> 0 | CL14: =SUM(BS14,BY14,CE14) -> 0 | CM14: =SUM(BT14,BZ14,CF14) -> 0 | CN14: =SUM(BU14,CA14,CG14) -> 0 | CO14: =SUM(BV14,CB14,CH14) -> 0 | CP14: =SUM(CI14) -> 0 | CQ14: =SUM(CK14:CP14) -> 0 | CX14: =SUM(CR14:CW14) -> 0 | DE14: =SUM(CY14:DD14) -> 0 | DL14: =SUM(DF14:DK14) -> 0 | DS14: =SUM(DM14:DR14) -> 0 | DT14: =SUM(CR14,CY14,DF14,DM14) -> 0 | DU14: =SUM(CS14,CZ14,DG14,DN14) -> 0 | DV14: =SUM(CT14,DA14,DH14,DO14) -> 0 | DW14: =SUM(CU14,DB14,DI14,DP14) -> 0 | DX14: =SUM(CV14,DC14,DJ14,DQ14) -> 0 | DY14: =SUM(CW14,DD14,DK14,DR14) -> 0 | DZ14: =SUM(DT14:DY14) -> 0 | EF14: =SUM(EA14:EE14) -> 0 | EL14: =SUM(EG14:EK14) -> 0 | ER14: =SUM(EM14:EQ14) -> 0 | EX14: =SUM(ES14:EW14) -> 0 | FD14: =SUM(EY14:FC14) -> 0 | FJ14: =SUM(FE14:FI14) -> 0 | FP14: =SUM(FK14:FO14) -> 0 | FQ14: =SUM(EA14,EG14,EM14,ES14,EY14,FE14,FK14) -> 0 | FR14: =SUM(EB14,EH14,EN14,ET14,EZ14,FF14,FL14) -> 0 | FS14: =SUM(EC14,EI14,EO14,EU14,FA14,FG14,FM14) -> 0 | FT14: =SUM(ED14,EJ14,EP14,EV14,FB14,FH14,FN14) -> 0 | FU14: =SUM(EE14,EK14,EQ14,EW14,FC14,FI14,FO14) -> 0 | FV14: =SUM(FQ14:FU14) -> 0 | GB14: =SUM(FW14:GA14) -> 0 | GH14: =SUM(GC14:GG14) -> 0 | GN14: =SUM(GI14:GM14) -> 0 | GT14: =SUM(GO14:GS14) -> 0 | GZ14: =SUM(GU14:GY14) -> 0 | HF14: =SUM(HA14:HE14) -> 0 | HL14: =SUM(HG14:HK14) -> 0 | HR14: =SUM(HM14:HQ14) -> 0 | HS14: =SUM(FW14,GC14,GI14,GO14,GU14,HA14,HG14,HM14) -> 0 | HT14: =SUM(FX14,GD14,GJ14,GP14,GV14,HB14,HH14,HN14) -> 0 | HU14: =SUM(HO14,HI14,HC14,GW14,GQ14,GK14,GE14,FY14) -> 0 | HV14: =SUM(HP14,HJ14,HD14,GX14,GR14,GL14,GF14,FZ14) -> 0 | HW14: =SUM(HQ14,HK14,HE14,GY14,GS14,GM14,GG14,GA14) -> 0 | HX14: =SUM(HS14:HW14) -> 0 | ID14: =SUM(HY14:IC14) -> 0 | IJ14: =SUM(IE14:II14) -> 0 | IP14: =SUM(IK14:IO14) -> 0 | IQ14: =SUM(HY14,IE14,IK14) -> 0 | IR14: =SUM(HZ14,IF14,IL14) -> 0 | IS14: =SUM(IA14,IG14,IM14) -> 0 | IT14: =SUM(IB14,IH14,IN14) -> 0 | IU14: =SUM(IC14,II14,IO14) -> 0 | IV14: =SUM(IQ14:IU14) -> 0 | JB14: =SUM(IW14:JA14) -> 0 | JH14: =SUM(JC14:JG14) -> 0 | JN14: =SUM(JI14:JM14) -> 0 | JO14: =SUM(IW14,JC14,JI14) -> 0 | JP14: =SUM(IX14,JD14,JJ14) -> 0 | JQ14: =SUM(IY14,JE14,JK14) -> 0 | JR14: =SUM(IZ14,JF14,JL14) -> 0 | JS14: =SUM(JA14,JG14,JM14) -> 0 | JT14: =SUM(JO14:JS14) -> 0 | JV14: =SUM(N14,AL14,BK14,CK14,DT14,FQ14,HS14,IQ14,JO14) -> 0 | JW14: =SUM(O14,AM14,BL14,CL14,DU14,FR14,HT14,IR14,JP14) -> 0 | JX14: =SUM(P14,AN14,BM14,CM14,DV14,FS14,HU14,IS14,JQ14) -> 0 | JY14: =SUM(Q14,AO14,BN14,CN14,DW14,FT14,HV14,IT14,JR14) -> 0 | JZ14: =SUM(R14,AP14,BO14,CO14,DX14,FU14,HW14,IU14,JS14) -> 0 | KA14: =SUM(BP14,CP14,DY14) -> 0 | KB14: =SUM(JV14:KA14) -> 0
A15: IBT=Red Turpentine Beetle | G15: =SUM(B15:F15) -> 0 | M15: =SUM(H15:L15) -> 0 | N15: =SUM(B15,H15) -> 0 | O15: =SUM(C15,I15) -> 0 | P15: =SUM(D15,J15) -> 0 | Q15: =SUM(E15,K15) -> 0 | R15: =SUM(F15,L15) -> 0 | S15: =SUM(N15:R15) -> 0 | Y15: =SUM(T15:X15) -> 0 | AE15: =SUM(Z15:AD15) -> 0 | AK15: =SUM(AF15:AJ15) -> 0 | AL15: =SUM(T15,Z15,AF15) -> 0 | AM15: =SUM(U15,AA15,AG15) -> 0 | AN15: =SUM(V15,AB15,AH15) -> 0 | AO15: =SUM(W15,AC15,AI15) -> 0 | AP15: =SUM(X15,AD15,AJ15) -> 0 | AQ15: =SUM(AL15:AP15) -> 0 | AW15: =SUM(AR15:AV15) -> 0 | BD15: =SUM(AX15:BC15) -> 0 | BJ15: =SUM(BE15:BI15) -> 0 | BK15: =SUM(AR15,AX15,BE15) -> 0 | BL15: =SUM(AS15,AY15,BF15) -> 0 | BM15: =SUM(AT15,AZ15,BG15) -> 0 | BN15: =SUM(AU15,BA15,BH15) -> 0 | BO15: =SUM(AV15,BB15,BI15) -> 0 | BP15: =SUM(BC15) -> 0 | BQ15: =SUM(BK15:BP15) -> 0 | BW15: =SUM(BR15:BV15) -> 0 | CC15: =SUM(BX15:CB15) -> 0 | CJ15: =SUM(CD15:CI15) -> 0 | CK15: =SUM(BR15,BX15,CD15) -> 0 | CL15: =SUM(BS15,BY15,CE15) -> 0 | CM15: =SUM(BT15,BZ15,CF15) -> 0 | CN15: =SUM(BU15,CA15,CG15) -> 0 | CO15: =SUM(BV15,CB15,CH15) -> 0 | CP15: =SUM(CI15) -> 0 | CQ15: =SUM(CK15:CP15) -> 0 | CX15: =SUM(CR15:CW15) -> 0 | DE15: =SUM(CY15:DD15) -> 0 | DL15: =SUM(DF15:DK15) -> 0 | DS15: =SUM(DM15:DR15) -> 0 | DT15: =SUM(CR15,CY15,DF15,DM15) -> 0 | DU15: =SUM(CS15,CZ15,DG15,DN15) -> 0 | DV15: =SUM(CT15,DA15,DH15,DO15) -> 0 | DW15: =SUM(CU15,DB15,DI15,DP15) -> 0 | DX15: =SUM(CV15,DC15,DJ15,DQ15) -> 0 | DY15: =SUM(CW15,DD15,DK15,DR15) -> 0 | DZ15: =SUM(DT15:DY15) -> 0 | EF15: =SUM(EA15:EE15) -> 0 | EL15: =SUM(EG15:EK15) -> 0 | ER15: =SUM(EM15:EQ15) -> 0 | EX15: =SUM(ES15:EW15) -> 0 | FD15: =SUM(EY15:FC15) -> 0 | FJ15: =SUM(FE15:FI15) -> 0 | FP15: =SUM(FK15:FO15) -> 0 | FQ15: =SUM(EA15,EG15,EM15,ES15,EY15,FE15,FK15) -> 0 | FR15: =SUM(EB15,EH15,EN15,ET15,EZ15,FF15,FL15) -> 0 | FS15: =SUM(EC15,EI15,EO15,EU15,FA15,FG15,FM15) -> 0 | FT15: =SUM(ED15,EJ15,EP15,EV15,FB15,FH15,FN15) -> 0 | FU15: =SUM(EE15,EK15,EQ15,EW15,FC15,FI15,FO15) -> 0 | FV15: =SUM(FQ15:FU15) -> 0 | GB15: =SUM(FW15:GA15) -> 0 | GH15: =SUM(GC15:GG15) -> 0 | GN15: =SUM(GI15:GM15) -> 0 | GT15: =SUM(GO15:GS15) -> 0 | GZ15: =SUM(GU15:GY15) -> 0 | HF15: =SUM(HA15:HE15) -> 0 | HL15: =SUM(HG15:HK15) -> 0 | HR15: =SUM(HM15:HQ15) -> 0 | HS15: =SUM(FW15,GC15,GI15,GO15,GU15,HA15,HG15,HM15) -> 0 | HT15: =SUM(FX15,GD15,GJ15,GP15,GV15,HB15,HH15,HN15) -> 0 | HU15: =SUM(HO15,HI15,HC15,GW15,GQ15,GK15,GE15,FY15) -> 0 | HV15: =SUM(HP15,HJ15,HD15,GX15,GR15,GL15,GF15,FZ15) -> 0 | HW15: =SUM(HQ15,HK15,HE15,GY15,GS15,GM15,GG15,GA15) -> 0 | HX15: =SUM(HS15:HW15) -> 0 | ID15: =SUM(HY15:IC15) -> 0 | IJ15: =SUM(IE15:II15) -> 0 | IP15: =SUM(IK15:IO15) -> 0 | IQ15: =SUM(HY15,IE15,IK15) -> 0 | IR15: =SUM(HZ15,IF15,IL15) -> 0 | IS15: =SUM(IA15,IG15,IM15) -> 0 | IT15: =SUM(IB15,IH15,IN15) -> 0 | IU15: =SUM(IC15,II15,IO15) -> 0 | IV15: =SUM(IQ15:IU15) -> 0 | JB15: =SUM(IW15:JA15) -> 0 | JH15: =SUM(JC15:JG15) -> 0 | JN15: =SUM(JI15:JM15) -> 0 | JO15: =SUM(IW15,JC15,JI15) -> 0 | JP15: =SUM(IX15,JD15,JJ15) -> 0 | JQ15: =SUM(IY15,JE15,JK15) -> 0 | JR15: =SUM(IZ15,JF15,JL15) -> 0 | JS15: =SUM(JA15,JG15,JM15) -> 0 | JT15: =SUM(JO15:JS15) -> 0 | JV15: =SUM(N15,AL15,BK15,CK15,DT15,FQ15,HS15,IQ15,JO15) -> 0 | JW15: =SUM(O15,AM15,BL15,CL15,DU15,FR15,HT15,IR15,JP15) -> 0 | JX15: =SUM(P15,AN15,BM15,CM15,DV15,FS15,HU15,IS15,JQ15) -> 0 | JY15: =SUM(Q15,AO15,BN15,CN15,DW15,FT15,HV15,IT15,JR15) -> 0 | JZ15: =SUM(R15,AP15,BO15,CO15,DX15,FU15,HW15,IU15,JS15) -> 0 | KA15: =SUM(BP15,CP15,DY15) -> 0 | KB15: =SUM(JV15:KA15) -> 0
A16: IB=Unknown Bark Beetle Mortality | G16: =SUM(B16:F16) -> 0 | M16: =SUM(H16:L16) -> 0 | N16: =SUM(B16,H16) -> 0 | O16: =SUM(C16,I16) -> 0 | P16: =SUM(D16,J16) -> 0 | Q16: =SUM(E16,K16) -> 0 | R16: =SUM(F16,L16) -> 0 | S16: =SUM(N16:R16) -> 0 | Y16: =SUM(T16:X16) -> 0 | AE16: =SUM(Z16:AD16) -> 0 | AK16: =SUM(AF16:AJ16) -> 0 | AL16: =SUM(T16,Z16,AF16) -> 0 | AM16: =SUM(U16,AA16,AG16) -> 0 | AN16: =SUM(V16,AB16,AH16) -> 0 | AO16: =SUM(W16,AC16,AI16) -> 0 | AP16: =SUM(X16,AD16,AJ16) -> 0 | AQ16: =SUM(AL16:AP16) -> 0 | AW16: =SUM(AR16:AV16) -> 0 | BD16: =SUM(AX16:BC16) -> 0 | BJ16: =SUM(BE16:BI16) -> 0 | BK16: =SUM(AR16,AX16,BE16) -> 0 | BL16: =SUM(AS16,AY16,BF16) -> 0 | BM16: =SUM(AT16,AZ16,BG16) -> 0 | BN16: =SUM(AU16,BA16,BH16) -> 0 | BO16: =SUM(AV16,BB16,BI16) -> 0 | BP16: =SUM(BC16) -> 0 | BQ16: =SUM(BK16:BP16) -> 0 | BW16: =SUM(BR16:BV16) -> 0 | CC16: =SUM(BX16:CB16) -> 0 | CJ16: =SUM(CD16:CI16) -> 0 | CK16: =SUM(BR16,BX16,CD16) -> 0 | CL16: =SUM(BS16,BY16,CE16) -> 0 | CM16: =SUM(BT16,BZ16,CF16) -> 0 | CN16: =SUM(BU16,CA16,CG16) -> 0 | CO16: =SUM(BV16,CB16,CH16) -> 0 | CP16: =SUM(CI16) -> 0 | CQ16: =SUM(CK16:CP16) -> 0 | CX16: =SUM(CR16:CW16) -> 0 | DE16: =SUM(CY16:DD16) -> 0 | DL16: =SUM(DF16:DK16) -> 0 | DS16: =SUM(DM16:DR16) -> 0 | DT16: =SUM(CR16,CY16,DF16,DM16) -> 0 | DU16: =SUM(CS16,CZ16,DG16,DN16) -> 0 | DV16: =SUM(CT16,DA16,DH16,DO16) -> 0 | DW16: =SUM(CU16,DB16,DI16,DP16) -> 0 | DX16: =SUM(CV16,DC16,DJ16,DQ16) -> 0 | DY16: =SUM(CW16,DD16,DK16,DR16) -> 0 | DZ16: =SUM(DT16:DY16) -> 0 | EF16: =SUM(EA16:EE16) -> 0 | EL16: =SUM(EG16:EK16) -> 0 | ER16: =SUM(EM16:EQ16) -> 0 | EX16: =SUM(ES16:EW16) -> 0 | FD16: =SUM(EY16:FC16) -> 0 | FJ16: =SUM(FE16:FI16) -> 0 | FP16: =SUM(FK16:FO16) -> 0 | FQ16: =SUM(EA16,EG16,EM16,ES16,EY16,FE16,FK16) -> 0 | FR16: =SUM(EB16,EH16,EN16,ET16,EZ16,FF16,FL16) -> 0 | FS16: =SUM(EC16,EI16,EO16,EU16,FA16,FG16,FM16) -> 0 | FT16: =SUM(ED16,EJ16,EP16,EV16,FB16,FH16,FN16) -> 0 | FU16: =SUM(EE16,EK16,EQ16,EW16,FC16,FI16,FO16) -> 0 | FV16: =SUM(FQ16:FU16) -> 0 | GB16: =SUM(FW16:GA16) -> 0 | GH16: =SUM(GC16:GG16) -> 0 | GN16: =SUM(GI16:GM16) -> 0 | GT16: =SUM(GO16:GS16) -> 0 | GZ16: =SUM(GU16:GY16) -> 0 | HF16: =SUM(HA16:HE16) -> 0 | HL16: =SUM(HG16:HK16) -> 0 | HR16: =SUM(HM16:HQ16) -> 0 | HS16: =SUM(FW16,GC16,GI16,GO16,GU16,HA16,HG16,HM16) -> 0 | HT16: =SUM(FX16,GD16,GJ16,GP16,GV16,HB16,HH16,HN16) -> 0 | HU16: =SUM(HO16,HI16,HC16,GW16,GQ16,GK16,GE16,FY16) -> 0 | HV16: =SUM(HP16,HJ16,HD16,GX16,GR16,GL16,GF16,FZ16) -> 0 | HW16: =SUM(HQ16,HK16,HE16,GY16,GS16,GM16,GG16,GA16) -> 0 | HX16: =SUM(HS16:HW16) -> 0 | ID16: =SUM(HY16:IC16) -> 0 | IJ16: =SUM(IE16:II16) -> 0 | IP16: =SUM(IK16:IO16) -> 0 | IQ16: =SUM(HY16,IE16,IK16) -> 0 | IR16: =SUM(HZ16,IF16,IL16) -> 0 | IS16: =SUM(IA16,IG16,IM16) -> 0 | IT16: =SUM(IB16,IH16,IN16) -> 0 | IU16: =SUM(IC16,II16,IO16) -> 0 | IV16: =SUM(IQ16:IU16) -> 0 | JB16: =SUM(IW16:JA16) -> 0 | JC16: 54.119169 | JH16: =SUM(JC16:JG16) -> 54.119169 | JN16: =SUM(JI16:JM16) -> 0 | JO16: =SUM(IW16,JC16,JI16) -> 54.119169 | JP16: =SUM(IX16,JD16,JJ16) -> 0 | JQ16: =SUM(IY16,JE16,JK16) -> 0 | JR16: =SUM(IZ16,JF16,JL16) -> 0 | JS16: =SUM(JA16,JG16,JM16) -> 0 | JT16: =SUM(JO16:JS16) -> 54.119169 | JV16: =SUM(N16,AL16,BK16,CK16,DT16,FQ16,HS16,IQ16,JO16) -> 54.119169 | JW16: =SUM(O16,AM16,BL16,CL16,DU16,FR16,HT16,IR16,JP16) -> 0 | JX16: =SUM(P16,AN16,BM16,CM16,DV16,FS16,HU16,IS16,JQ16) -> 0 | JY16: =SUM(Q16,AO16,BN16,CN16,DW16,FT16,HV16,IT16,JR16) -> 0 | JZ16: =SUM(R16,AP16,BO16,CO16,DX16,FU16,HW16,IU16,JS16) -> 0 | KA16: =SUM(BP16,CP16,DY16) -> 0 | KB16: =SUM(JV16:KA16) -> 54.119169
A17: IWW=Warrens Root Collar Weevil | G17: =SUM(B17:F17) -> 0 | M17: =SUM(H17:L17) -> 0 | N17: =SUM(B17,H17) -> 0 | O17: =SUM(C17,I17) -> 0 | P17: =SUM(D17,J17) -> 0 | Q17: =SUM(E17,K17) -> 0 | R17: =SUM(F17,L17) -> 0 | S17: =SUM(N17:R17) -> 0 | Y17: =SUM(T17:X17) -> 0 | AE17: =SUM(Z17:AD17) -> 0 | AK17: =SUM(AF17:AJ17) -> 0 | AL17: =SUM(T17,Z17,AF17) -> 0 | AM17: =SUM(U17,AA17,AG17) -> 0 | AN17: =SUM(V17,AB17,AH17) -> 0 | AO17: =SUM(W17,AC17,AI17) -> 0 | AP17: =SUM(X17,AD17,AJ17) -> 0 | AQ17: =SUM(AL17:AP17) -> 0 | AW17: =SUM(AR17:AV17) -> 0 | BD17: =SUM(AX17:BC17) -> 0 | BJ17: =SUM(BE17:BI17) -> 0 | BK17: =SUM(AR17,AX17,BE17) -> 0 | BL17: =SUM(AS17,AY17,BF17) -> 0 | BM17: =SUM(AT17,AZ17,BG17) -> 0 | BN17: =SUM(AU17,BA17,BH17) -> 0 | BO17: =SUM(AV17,BB17,BI17) -> 0 | BP17: =SUM(BC17) -> 0 | BQ17: =SUM(BK17:BP17) -> 0 | BW17: =SUM(BR17:BV17) -> 0 | CC17: =SUM(BX17:CB17) -> 0 | CJ17: =SUM(CD17:CI17) -> 0 | CK17: =SUM(BR17,BX17,CD17) -> 0 | CL17: =SUM(BS17,BY17,CE17) -> 0 | CM17: =SUM(BT17,BZ17,CF17) -> 0 | CN17: =SUM(BU17,CA17,CG17) -> 0 | CO17: =SUM(BV17,CB17,CH17) -> 0 | CP17: =SUM(CI17) -> 0 | CQ17: =SUM(CK17:CP17) -> 0 | CX17: =SUM(CR17:CW17) -> 0 | DE17: =SUM(CY17:DD17) -> 0 | DL17: =SUM(DF17:DK17) -> 0 | DS17: =SUM(DM17:DR17) -> 0 | DT17: =SUM(CR17,CY17,DF17,DM17) -> 0 | DU17: =SUM(CS17,CZ17,DG17,DN17) -> 0 | DV17: =SUM(CT17,DA17,DH17,DO17) -> 0 | DW17: =SUM(CU17,DB17,DI17,DP17) -> 0 | DX17: =SUM(CV17,DC17,DJ17,DQ17) -> 0 | DY17: =SUM(CW17,DD17,DK17,DR17) -> 0 | DZ17: =SUM(DT17:DY17) -> 0 | EF17: =SUM(EA17:EE17) -> 0 | EL17: =SUM(EG17:EK17) -> 0 | ER17: =SUM(EM17:EQ17) -> 0 | EX17: =SUM(ES17:EW17) -> 0 | FD17: =SUM(EY17:FC17) -> 0 | FJ17: =SUM(FE17:FI17) -> 0 | FP17: =SUM(FK17:FO17) -> 0 | FQ17: =SUM(EA17,EG17,EM17,ES17,EY17,FE17,FK17) -> 0 | FR17: =SUM(EB17,EH17,EN17,ET17,EZ17,FF17,FL17) -> 0 | FS17: =SUM(EC17,EI17,EO17,EU17,FA17,FG17,FM17) -> 0 | FT17: =SUM(ED17,EJ17,EP17,EV17,FB17,FH17,FN17) -> 0 | FU17: =SUM(EE17,EK17,EQ17,EW17,FC17,FI17,FO17) -> 0 | FV17: =SUM(FQ17:FU17) -> 0 | GB17: =SUM(FW17:GA17) -> 0 | GH17: =SUM(GC17:GG17) -> 0 | GN17: =SUM(GI17:GM17) -> 0 | GT17: =SUM(GO17:GS17) -> 0 | GZ17: =SUM(GU17:GY17) -> 0 | HF17: =SUM(HA17:HE17) -> 0 | HL17: =SUM(HG17:HK17) -> 0 | HR17: =SUM(HM17:HQ17) -> 0 | HS17: =SUM(FW17,GC17,GI17,GO17,GU17,HA17,HG17,HM17) -> 0 | HT17: =SUM(FX17,GD17,GJ17,GP17,GV17,HB17,HH17,HN17) -> 0 | HU17: =SUM(HO17,HI17,HC17,GW17,GQ17,GK17,GE17,FY17) -> 0 | HV17: =SUM(HP17,HJ17,HD17,GX17,GR17,GL17,GF17,FZ17) -> 0 | HW17: =SUM(HQ17,HK17,HE17,GY17,GS17,GM17,GG17,GA17) -> 0 | HX17: =SUM(HS17:HW17) -> 0 | ID17: =SUM(HY17:IC17) -> 0 | IJ17: =SUM(IE17:II17) -> 0 | IP17: =SUM(IK17:IO17) -> 0 | IQ17: =SUM(HY17,IE17,IK17) -> 0 | IR17: =SUM(HZ17,IF17,IL17) -> 0 | IS17: =SUM(IA17,IG17,IM17) -> 0 | IT17: =SUM(IB17,IH17,IN17) -> 0 | IU17: =SUM(IC17,II17,IO17) -> 0 | IV17: =SUM(IQ17:IU17) -> 0 | JB17: =SUM(IW17:JA17) -> 0 | JH17: =SUM(JC17:JG17) -> 0 | JN17: =SUM(JI17:JM17) -> 0 | JO17: =SUM(IW17,JC17,JI17) -> 0 | JP17: =SUM(IX17,JD17,JJ17) -> 0 | JQ17: =SUM(IY17,JE17,JK17) -> 0 | JR17: =SUM(IZ17,JF17,JL17) -> 0 | JS17: =SUM(JA17,JG17,JM17) -> 0 | JT17: =SUM(JO17:JS17) -> 0 | JV17: =SUM(N17,AL17,BK17,CK17,DT17,FQ17,HS17,IQ17,JO17) -> 0 | JW17: =SUM(O17,AM17,BL17,CL17,DU17,FR17,HT17,IR17,JP17) -> 0 | JX17: =SUM(P17,AN17,BM17,CM17,DV17,FS17,HU17,IS17,JQ17) -> 0 | JY17: =SUM(Q17,AO17,BN17,CN17,DW17,FT17,HV17,IT17,JR17) -> 0 | JZ17: =SUM(R17,AP17,BO17,CO17,DX17,FU17,HW17,IU17,JS17) -> 0 | KA17: =SUM(BP17,CP17,DY17) -> 0 | KB17: =SUM(JV17:KA17) -> 0
A18: Total All BB= | B18: =SUM(B6:B17) -> 62417.567 | C18: =SUM(C6:C17) -> 18278.489 | D18: =SUM(D6:D17) -> 56.687933 | E18: =SUM(E6:E17) -> 11.25 | F18: =SUM(F6:F17) -> 0 | G18: =SUM(G6:G17) -> 80763.993 | H18: =SUM(H6:H17) -> 350.46973 | I18: =SUM(I6:I17) -> 0 | ... JT18: =SUM(JT6:JT17) -> 427754 | JV18: =SUM(JV6:JV17) -> 3199997.9 | JW18: =SUM(JW6:JW17) -> 704649.28 | JX18: =SUM(JX6:JX17) -> 118474.5 | JY18: =SUM(JY6:JY17) -> 13880.696 | JZ18: =SUM(JZ6:JZ17) -> 1104.6275 | KA18: =SUM(KA6:KA17) -> 0 | KB18: =SUM(KB6:KB17) -> 4038107
A20: Defoliators
A21: ID=Defoliators | E21: 14.472746 | G21: =SUM(B21:F21) -> 14.472746 | M21: =SUM(H21:L21) -> 0 | N21: =SUM(B21,H21) -> 0 | O21: =SUM(C21,I21) -> 0 | P21: =SUM(D21,J21) -> 0 | Q21: =SUM(E21,K21) -> 14.472746 | R21: =SUM(F21,L21) -> 0 | S21: =SUM(N21:R21) -> 14.472746 | Y21: =SUM(T21:X21) -> 0 | AE21: =SUM(Z21:AD21) -> 0 | AG21: 51.621405 | AK21: =SUM(AF21:AJ21) -> 51.621405 | AL21: =SUM(T21,Z21,AF21) -> 0 | AM21: =SUM(U21,AA21,AG21) -> 51.621405 | AN21: =SUM(V21,AB21,AH21) -> 0 | AO21: =SUM(W21,AC21,AI21) -> 0 | AP21: =SUM(X21,AD21,AJ21) -> 0 | AQ21: =SUM(AL21:AP21) -> 51.621405 | AS21: 313.34627 | AW21: =SUM(AR21:AV21) -> 313.34627 | BD21: =SUM(AX21:BC21) -> 0 | BJ21: =SUM(BE21:BI21) -> 0 | BK21: =SUM(AR21,AX21,BE21) -> 0 | BL21: =SUM(AS21,AY21,BF21) -> 313.34627 | BM21: =SUM(AT21,AZ21,BG21) -> 0 | BN21: =SUM(AU21,BA21,BH21) -> 0 | BO21: =SUM(AV21,BB21,BI21) -> 0 | BP21: =SUM(BC21) -> 0 | BQ21: =SUM(BK21:BP21) -> 313.34627 | BW21: =SUM(BR21:BV21) -> 0 | CC21: =SUM(BX21:CB21) -> 0 | CG21: 740.89488 | CJ21: =SUM(CD21:CI21) -> 740.89488 | CK21: =SUM(BR21,BX21,CD21) -> 0 | CL21: =SUM(BS21,BY21,CE21) -> 0 | CM21: =SUM(BT21,BZ21,CF21) -> 0 | CN21: =SUM(BU21,CA21,CG21) -> 740.89488 | CO21: =SUM(BV21,CB21,CH21) -> 0 | CP21: =SUM(CI21) -> 0 | CQ21: =SUM(CK21:CP21) -> 740.89488 | CX21: =SUM(CR21:CW21) -> 0 | DE21: =SUM(CY21:DD21) -> 0 | DL21: =SUM(DF21:DK21) -> 0 | DS21: =SUM(DM21:DR21) -> 0 | DT21: =SUM(CR21,CY21,DF21,DM21) -> 0 | DU21: =SUM(CS21,CZ21,DG21,DN21) -> 0 | DV21: =SUM(CT21,DA21,DH21,DO21) -> 0 | DW21: =SUM(CU21,DB21,DI21,DP21) -> 0 | DX21: =SUM(CV21,DC21,DJ21,DQ21) -> 0 | DY21: =SUM(CW21,DD21,DK21,DR21) -> 0 | DZ21: =SUM(DT21:DY21) -> 0 | EF21: =SUM(EA21:EE21) -> 0 | EL21: =SUM(EG21:EK21) -> 0 | ER21: =SUM(EM21:EQ21) -> 0 | EX21: =SUM(ES21:EW21) -> 0 | FD21: =SUM(EY21:FC21) -> 0 | FJ21: =SUM(FE21:FI21) -> 0 | FP21: =SUM(FK21:FO21) -> 0 | FQ21: =SUM(EA21,EG21,EM21,ES21,EY21,FE21,FK21) -> 0 | FR21: =SUM(EB21,EH21,EN21,ET21,EZ21,FF21,FL21) -> 0 | FS21: =SUM(EC21,EI21,EO21,EU21,FA21,FG21,FM21) -> 0 | FT21: =SUM(ED21,EJ21,EP21,EV21,FB21,FH21,FN21) -> 0 | FU21: =SUM(EE21,EK21,EQ21,EW21,FC21,FI21,FO21) -> 0 | FV21: =SUM(FQ21:FU21) -> 0 | GB21: =SUM(FW21:GA21) -> 0 | GH21: =SUM(GC21:GG21) -> 0 | GK21: 89.085815 | GN21: =SUM(GI21:GM21) -> 89.085815 | GT21: =SUM(GO21:GS21) -> 0 | GZ21: =SUM(GU21:GY21) -> 0 | HF21: =SUM(HA21:HE21) -> 0 | HL21: =SUM(HG21:HK21) -> 0 | HR21: =SUM(HM21:HQ21) -> 0 | HS21: =SUM(FW21,GC21,GI21,GO21,GU21,HA21,HG21,HM21) -> 0 | HT21: =SUM(FX21,GD21,GJ21,GP21,GV21,HB21,HH21,HN21) -> 0 | HU21: =SUM(HO21,HI21,HC21,GW21,GQ21,GK21,GE21,FY21) -> 89.085815 | HV21: =SUM(HP21,HJ21,HD21,GX21,GR21,GL21,GF21,FZ21) -> 0 | HW21: =SUM(HQ21,HK21,HE21,GY21,GS21,GM21,GG21,GA21) -> 0 | HX21: =SUM(HS21:HW21) -> 89.085815 | ID21: =SUM(HY21:IC21) -> 0 | IJ21: =SUM(IE21:II21) -> 0 | IP21: =SUM(IK21:IO21) -> 0 | IQ21: =SUM(HY21,IE21,IK21) -> 0 | IR21: =SUM(HZ21,IF21,IL21) -> 0 | IS21: =SUM(IA21,IG21,IM21) -> 0 | IT21: =SUM(IB21,IH21,IN21) -> 0 | IU21: =SUM(IC21,II21,IO21) -> 0 | IV21: =SUM(IQ21:IU21) -> 0 | JB21: =SUM(IW21:JA21) -> 0 | JD21: 182.25752 | JE21: 97.800214 | JF21: 70.330465 | JH21: =SUM(JC21:JG21) -> 350.3882 | JJ21: 13.174511 | JN21: =SUM(JI21:JM21) -> 13.174511 | JO21: =SUM(IW21,JC21,JI21) -> 0 | JP21: =SUM(IX21,JD21,JJ21) -> 195.43203 | JQ21: =SUM(IY21,JE21,JK21) -> 97.800214 | JR21: =SUM(IZ21,JF21,JL21) -> 70.330465 | JS21: =SUM(JA21,JG21,JM21) -> 0 | JT21: =SUM(JO21:JS21) -> 363.56271 | JV21: =SUM(N21,AL21,BK21,CK21,DT21,FQ21,HS21,IQ21,JO21) -> 0 | JW21: =SUM(O21,AM21,BL21,CL21,DU21,FR21,HT21,IR21,JP21) -> 560.3997 | JX21: =SUM(P21,AN21,BM21,CM21,DV21,FS21,HU21,IS21,JQ21) -> 186.88603 | JY21: =SUM(Q21,AO21,BN21,CN21,DW21,FT21,HV21,IT21,JR21) -> 825.69809 | JZ21: =SUM(R21,AP21,BO21,CO21,DX21,FU21,HW21,IU21,JS21) -> 0 | KA21: =SUM(BP21,CP21,DY21) -> 0 | KB21: =SUM(JV21:KA21) -> 1572.9838
A22: IAB=Balsam Woolly Adelgid | G22: =SUM(B22:F22) -> 0 | H22: 169.22217 | I22: 55.692879 | J22: 21.341609 | K22: 1 | M22: =SUM(H22:L22) -> 247.25666 | N22: =SUM(B22,H22) -> 169.22217 | O22: =SUM(C22,I22) -> 55.692879 | P22: =SUM(D22,J22) -> 21.341609 | Q22: =SUM(E22,K22) -> 1 | R22: =SUM(F22,L22) -> 0 | S22: =SUM(N22:R22) -> 247.25666 | W22: 9.75 | Y22: =SUM(T22:X22) -> 9.75 | AC22: 0.25 | AE22: =SUM(Z22:AD22) -> 0.25 | AF22: 103.73985 | AG22: 17.299543 | AK22: =SUM(AF22:AJ22) -> 121.03939 | AL22: =SUM(T22,Z22,AF22) -> 103.73985 | AM22: =SUM(U22,AA22,AG22) -> 17.299543 | AN22: =SUM(V22,AB22,AH22) -> 0 | AO22: =SUM(W22,AC22,AI22) -> 10 | AP22: =SUM(X22,AD22,AJ22) -> 0 | AQ22: =SUM(AL22:AP22) -> 131.03939 | AU22: 0.25 | AW22: =SUM(AR22:AV22) -> 0.25 | BD22: =SUM(AX22:BC22) -> 0 | BE22: 1270.3991 | BF22: 75.519588 | BH22: 5.25 | BJ22: =SUM(BE22:BI22) -> 1351.1686 | BK22: =SUM(AR22,AX22,BE22) -> 1270.3991 | BL22: =SUM(AS22,AY22,BF22) -> 75.519588 | BM22: =SUM(AT22,AZ22,BG22) -> 0 | BN22: =SUM(AU22,BA22,BH22) -> 5.5 | BO22: =SUM(AV22,BB22,BI22) -> 0 | BP22: =SUM(BC22) -> 0 | BQ22: =SUM(BK22:BP22) -> 1351.4186 | BW22: =SUM(BR22:BV22) -> 0 | CC22: =SUM(BX22:CB22) -> 0 | CJ22: =SUM(CD22:CI22) -> 0 | CK22: =SUM(BR22,BX22,CD22) -> 0 | CL22: =SUM(BS22,BY22,CE22) -> 0 | CM22: =SUM(BT22,BZ22,CF22) -> 0 | CN22: =SUM(BU22,CA22,CG22) -> 0 | CO22: =SUM(BV22,CB22,CH22) -> 0 | CP22: =SUM(CI22) -> 0 | CQ22: =SUM(CK22:CP22) -> 0 | CS22: 5.0118551 | CX22: =SUM(CR22:CW22) -> 5.0118551 | DE22: =SUM(CY22:DD22) -> 0 | DG22: 61.010471 | DL22: =SUM(DF22:DK22) -> 61.010471 | DS22: =SUM(DM22:DR22) -> 0 | DT22: =SUM(CR22,CY22,DF22,DM22) -> 0 | DU22: =SUM(CS22,CZ22,DG22,DN22) -> 66.022326 | DV22: =SUM(CT22,DA22,DH22,DO22) -> 0 | DW22: =SUM(CU22,DB22,DI22,DP22) -> 0 | DX22: =SUM(CV22,DC22,DJ22,DQ22) -> 0 | DY22: =SUM(CW22,DD22,DK22,DR22) -> 0 | DZ22: =SUM(DT22:DY22) -> 66.022326 | EF22: =SUM(EA22:EE22) -> 0 | EL22: =SUM(EG22:EK22) -> 0 | ER22: =SUM(EM22:EQ22) -> 0 | EX22: =SUM(ES22:EW22) -> 0 | FD22: =SUM(EY22:FC22) -> 0 | FJ22: =SUM(FE22:FI22) -> 0 | FP22: =SUM(FK22:FO22) -> 0 | FQ22: =SUM(EA22,EG22,EM22,ES22,EY22,FE22,FK22) -> 0 | FR22: =SUM(EB22,EH22,EN22,ET22,EZ22,FF22,FL22) -> 0 | FS22: =SUM(EC22,EI22,EO22,EU22,FA22,FG22,FM22) -> 0 | FT22: =SUM(ED22,EJ22,EP22,EV22,FB22,FH22,FN22) -> 0 | FU22: =SUM(EE22,EK22,EQ22,EW22,FC22,FI22,FO22) -> 0 | FV22: =SUM(FQ22:FU22) -> 0 | GB22: =SUM(FW22:GA22) -> 0 | GH22: =SUM(GC22:GG22) -> 0 | GN22: =SUM(GI22:GM22) -> 0 | GT22: =SUM(GO22:GS22) -> 0 | GZ22: =SUM(GU22:GY22) -> 0 | HF22: =SUM(HA22:HE22) -> 0 | HL22: =SUM(HG22:HK22) -> 0 | HR22: =SUM(HM22:HQ22) -> 0 | HS22: =SUM(FW22,GC22,GI22,GO22,GU22,HA22,HG22,HM22) -> 0 | HT22: =SUM(FX22,GD22,GJ22,GP22,GV22,HB22,HH22,HN22) -> 0 | HU22: =SUM(HO22,HI22,HC22,GW22,GQ22,GK22,GE22,FY22) -> 0 | HV22: =SUM(HP22,HJ22,HD22,GX22,GR22,GL22,GF22,FZ22) -> 0 | HW22: =SUM(HQ22,HK22,HE22,GY22,GS22,GM22,GG22,GA22) -> 0 | HX22: =SUM(HS22:HW22) -> 0 | ID22: =SUM(HY22:IC22) -> 0 | IJ22: =SUM(IE22:II22) -> 0 | IP22: =SUM(IK22:IO22) -> 0 | IQ22: =SUM(HY22,IE22,IK22) -> 0 | IR22: =SUM(HZ22,IF22,IL22) -> 0 | IS22: =SUM(IA22,IG22,IM22) -> 0 | IT22: =SUM(IB22,IH22,IN22) -> 0 | IU22: =SUM(IC22,II22,IO22) -> 0 | IV22: =SUM(IQ22:IU22) -> 0 | JB22: =SUM(IW22:JA22) -> 0 | JH22: =SUM(JC22:JG22) -> 0 | JN22: =SUM(JI22:JM22) -> 0 | JO22: =SUM(IW22,JC22,JI22) -> 0 | JP22: =SUM(IX22,JD22,JJ22) -> 0 | JQ22: =SUM(IY22,JE22,JK22) -> 0 | JR22: =SUM(IZ22,JF22,JL22) -> 0 | JS22: =SUM(JA22,JG22,JM22) -> 0 | JT22: =SUM(JO22:JS22) -> 0 | JV22: =SUM(N22,AL22,BK22,CK22,DT22,FQ22,HS22,IQ22,JO22) -> 1543.3611 | JW22: =SUM(O22,AM22,BL22,CL22,DU22,FR22,HT22,IR22,JP22) -> 214.53434 | JX22: =SUM(P22,AN22,BM22,CM22,DV22,FS22,HU22,IS22,JQ22) -> 21.341609 | JY22: =SUM(Q22,AO22,BN22,CN22,DW22,FT22,HV22,IT22,JR22) -> 16.5 | JZ22: =SUM(R22,AP22,BO22,CO22,DX22,FU22,HW22,IU22,JS22) -> 0 | KA22: =SUM(BP22,CP22,DY22) -> 0 | KB22: =SUM(JV22:KA22) -> 1795.737
A23: IAS=Green Spruce Aphid | G23: =SUM(B23:F23) -> 0 | M23: =SUM(H23:L23) -> 0 | N23: =SUM(B23,H23) -> 0 | O23: =SUM(C23,I23) -> 0 | P23: =SUM(D23,J23) -> 0 | Q23: =SUM(E23,K23) -> 0 | R23: =SUM(F23,L23) -> 0 | S23: =SUM(N23:R23) -> 0 | Y23: =SUM(T23:X23) -> 0 | AE23: =SUM(Z23:AD23) -> 0 | AK23: =SUM(AF23:AJ23) -> 0 | AL23: =SUM(T23,Z23,AF23) -> 0 | AM23: =SUM(U23,AA23,AG23) -> 0 | AN23: =SUM(V23,AB23,AH23) -> 0 | AO23: =SUM(W23,AC23,AI23) -> 0 | AP23: =SUM(X23,AD23,AJ23) -> 0 | AQ23: =SUM(AL23:AP23) -> 0 | AW23: =SUM(AR23:AV23) -> 0 | BD23: =SUM(AX23:BC23) -> 0 | BJ23: =SUM(BE23:BI23) -> 0 | BK23: =SUM(AR23,AX23,BE23) -> 0 | BL23: =SUM(AS23,AY23,BF23) -> 0 | BM23: =SUM(AT23,AZ23,BG23) -> 0 | BN23: =SUM(AU23,BA23,BH23) -> 0 | BO23: =SUM(AV23,BB23,BI23) -> 0 | BP23: =SUM(BC23) -> 0 | BQ23: =SUM(BK23:BP23) -> 0 | BW23: =SUM(BR23:BV23) -> 0 | CC23: =SUM(BX23:CB23) -> 0 | CJ23: =SUM(CD23:CI23) -> 0 | CK23: =SUM(BR23,BX23,CD23) -> 0 | CL23: =SUM(BS23,BY23,CE23) -> 0 | CM23: =SUM(BT23,BZ23,CF23) -> 0 | CN23: =SUM(BU23,CA23,CG23) -> 0 | CO23: =SUM(BV23,CB23,CH23) -> 0 | CP23: =SUM(CI23) -> 0 | CQ23: =SUM(CK23:CP23) -> 0 | CX23: =SUM(CR23:CW23) -> 0 | DE23: =SUM(CY23:DD23) -> 0 | DL23: =SUM(DF23:DK23) -> 0 | DS23: =SUM(DM23:DR23) -> 0 | DT23: =SUM(CR23,CY23,DF23,DM23) -> 0 | DU23: =SUM(CS23,CZ23,DG23,DN23) -> 0 | DV23: =SUM(CT23,DA23,DH23,DO23) -> 0 | DW23: =SUM(CU23,DB23,DI23,DP23) -> 0 | DX23: =SUM(CV23,DC23,DJ23,DQ23) -> 0 | DY23: =SUM(CW23,DD23,DK23,DR23) -> 0 | DZ23: =SUM(DT23:DY23) -> 0 | EF23: =SUM(EA23:EE23) -> 0 | EL23: =SUM(EG23:EK23) -> 0 | ER23: =SUM(EM23:EQ23) -> 0 | EX23: =SUM(ES23:EW23) -> 0 | FD23: =SUM(EY23:FC23) -> 0 | FJ23: =SUM(FE23:FI23) -> 0 | FP23: =SUM(FK23:FO23) -> 0 | FQ23: =SUM(EA23,EG23,EM23,ES23,EY23,FE23,FK23) -> 0 | FR23: =SUM(EB23,EH23,EN23,ET23,EZ23,FF23,FL23) -> 0 | FS23: =SUM(EC23,EI23,EO23,EU23,FA23,FG23,FM23) -> 0 | FT23: =SUM(ED23,EJ23,EP23,EV23,FB23,FH23,FN23) -> 0 | FU23: =SUM(EE23,EK23,EQ23,EW23,FC23,FI23,FO23) -> 0 | FV23: =SUM(FQ23:FU23) -> 0 | GB23: =SUM(FW23:GA23) -> 0 | GH23: =SUM(GC23:GG23) -> 0 | GN23: =SUM(GI23:GM23) -> 0 | GT23: =SUM(GO23:GS23) -> 0 | GZ23: =SUM(GU23:GY23) -> 0 | HF23: =SUM(HA23:HE23) -> 0 | HL23: =SUM(HG23:HK23) -> 0 | HR23: =SUM(HM23:HQ23) -> 0 | HS23: =SUM(FW23,GC23,GI23,GO23,GU23,HA23,HG23,HM23) -> 0 | HT23: =SUM(FX23,GD23,GJ23,GP23,GV23,HB23,HH23,HN23) -> 0 | HU23: =SUM(HO23,HI23,HC23,GW23,GQ23,GK23,GE23,FY23) -> 0 | HV23: =SUM(HP23,HJ23,HD23,GX23,GR23,GL23,GF23,FZ23) -> 0 | HW23: =SUM(HQ23,HK23,HE23,GY23,GS23,GM23,GG23,GA23) -> 0 | HX23: =SUM(HS23:HW23) -> 0 | ID23: =SUM(HY23:IC23) -> 0 | IJ23: =SUM(IE23:II23) -> 0 | IP23: =SUM(IK23:IO23) -> 0 | IQ23: =SUM(HY23,IE23,IK23) -> 0 | IR23: =SUM(HZ23,IF23,IL23) -> 0 | IS23: =SUM(IA23,IG23,IM23) -> 0 | IT23: =SUM(IB23,IH23,IN23) -> 0 | IU23: =SUM(IC23,II23,IO23) -> 0 | IV23: =SUM(IQ23:IU23) -> 0 | JB23: =SUM(IW23:JA23) -> 0 | JH23: =SUM(JC23:JG23) -> 0 | JN23: =SUM(JI23:JM23) -> 0 | JO23: =SUM(IW23,JC23,JI23) -> 0 | JP23: =SUM(IX23,JD23,JJ23) -> 0 | JQ23: =SUM(IY23,JE23,JK23) -> 0 | JR23: =SUM(IZ23,JF23,JL23) -> 0 | JS23: =SUM(JA23,JG23,JM23) -> 0 | JT23: =SUM(JO23:JS23) -> 0 | JV23: =SUM(N23,AL23,BK23,CK23,DT23,FQ23,HS23,IQ23,JO23) -> 0 | JW23: =SUM(O23,AM23,BL23,CL23,DU23,FR23,HT23,IR23,JP23) -> 0 | JX23: =SUM(P23,AN23,BM23,CM23,DV23,FS23,HU23,IS23,JQ23) -> 0 | JY23: =SUM(Q23,AO23,BN23,CN23,DW23,FT23,HV23,IT23,JR23) -> 0 | JZ23: =SUM(R23,AP23,BO23,CO23,DX23,FU23,HW23,IU23,JS23) -> 0 | KA23: =SUM(BP23,CP23,DY23) -> 0 | KB23: =SUM(JV23:KA23) -> 0
A24: ID1=Leaf Beetles | G24: =SUM(B24:F24) -> 0 | M24: =SUM(H24:L24) -> 0 | N24: =SUM(B24,H24) -> 0 | O24: =SUM(C24,I24) -> 0 | P24: =SUM(D24,J24) -> 0 | Q24: =SUM(E24,K24) -> 0 | R24: =SUM(F24,L24) -> 0 | S24: =SUM(N24:R24) -> 0 | Y24: =SUM(T24:X24) -> 0 | AE24: =SUM(Z24:AD24) -> 0 | AG24: 94.25562 | AH24: 342.69116 | AI24: 462.71233 | AK24: =SUM(AF24:AJ24) -> 899.65911 | AL24: =SUM(T24,Z24,AF24) -> 0 | AM24: =SUM(U24,AA24,AG24) -> 94.25562 | AN24: =SUM(V24,AB24,AH24) -> 342.69116 | AO24: =SUM(W24,AC24,AI24) -> 462.71233 | AP24: =SUM(X24,AD24,AJ24) -> 0 | AQ24: =SUM(AL24:AP24) -> 899.65911 | AS24: 71.418367 | AW24: =SUM(AR24:AV24) -> 71.418367 | BD24: =SUM(AX24:BC24) -> 0 | BF24: 68.73 | BG24: 24.608022 | BJ24: =SUM(BE24:BI24) -> 93.338022 | BK24: =SUM(AR24,AX24,BE24) -> 0 | BL24: =SUM(AS24,AY24,BF24) -> 140.14837 | BM24: =SUM(AT24,AZ24,BG24) -> 24.608022 | BN24: =SUM(AU24,BA24,BH24) -> 0 | BO24: =SUM(AV24,BB24,BI24) -> 0 | BP24: =SUM(BC24) -> 0 | BQ24: =SUM(BK24:BP24) -> 164.75639 | BW24: =SUM(BR24:BV24) -> 0 | CC24: =SUM(BX24:CB24) -> 0 | CJ24: =SUM(CD24:CI24) -> 0 | CK24: =SUM(BR24,BX24,CD24) -> 0 | CL24: =SUM(BS24,BY24,CE24) -> 0 | CM24: =SUM(BT24,BZ24,CF24) -> 0 | CN24: =SUM(BU24,CA24,CG24) -> 0 | CO24: =SUM(BV24,CB24,CH24) -> 0 | CP24: =SUM(CI24) -> 0 | CQ24: =SUM(CK24:CP24) -> 0 | CX24: =SUM(CR24:CW24) -> 0 | DE24: =SUM(CY24:DD24) -> 0 | DL24: =SUM(DF24:DK24) -> 0 | DS24: =SUM(DM24:DR24) -> 0 | DT24: =SUM(CR24,CY24,DF24,DM24) -> 0 | DU24: =SUM(CS24,CZ24,DG24,DN24) -> 0 | DV24: =SUM(CT24,DA24,DH24,DO24) -> 0 | DW24: =SUM(CU24,DB24,DI24,DP24) -> 0 | DX24: =SUM(CV24,DC24,DJ24,DQ24) -> 0 | DY24: =SUM(CW24,DD24,DK24,DR24) -> 0 | DZ24: =SUM(DT24:DY24) -> 0 | EF24: =SUM(EA24:EE24) -> 0 | EL24: =SUM(EG24:EK24) -> 0 | ER24: =SUM(EM24:EQ24) -> 0 | EX24: =SUM(ES24:EW24) -> 0 | FD24: =SUM(EY24:FC24) -> 0 | FJ24: =SUM(FE24:FI24) -> 0 | FP24: =SUM(FK24:FO24) -> 0 | FQ24: =SUM(EA24,EG24,EM24,ES24,EY24,FE24,FK24) -> 0 | FR24: =SUM(EB24,EH24,EN24,ET24,EZ24,FF24,FL24) -> 0 | FS24: =SUM(EC24,EI24,EO24,EU24,FA24,FG24,FM24) -> 0 | FT24: =SUM(ED24,EJ24,EP24,EV24,FB24,FH24,FN24) -> 0 | FU24: =SUM(EE24,EK24,EQ24,EW24,FC24,FI24,FO24) -> 0 | FV24: =SUM(FQ24:FU24) -> 0 | GB24: =SUM(FW24:GA24) -> 0 | GH24: =SUM(GC24:GG24) -> 0 | GN24: =SUM(GI24:GM24) -> 0 | GT24: =SUM(GO24:GS24) -> 0 | GZ24: =SUM(GU24:GY24) -> 0 | HF24: =SUM(HA24:HE24) -> 0 | HL24: =SUM(HG24:HK24) -> 0 | HR24: =SUM(HM24:HQ24) -> 0 | HS24: =SUM(FW24,GC24,GI24,GO24,GU24,HA24,HG24,HM24) -> 0 | HT24: =SUM(FX24,GD24,GJ24,GP24,GV24,HB24,HH24,HN24) -> 0 | HU24: =SUM(HO24,HI24,HC24,GW24,GQ24,GK24,GE24,FY24) -> 0 | HV24: =SUM(HP24,HJ24,HD24,GX24,GR24,GL24,GF24,FZ24) -> 0 | HW24: =SUM(HQ24,HK24,HE24,GY24,GS24,GM24,GG24,GA24) -> 0 | HX24: =SUM(HS24:HW24) -> 0 | ID24: =SUM(HY24:IC24) -> 0 | IJ24: =SUM(IE24:II24) -> 0 | IP24: =SUM(IK24:IO24) -> 0 | IQ24: =SUM(HY24,IE24,IK24) -> 0 | IR24: =SUM(HZ24,IF24,IL24) -> 0 | IS24: =SUM(IA24,IG24,IM24) -> 0 | IT24: =SUM(IB24,IH24,IN24) -> 0 | IU24: =SUM(IC24,II24,IO24) -> 0 | IV24: =SUM(IQ24:IU24) -> 0 | JB24: =SUM(IW24:JA24) -> 0 | JH24: =SUM(JC24:JG24) -> 0 | JN24: =SUM(JI24:JM24) -> 0 | JO24: =SUM(IW24,JC24,JI24) -> 0 | JP24: =SUM(IX24,JD24,JJ24) -> 0 | JQ24: =SUM(IY24,JE24,JK24) -> 0 | JR24: =SUM(IZ24,JF24,JL24) -> 0 | JS24: =SUM(JA24,JG24,JM24) -> 0 | JT24: =SUM(JO24:JS24) -> 0 | JV24: =SUM(N24,AL24,BK24,CK24,DT24,FQ24,HS24,IQ24,JO24) -> 0 | JW24: =SUM(O24,AM24,BL24,CL24,DU24,FR24,HT24,IR24,JP24) -> 234.40399 | JX24: =SUM(P24,AN24,BM24,CM24,DV24,FS24,HU24,IS24,JQ24) -> 367.29918 | JY24: =SUM(Q24,AO24,BN24,CN24,DW24,FT24,HV24,IT24,JR24) -> 462.71233 | JZ24: =SUM(R24,AP24,BO24,CO24,DX24,FU24,HW24,IU24,JS24) -> 0 | KA24: =SUM(BP24,CP24,DY24) -> 0 | KB24: =SUM(JV24:KA24) -> 1064.4155
A25: ID2=Bruce spanworm | G25: =SUM(B25:F25) -> 0 | M25: =SUM(H25:L25) -> 0 | N25: =SUM(B25,H25) -> 0 | O25: =SUM(C25,I25) -> 0 | P25: =SUM(D25,J25) -> 0 | Q25: =SUM(E25,K25) -> 0 | R25: =SUM(F25,L25) -> 0 | S25: =SUM(N25:R25) -> 0 | Y25: =SUM(T25:X25) -> 0 | AE25: =SUM(Z25:AD25) -> 0 | AK25: =SUM(AF25:AJ25) -> 0 | AL25: =SUM(T25,Z25,AF25) -> 0 | AM25: =SUM(U25,AA25,AG25) -> 0 | AN25: =SUM(V25,AB25,AH25) -> 0 | AO25: =SUM(W25,AC25,AI25) -> 0 | AP25: =SUM(X25,AD25,AJ25) -> 0 | AQ25: =SUM(AL25:AP25) -> 0 | AW25: =SUM(AR25:AV25) -> 0 | BD25: =SUM(AX25:BC25) -> 0 | BJ25: =SUM(BE25:BI25) -> 0 | BK25: =SUM(AR25,AX25,BE25) -> 0 | BL25: =SUM(AS25,AY25,BF25) -> 0 | BM25: =SUM(AT25,AZ25,BG25) -> 0 | BN25: =SUM(AU25,BA25,BH25) -> 0 | BO25: =SUM(AV25,BB25,BI25) -> 0 | BP25: =SUM(BC25) -> 0 | BQ25: =SUM(BK25:BP25) -> 0 | BW25: =SUM(BR25:BV25) -> 0 | CC25: =SUM(BX25:CB25) -> 0 | CJ25: =SUM(CD25:CI25) -> 0 | CK25: =SUM(BR25,BX25,CD25) -> 0 | CL25: =SUM(BS25,BY25,CE25) -> 0 | CM25: =SUM(BT25,BZ25,CF25) -> 0 | CN25: =SUM(BU25,CA25,CG25) -> 0 | CO25: =SUM(BV25,CB25,CH25) -> 0 | CP25: =SUM(CI25) -> 0 | CQ25: =SUM(CK25:CP25) -> 0 | CX25: =SUM(CR25:CW25) -> 0 | DE25: =SUM(CY25:DD25) -> 0 | DL25: =SUM(DF25:DK25) -> 0 | DS25: =SUM(DM25:DR25) -> 0 | DT25: =SUM(CR25,CY25,DF25,DM25) -> 0 | DU25: =SUM(CS25,CZ25,DG25,DN25) -> 0 | DV25: =SUM(CT25,DA25,DH25,DO25) -> 0 | DW25: =SUM(CU25,DB25,DI25,DP25) -> 0 | DX25: =SUM(CV25,DC25,DJ25,DQ25) -> 0 | DY25: =SUM(CW25,DD25,DK25,DR25) -> 0 | DZ25: =SUM(DT25:DY25) -> 0 | EF25: =SUM(EA25:EE25) -> 0 | EL25: =SUM(EG25:EK25) -> 0 | ER25: =SUM(EM25:EQ25) -> 0 | EX25: =SUM(ES25:EW25) -> 0 | FD25: =SUM(EY25:FC25) -> 0 | FJ25: =SUM(FE25:FI25) -> 0 | FP25: =SUM(FK25:FO25) -> 0 | FQ25: =SUM(EA25,EG25,EM25,ES25,EY25,FE25,FK25) -> 0 | FR25: =SUM(EB25,EH25,EN25,ET25,EZ25,FF25,FL25) -> 0 | FS25: =SUM(EC25,EI25,EO25,EU25,FA25,FG25,FM25) -> 0 | FT25: =SUM(ED25,EJ25,EP25,EV25,FB25,FH25,FN25) -> 0 | FU25: =SUM(EE25,EK25,EQ25,EW25,FC25,FI25,FO25) -> 0 | FV25: =SUM(FQ25:FU25) -> 0 | GB25: =SUM(FW25:GA25) -> 0 | GH25: =SUM(GC25:GG25) -> 0 | GN25: =SUM(GI25:GM25) -> 0 | GT25: =SUM(GO25:GS25) -> 0 | GZ25: =SUM(GU25:GY25) -> 0 | HF25: =SUM(HA25:HE25) -> 0 | HL25: =SUM(HG25:HK25) -> 0 | HR25: =SUM(HM25:HQ25) -> 0 | HS25: =SUM(FW25,GC25,GI25,GO25,GU25,HA25,HG25,HM25) -> 0 | HT25: =SUM(FX25,GD25,GJ25,GP25,GV25,HB25,HH25,HN25) -> 0 | HU25: =SUM(HO25,HI25,HC25,GW25,GQ25,GK25,GE25,FY25) -> 0 | HV25: =SUM(HP25,HJ25,HD25,GX25,GR25,GL25,GF25,FZ25) -> 0 | HW25: =SUM(HQ25,HK25,HE25,GY25,GS25,GM25,GG25,GA25) -> 0 | HX25: =SUM(HS25:HW25) -> 0 | ID25: =SUM(HY25:IC25) -> 0 | IJ25: =SUM(IE25:II25) -> 0 | IP25: =SUM(IK25:IO25) -> 0 | IQ25: =SUM(HY25,IE25,IK25) -> 0 | IR25: =SUM(HZ25,IF25,IL25) -> 0 | IS25: =SUM(IA25,IG25,IM25) -> 0 | IT25: =SUM(IB25,IH25,IN25) -> 0 | IU25: =SUM(IC25,II25,IO25) -> 0 | IV25: =SUM(IQ25:IU25) -> 0 | IX25: 85.268761 | IY25: 132.63928 | JB25: =SUM(IW25:JA25) -> 217.90804 | JH25: =SUM(JC25:JG25) -> 0 | JJ25: 449.4206 | JK25: 72.221564 | JL25: 11.254726 | JN25: =SUM(JI25:JM25) -> 532.89689 | JO25: =SUM(IW25,JC25,JI25) -> 0 | JP25: =SUM(IX25,JD25,JJ25) -> 534.68936 | JQ25: =SUM(IY25,JE25,JK25) -> 204.86085 | JR25: =SUM(IZ25,JF25,JL25) -> 11.254726 | JS25: =SUM(JA25,JG25,JM25) -> 0 | JT25: =SUM(JO25:JS25) -> 750.80493 | JV25: =SUM(N25,AL25,BK25,CK25,DT25,FQ25,HS25,IQ25,JO25) -> 0 | JW25: =SUM(O25,AM25,BL25,CL25,DU25,FR25,HT25,IR25,JP25) -> 534.68936 | JX25: =SUM(P25,AN25,BM25,CM25,DV25,FS25,HU25,IS25,JQ25) -> 204.86085 | JY25: =SUM(Q25,AO25,BN25,CN25,DW25,FT25,HV25,IT25,JR25) -> 11.254726 | JZ25: =SUM(R25,AP25,BO25,CO25,DX25,FU25,HW25,IU25,JS25) -> 0 | KA25: =SUM(BP25,CP25,DY25) -> 0 | KB25: =SUM(JV25:KA25) -> 750.80493
A26: ID6=Aspen Leaf Miner | C26: 347.58222 | D26: 138.28624 | E26: 789.53849 | G26: =SUM(B26:F26) -> 1275.407 | M26: =SUM(H26:L26) -> 0 | N26: =SUM(B26,H26) -> 0 | O26: =SUM(C26,I26) -> 347.58222 | P26: =SUM(D26,J26) -> 138.28624 | Q26: =SUM(E26,K26) -> 789.53849 | R26: =SUM(F26,L26) -> 0 | S26: =SUM(N26:R26) -> 1275.407 | Y26: =SUM(T26:X26) -> 0 | AE26: =SUM(Z26:AD26) -> 0 | AK26: =SUM(AF26:AJ26) -> 0 | AL26: =SUM(T26,Z26,AF26) -> 0 | AM26: =SUM(U26,AA26,AG26) -> 0 | AN26: =SUM(V26,AB26,AH26) -> 0 | AO26: =SUM(W26,AC26,AI26) -> 0 | AP26: =SUM(X26,AD26,AJ26) -> 0 | AQ26: =SUM(AL26:AP26) -> 0 | AW26: =SUM(AR26:AV26) -> 0 | BD26: =SUM(AX26:BC26) -> 0 | BJ26: =SUM(BE26:BI26) -> 0 | BK26: =SUM(AR26,AX26,BE26) -> 0 | BL26: =SUM(AS26,AY26,BF26) -> 0 | BM26: =SUM(AT26,AZ26,BG26) -> 0 | BN26: =SUM(AU26,BA26,BH26) -> 0 | BO26: =SUM(AV26,BB26,BI26) -> 0 | BP26: =SUM(BC26) -> 0 | BQ26: =SUM(BK26:BP26) -> 0 | BS26: 34967.026 | BT26: 35402.368 | BU26: 10629.997 | BW26: =SUM(BR26:BV26) -> 80999.391 | BY26: 16124.245 | BZ26: 54964.972 | CA26: 18597.44 | CC26: =SUM(BX26:CB26) -> 89686.657 | CE26: 40808.508 | CF26: 33362.034 | CG26: 14986.653 | CJ26: =SUM(CD26:CI26) -> 89157.195 | CK26: =SUM(BR26,BX26,CD26) -> 0 | CL26: =SUM(BS26,BY26,CE26) -> 91899.779 | CM26: =SUM(BT26,BZ26,CF26) -> 123729.37 | CN26: =SUM(BU26,CA26,CG26) -> 44214.091 | CO26: =SUM(BV26,CB26,CH26) -> 0 | CP26: =SUM(CI26) -> 0 | CQ26: =SUM(CK26:CP26) -> 259843.24 | CS26: 17518.031 | CT26: 10139.823 | CU26: 1741.3676 | CX26: =SUM(CR26:CW26) -> 29399.222 | DE26: =SUM(CY26:DD26) -> 0 | DH26: 4.8872329 | DI26: 13.010801 | DL26: =SUM(DF26:DK26) -> 17.898034 | DN26: 2654.6642 | DO26: 1625.6115 | DP26: 552.93828 | DS26: =SUM(DM26:DR26) -> 4833.2139 | DT26: =SUM(CR26,CY26,DF26,DM26) -> 0 | DU26: =SUM(CS26,CZ26,DG26,DN26) -> 20172.695 | DV26: =SUM(CT26,DA26,DH26,DO26) -> 11770.322 | DW26: =SUM(CU26,DB26,DI26,DP26) -> 2307.3167 | DX26: =SUM(CV26,DC26,DJ26,DQ26) -> 0 | DY26: =SUM(CW26,DD26,DK26,DR26) -> 0 | DZ26: =SUM(DT26:DY26) -> 34250.334 | EB26: 5857.0198 | EC26: 6398.1141 | EF26: =SUM(EA26:EE26) -> 12255.134 | EH26: 454.47965 | EL26: =SUM(EG26:EK26) -> 454.47965 | EN26: 922.00199 | EO26: 427.68028 | ER26: =SUM(EM26:EQ26) -> 1349.6823 | ET26: 726.7819 | EU26: 702.73746 | EV26: 73.075076 | EX26: =SUM(ES26:EW26) -> 1502.5944 | EZ26: 707.49172 | FA26: 768.4836 | FD26: =SUM(EY26:FC26) -> 1475.9753 | FF26: 4042.46 | FG26: 2007.2078 | FJ26: =SUM(FE26:FI26) -> 6049.6677 | FL26: 1405.0064 | FM26: 1443.7589 | FP26: =SUM(FK26:FO26) -> 2848.7653 | FQ26: =SUM(EA26,EG26,EM26,ES26,EY26,FE26,FK26) -> 0 | FR26: =SUM(EB26,EH26,EN26,ET26,EZ26,FF26,FL26) -> 14115.241 | FS26: =SUM(EC26,EI26,EO26,EU26,FA26,FG26,FM26) -> 11747.982 | FT26: =SUM(ED26,EJ26,EP26,EV26,FB26,FH26,FN26) -> 73.075076 | FU26: =SUM(EE26,EK26,EQ26,EW26,FC26,FI26,FO26) -> 0 | FV26: =SUM(FQ26:FU26) -> 25936.299 | FX26: 8886.016 | FY26: 22719.151 | FZ26: 12614.957 | GB26: =SUM(FW26:GA26) -> 44220.124 | GD26: 62.759698 | GE26: 177.41904 | GH26: =SUM(GC26:GG26) -> 240.17874 | GJ26: 1284.88 | GK26: 8725.462 | GL26: 1234.1017 | GN26: =SUM(GI26:GM26) -> 11244.444 | GP26: 5550.7053 | GQ26: 9125.5943 | GR26: 15333.455 | GT26: =SUM(GO26:GS26) -> 30009.755 | GV26: 92607.38 | GW26: 80144.738 | GX26: 39420.17 | GZ26: =SUM(GU26:GY26) -> 212172.29 | HB26: 34056.984 | HC26: 29712.984 | HD26: 17884.136 | HF26: =SUM(HA26:HE26) -> 81654.105 | HL26: =SUM(HG26:HK26) -> 0 | HR26: =SUM(HM26:HQ26) -> 0 | HS26: =SUM(FW26,GC26,GI26,GO26,GU26,HA26,HG26,HM26) -> 0 | HT26: =SUM(FX26,GD26,GJ26,GP26,GV26,HB26,HH26,HN26) -> 142448.73 | HU26: =SUM(HO26,HI26,HC26,GW26,GQ26,GK26,GE26,FY26) -> 150605.35 | HV26: =SUM(HP26,HJ26,HD26,GX26,GR26,GL26,GF26,FZ26) -> 86486.82 | HW26: =SUM(HQ26,HK26,HE26,GY26,GS26,GM26,GG26,GA26) -> 0 | HX26: =SUM(HS26:HW26) -> 379540.89 | HZ26: 4077.3439 | IA26: 6444.1352 | IB26: 1620.4163 | ID26: =SUM(HY26:IC26) -> 12141.895 | IF26: 1845.2704 | IG26: 3809.7338 | IH26: 489.62292 | IJ26: =SUM(IE26:II26) -> 6144.6271 | IL26: 142789.86 | IM26: 291262.64 | IN26: 128181.83 | IP26: =SUM(IK26:IO26) -> 562234.33 | IQ26: =SUM(HY26,IE26,IK26) -> 0 | IR26: =SUM(HZ26,IF26,IL26) -> 148712.47 | IS26: =SUM(IA26,IG26,IM26) -> 301516.51 | IT26: =SUM(IB26,IH26,IN26) -> 130291.87 | IU26: =SUM(IC26,II26,IO26) -> 0 | IV26: =SUM(IQ26:IU26) -> 580520.85 | IY26: 321.98268 | IZ26: 168.40356 | JB26: =SUM(IW26:JA26) -> 490.38624 | JD26: 23446.196 | JE26: 13978.442 | JF26: 3049.2018 | JH26: =SUM(JC26:JG26) -> 40473.84 | JJ26: 3150.71 | JK26: 1365.463 | JL26: 55.63494 | JN26: =SUM(JI26:JM26) -> 4571.8079 | JO26: =SUM(IW26,JC26,JI26) -> 0 | JP26: =SUM(IX26,JD26,JJ26) -> 26596.906 | JQ26: =SUM(IY26,JE26,JK26) -> 15665.888 | JR26: =SUM(IZ26,JF26,JL26) -> 3273.2403 | JS26: =SUM(JA26,JG26,JM26) -> 0 | JT26: =SUM(JO26:JS26) -> 45536.034 | JV26: =SUM(N26,AL26,BK26,CK26,DT26,FQ26,HS26,IQ26,JO26) -> 0 | JW26: =SUM(O26,AM26,BL26,CL26,DU26,FR26,HT26,IR26,JP26) -> 444293.4 | JX26: =SUM(P26,AN26,BM26,CM26,DV26,FS26,HU26,IS26,JQ26) -> 615173.71 | JY26: =SUM(Q26,AO26,BN26,CN26,DW26,FT26,HV26,IT26,JR26) -> 267435.95 | JZ26: =SUM(R26,AP26,BO26,CO26,DX26,FU26,HW26,IU26,JS26) -> 0 | KA26: =SUM(BP26,CP26,DY26) -> 0 | KB26: =SUM(JV26:KA26) -> 1326903.1
A27: IDA=Black Army Cutworm | G27: =SUM(B27:F27) -> 0 | M27: =SUM(H27:L27) -> 0 | N27: =SUM(B27,H27) -> 0 | O27: =SUM(C27,I27) -> 0 | P27: =SUM(D27,J27) -> 0 | Q27: =SUM(E27,K27) -> 0 | R27: =SUM(F27,L27) -> 0 | S27: =SUM(N27:R27) -> 0 | Y27: =SUM(T27:X27) -> 0 | AE27: =SUM(Z27:AD27) -> 0 | AK27: =SUM(AF27:AJ27) -> 0 | AL27: =SUM(T27,Z27,AF27) -> 0 | AM27: =SUM(U27,AA27,AG27) -> 0 | AN27: =SUM(V27,AB27,AH27) -> 0 | AO27: =SUM(W27,AC27,AI27) -> 0 | AP27: =SUM(X27,AD27,AJ27) -> 0 | AQ27: =SUM(AL27:AP27) -> 0 | AW27: =SUM(AR27:AV27) -> 0 | BD27: =SUM(AX27:BC27) -> 0 | BJ27: =SUM(BE27:BI27) -> 0 | BK27: =SUM(AR27,AX27,BE27) -> 0 | BL27: =SUM(AS27,AY27,BF27) -> 0 | BM27: =SUM(AT27,AZ27,BG27) -> 0 | BN27: =SUM(AU27,BA27,BH27) -> 0 | BO27: =SUM(AV27,BB27,BI27) -> 0 | BP27: =SUM(BC27) -> 0 | BQ27: =SUM(BK27:BP27) -> 0 | BW27: =SUM(BR27:BV27) -> 0 | CC27: =SUM(BX27:CB27) -> 0 | CJ27: =SUM(CD27:CI27) -> 0 | CK27: =SUM(BR27,BX27,CD27) -> 0 | CL27: =SUM(BS27,BY27,CE27) -> 0 | CM27: =SUM(BT27,BZ27,CF27) -> 0 | CN27: =SUM(BU27,CA27,CG27) -> 0 | CO27: =SUM(BV27,CB27,CH27) -> 0 | CP27: =SUM(CI27) -> 0 | CQ27: =SUM(CK27:CP27) -> 0 | CX27: =SUM(CR27:CW27) -> 0 | DE27: =SUM(CY27:DD27) -> 0 | DL27: =SUM(DF27:DK27) -> 0 | DS27: =SUM(DM27:DR27) -> 0 | DT27: =SUM(CR27,CY27,DF27,DM27) -> 0 | DU27: =SUM(CS27,CZ27,DG27,DN27) -> 0 | DV27: =SUM(CT27,DA27,DH27,DO27) -> 0 | DW27: =SUM(CU27,DB27,DI27,DP27) -> 0 | DX27: =SUM(CV27,DC27,DJ27,DQ27) -> 0 | DY27: =SUM(CW27,DD27,DK27,DR27) -> 0 | DZ27: =SUM(DT27:DY27) -> 0 | EF27: =SUM(EA27:EE27) -> 0 | EL27: =SUM(EG27:EK27) -> 0 | ER27: =SUM(EM27:EQ27) -> 0 | EX27: =SUM(ES27:EW27) -> 0 | FD27: =SUM(EY27:FC27) -> 0 | FJ27: =SUM(FE27:FI27) -> 0 | FP27: =SUM(FK27:FO27) -> 0 | FQ27: =SUM(EA27,EG27,EM27,ES27,EY27,FE27,FK27) -> 0 | FR27: =SUM(EB27,EH27,EN27,ET27,EZ27,FF27,FL27) -> 0 | FS27: =SUM(EC27,EI27,EO27,EU27,FA27,FG27,FM27) -> 0 | FT27: =SUM(ED27,EJ27,EP27,EV27,FB27,FH27,FN27) -> 0 | FU27: =SUM(EE27,EK27,EQ27,EW27,FC27,FI27,FO27) -> 0 | FV27: =SUM(FQ27:FU27) -> 0 | GB27: =SUM(FW27:GA27) -> 0 | GH27: =SUM(GC27:GG27) -> 0 | GN27: =SUM(GI27:GM27) -> 0 | GT27: =SUM(GO27:GS27) -> 0 | GZ27: =SUM(GU27:GY27) -> 0 | HF27: =SUM(HA27:HE27) -> 0 | HL27: =SUM(HG27:HK27) -> 0 | HR27: =SUM(HM27:HQ27) -> 0 | HS27: =SUM(FW27,GC27,GI27,GO27,GU27,HA27,HG27,HM27) -> 0 | HT27: =SUM(FX27,GD27,GJ27,GP27,GV27,HB27,HH27,HN27) -> 0 | HU27: =SUM(HO27,HI27,HC27,GW27,GQ27,GK27,GE27,FY27) -> 0 | HV27: =SUM(HP27,HJ27,HD27,GX27,GR27,GL27,GF27,FZ27) -> 0 | HW27: =SUM(HQ27,HK27,HE27,GY27,GS27,GM27,GG27,GA27) -> 0 | HX27: =SUM(HS27:HW27) -> 0 | ID27: =SUM(HY27:IC27) -> 0 | IJ27: =SUM(IE27:II27) -> 0 | IP27: =SUM(IK27:IO27) -> 0 | IQ27: =SUM(HY27,IE27,IK27) -> 0 | IR27: =SUM(HZ27,IF27,IL27) -> 0 | IS27: =SUM(IA27,IG27,IM27) -> 0 | IT27: =SUM(IB27,IH27,IN27) -> 0 | IU27: =SUM(IC27,II27,IO27) -> 0 | IV27: =SUM(IQ27:IU27) -> 0 | JB27: =SUM(IW27:JA27) -> 0 | JH27: =SUM(JC27:JG27) -> 0 | JN27: =SUM(JI27:JM27) -> 0 | JO27: =SUM(IW27,JC27,JI27) -> 0 | JP27: =SUM(IX27,JD27,JJ27) -> 0 | JQ27: =SUM(IY27,JE27,JK27) -> 0 | JR27: =SUM(IZ27,JF27,JL27) -> 0 | JS27: =SUM(JA27,JG27,JM27) -> 0 | JT27: =SUM(JO27:JS27) -> 0 | JV27: =SUM(N27,AL27,BK27,CK27,DT27,FQ27,HS27,IQ27,JO27) -> 0 | JW27: =SUM(O27,AM27,BL27,CL27,DU27,FR27,HT27,IR27,JP27) -> 0 | JX27: =SUM(P27,AN27,BM27,CM27,DV27,FS27,HU27,IS27,JQ27) -> 0 | JY27: =SUM(Q27,AO27,BN27,CN27,DW27,FT27,HV27,IT27,JR27) -> 0 | JZ27: =SUM(R27,AP27,BO27,CO27,DX27,FU27,HW27,IU27,JS27) -> 0 | KA27: =SUM(BP27,CP27,DY27) -> 0 | KB27: =SUM(JV27:KA27) -> 0
A28: IDB=2-Year Budworm | G28: =SUM(B28:F28) -> 0 | M28: =SUM(H28:L28) -> 0 | N28: =SUM(B28,H28) -> 0 | O28: =SUM(C28,I28) -> 0 | P28: =SUM(D28,J28) -> 0 | Q28: =SUM(E28,K28) -> 0 | R28: =SUM(F28,L28) -> 0 | S28: =SUM(N28:R28) -> 0 | Y28: =SUM(T28:X28) -> 0 | AE28: =SUM(Z28:AD28) -> 0 | AK28: =SUM(AF28:AJ28) -> 0 | AL28: =SUM(T28,Z28,AF28) -> 0 | AM28: =SUM(U28,AA28,AG28) -> 0 | AN28: =SUM(V28,AB28,AH28) -> 0 | AO28: =SUM(W28,AC28,AI28) -> 0 | AP28: =SUM(X28,AD28,AJ28) -> 0 | AQ28: =SUM(AL28:AP28) -> 0 | AW28: =SUM(AR28:AV28) -> 0 | BD28: =SUM(AX28:BC28) -> 0 | BJ28: =SUM(BE28:BI28) -> 0 | BK28: =SUM(AR28,AX28,BE28) -> 0 | BL28: =SUM(AS28,AY28,BF28) -> 0 | BM28: =SUM(AT28,AZ28,BG28) -> 0 | BN28: =SUM(AU28,BA28,BH28) -> 0 | BO28: =SUM(AV28,BB28,BI28) -> 0 | BP28: =SUM(BC28) -> 0 | BQ28: =SUM(BK28:BP28) -> 0 | BS28: 250.05484 | BW28: =SUM(BR28:BV28) -> 250.05484 | BY28: 1897.403 | CC28: =SUM(BX28:CB28) -> 1897.403 | CE28: 401.95 | CJ28: =SUM(CD28:CI28) -> 401.95 | CK28: =SUM(BR28,BX28,CD28) -> 0 | CL28: =SUM(BS28,BY28,CE28) -> 2549.4078 | CM28: =SUM(BT28,BZ28,CF28) -> 0 | CN28: =SUM(BU28,CA28,CG28) -> 0 | CO28: =SUM(BV28,CB28,CH28) -> 0 | CP28: =SUM(CI28) -> 0 | CQ28: =SUM(CK28:CP28) -> 2549.4078 | CS28: 884.28473 | CT28: 37.274837 | CX28: =SUM(CR28:CW28) -> 921.55957 | DE28: =SUM(CY28:DD28) -> 0 | DL28: =SUM(DF28:DK28) -> 0 | DS28: =SUM(DM28:DR28) -> 0 | DT28: =SUM(CR28,CY28,DF28,DM28) -> 0 | DU28: =SUM(CS28,CZ28,DG28,DN28) -> 884.28473 | DV28: =SUM(CT28,DA28,DH28,DO28) -> 37.274837 | DW28: =SUM(CU28,DB28,DI28,DP28) -> 0 | DX28: =SUM(CV28,DC28,DJ28,DQ28) -> 0 | DY28: =SUM(CW28,DD28,DK28,DR28) -> 0 | DZ28: =SUM(DT28:DY28) -> 921.55957 | EF28: =SUM(EA28:EE28) -> 0 | EL28: =SUM(EG28:EK28) -> 0 | ER28: =SUM(EM28:EQ28) -> 0 | EX28: =SUM(ES28:EW28) -> 0 | FD28: =SUM(EY28:FC28) -> 0 | FJ28: =SUM(FE28:FI28) -> 0 | FP28: =SUM(FK28:FO28) -> 0 | FQ28: =SUM(EA28,EG28,EM28,ES28,EY28,FE28,FK28) -> 0 | FR28: =SUM(EB28,EH28,EN28,ET28,EZ28,FF28,FL28) -> 0 | FS28: =SUM(EC28,EI28,EO28,EU28,FA28,FG28,FM28) -> 0 | FT28: =SUM(ED28,EJ28,EP28,EV28,FB28,FH28,FN28) -> 0 | FU28: =SUM(EE28,EK28,EQ28,EW28,FC28,FI28,FO28) -> 0 | FV28: =SUM(FQ28:FU28) -> 0 | FX28: 5.9676729 | GB28: =SUM(FW28:GA28) -> 5.9676729 | GH28: =SUM(GC28:GG28) -> 0 | GN28: =SUM(GI28:GM28) -> 0 | GT28: =SUM(GO28:GS28) -> 0 | GV28: 15120.98 | GW28: 7860.2938 | GZ28: =SUM(GU28:GY28) -> 22981.274 | HB28: 1835.266 | HC28: 2704.2681 | HF28: =SUM(HA28:HE28) -> 4539.5341 | HL28: =SUM(HG28:HK28) -> 0 | HR28: =SUM(HM28:HQ28) -> 0 | HS28: =SUM(FW28,GC28,GI28,GO28,GU28,HA28,HG28,HM28) -> 0 | HT28: =SUM(FX28,GD28,GJ28,GP28,GV28,HB28,HH28,HN28) -> 16962.214 | HU28: =SUM(HO28,HI28,HC28,GW28,GQ28,GK28,GE28,FY28) -> 10564.562 | HV28: =SUM(HP28,HJ28,HD28,GX28,GR28,GL28,GF28,FZ28) -> 0 | HW28: =SUM(HQ28,HK28,HE28,GY28,GS28,GM28,GG28,GA28) -> 0 | HX28: =SUM(HS28:HW28) -> 27526.776 | HZ28: 2359.2946 | IA28: 5039.6636 | IB28: 8665.7471 | ID28: =SUM(HY28:IC28) -> 16064.705 | IF28: 9971.5705 | IJ28: =SUM(IE28:II28) -> 9971.5705 | IL28: 56484.764 | IM28: 15819.69 | IN28: 866.72844 | IP28: =SUM(IK28:IO28) -> 73171.182 | IQ28: =SUM(HY28,IE28,IK28) -> 0 | IR28: =SUM(HZ28,IF28,IL28) -> 68815.629 | IS28: =SUM(IA28,IG28,IM28) -> 20859.353 | IT28: =SUM(IB28,IH28,IN28) -> 9532.4755 | IU28: =SUM(IC28,II28,IO28) -> 0 | IV28: =SUM(IQ28:IU28) -> 99207.458 | JB28: =SUM(IW28:JA28) -> 0 | JH28: =SUM(JC28:JG28) -> 0 | JN28: =SUM(JI28:JM28) -> 0 | JO28: =SUM(IW28,JC28,JI28) -> 0 | JP28: =SUM(IX28,JD28,JJ28) -> 0 | JQ28: =SUM(IY28,JE28,JK28) -> 0 | JR28: =SUM(IZ28,JF28,JL28) -> 0 | JS28: =SUM(JA28,JG28,JM28) -> 0 | JT28: =SUM(JO28:JS28) -> 0 | JV28: =SUM(N28,AL28,BK28,CK28,DT28,FQ28,HS28,IQ28,JO28) -> 0 | JW28: =SUM(O28,AM28,BL28,CL28,DU28,FR28,HT28,IR28,JP28) -> 89211.535 | JX28: =SUM(P28,AN28,BM28,CM28,DV28,FS28,HU28,IS28,JQ28) -> 31461.19 | JY28: =SUM(Q28,AO28,BN28,CN28,DW28,FT28,HV28,IT28,JR28) -> 9532.4755 | JZ28: =SUM(R28,AP28,BO28,CO28,DX28,FU28,HW28,IU28,JS28) -> 0 | KA28: =SUM(BP28,CP28,DY28) -> 0 | KB28: =SUM(JV28:KA28) -> 130205.2
A29: IDC=Larch casebearer | G29: =SUM(B29:F29) -> 0 | M29: =SUM(H29:L29) -> 0 | N29: =SUM(B29,H29) -> 0 | O29: =SUM(C29,I29) -> 0 | P29: =SUM(D29,J29) -> 0 | Q29: =SUM(E29,K29) -> 0 | R29: =SUM(F29,L29) -> 0 | S29: =SUM(N29:R29) -> 0 | Y29: =SUM(T29:X29) -> 0 | AE29: =SUM(Z29:AD29) -> 0 | AK29: =SUM(AF29:AJ29) -> 0 | AL29: =SUM(T29,Z29,AF29) -> 0 | AM29: =SUM(U29,AA29,AG29) -> 0 | AN29: =SUM(V29,AB29,AH29) -> 0 | AO29: =SUM(W29,AC29,AI29) -> 0 | AP29: =SUM(X29,AD29,AJ29) -> 0 | AQ29: =SUM(AL29:AP29) -> 0 | AW29: =SUM(AR29:AV29) -> 0 | BD29: =SUM(AX29:BC29) -> 0 | BJ29: =SUM(BE29:BI29) -> 0 | BK29: =SUM(AR29,AX29,BE29) -> 0 | BL29: =SUM(AS29,AY29,BF29) -> 0 | BM29: =SUM(AT29,AZ29,BG29) -> 0 | BN29: =SUM(AU29,BA29,BH29) -> 0 | BO29: =SUM(AV29,BB29,BI29) -> 0 | BP29: =SUM(BC29) -> 0 | BQ29: =SUM(BK29:BP29) -> 0 | BW29: =SUM(BR29:BV29) -> 0 | CC29: =SUM(BX29:CB29) -> 0 | CJ29: =SUM(CD29:CI29) -> 0 | CK29: =SUM(BR29,BX29,CD29) -> 0 | CL29: =SUM(BS29,BY29,CE29) -> 0 | CM29: =SUM(BT29,BZ29,CF29) -> 0 | CN29: =SUM(BU29,CA29,CG29) -> 0 | CO29: =SUM(BV29,CB29,CH29) -> 0 | CP29: =SUM(CI29) -> 0 | CQ29: =SUM(CK29:CP29) -> 0 | CX29: =SUM(CR29:CW29) -> 0 | DE29: =SUM(CY29:DD29) -> 0 | DL29: =SUM(DF29:DK29) -> 0 | DS29: =SUM(DM29:DR29) -> 0 | DT29: =SUM(CR29,CY29,DF29,DM29) -> 0 | DU29: =SUM(CS29,CZ29,DG29,DN29) -> 0 | DV29: =SUM(CT29,DA29,DH29,DO29) -> 0 | DW29: =SUM(CU29,DB29,DI29,DP29) -> 0 | DX29: =SUM(CV29,DC29,DJ29,DQ29) -> 0 | DY29: =SUM(CW29,DD29,DK29,DR29) -> 0 | DZ29: =SUM(DT29:DY29) -> 0 | EF29: =SUM(EA29:EE29) -> 0 | EL29: =SUM(EG29:EK29) -> 0 | ER29: =SUM(EM29:EQ29) -> 0 | EX29: =SUM(ES29:EW29) -> 0 | FD29: =SUM(EY29:FC29) -> 0 | FJ29: =SUM(FE29:FI29) -> 0 | FP29: =SUM(FK29:FO29) -> 0 | FQ29: =SUM(EA29,EG29,EM29,ES29,EY29,FE29,FK29) -> 0 | FR29: =SUM(EB29,EH29,EN29,ET29,EZ29,FF29,FL29) -> 0 | FS29: =SUM(EC29,EI29,EO29,EU29,FA29,FG29,FM29) -> 0 | FT29: =SUM(ED29,EJ29,EP29,EV29,FB29,FH29,FN29) -> 0 | FU29: =SUM(EE29,EK29,EQ29,EW29,FC29,FI29,FO29) -> 0 | FV29: =SUM(FQ29:FU29) -> 0 | GB29: =SUM(FW29:GA29) -> 0 | GH29: =SUM(GC29:GG29) -> 0 | GN29: =SUM(GI29:GM29) -> 0 | GT29: =SUM(GO29:GS29) -> 0 | GZ29: =SUM(GU29:GY29) -> 0 | HF29: =SUM(HA29:HE29) -> 0 | HL29: =SUM(HG29:HK29) -> 0 | HR29: =SUM(HM29:HQ29) -> 0 | HS29: =SUM(FW29,GC29,GI29,GO29,GU29,HA29,HG29,HM29) -> 0 | HT29: =SUM(FX29,GD29,GJ29,GP29,GV29,HB29,HH29,HN29) -> 0 | HU29: =SUM(HO29,HI29,HC29,GW29,GQ29,GK29,GE29,FY29) -> 0 | HV29: =SUM(HP29,HJ29,HD29,GX29,GR29,GL29,GF29,FZ29) -> 0 | HW29: =SUM(HQ29,HK29,HE29,GY29,GS29,GM29,GG29,GA29) -> 0 | HX29: =SUM(HS29:HW29) -> 0 | ID29: =SUM(HY29:IC29) -> 0 | IJ29: =SUM(IE29:II29) -> 0 | IP29: =SUM(IK29:IO29) -> 0 | IQ29: =SUM(HY29,IE29,IK29) -> 0 | IR29: =SUM(HZ29,IF29,IL29) -> 0 | IS29: =SUM(IA29,IG29,IM29) -> 0 | IT29: =SUM(IB29,IH29,IN29) -> 0 | IU29: =SUM(IC29,II29,IO29) -> 0 | IV29: =SUM(IQ29:IU29) -> 0 | JB29: =SUM(IW29:JA29) -> 0 | JH29: =SUM(JC29:JG29) -> 0 | JN29: =SUM(JI29:JM29) -> 0 | JO29: =SUM(IW29,JC29,JI29) -> 0 | JP29: =SUM(IX29,JD29,JJ29) -> 0 | JQ29: =SUM(IY29,JE29,JK29) -> 0 | JR29: =SUM(IZ29,JF29,JL29) -> 0 | JS29: =SUM(JA29,JG29,JM29) -> 0 | JT29: =SUM(JO29:JS29) -> 0 | JV29: =SUM(N29,AL29,BK29,CK29,DT29,FQ29,HS29,IQ29,JO29) -> 0 | JW29: =SUM(O29,AM29,BL29,CL29,DU29,FR29,HT29,IR29,JP29) -> 0 | JX29: =SUM(P29,AN29,BM29,CM29,DV29,FS29,HU29,IS29,JQ29) -> 0 | JY29: =SUM(Q29,AO29,BN29,CN29,DW29,FT29,HV29,IT29,JR29) -> 0 | JZ29: =SUM(R29,AP29,BO29,CO29,DX29,FU29,HW29,IU29,JS29) -> 0 | KA29: =SUM(BP29,CP29,DY29) -> 0 | KB29: =SUM(JV29:KA29) -> 0
A30: IDD=Western Winter Moth | G30: =SUM(B30:F30) -> 0 | M30: =SUM(H30:L30) -> 0 | N30: =SUM(B30,H30) -> 0 | O30: =SUM(C30,I30) -> 0 | P30: =SUM(D30,J30) -> 0 | Q30: =SUM(E30,K30) -> 0 | R30: =SUM(F30,L30) -> 0 | S30: =SUM(N30:R30) -> 0 | Y30: =SUM(T30:X30) -> 0 | AE30: =SUM(Z30:AD30) -> 0 | AK30: =SUM(AF30:AJ30) -> 0 | AL30: =SUM(T30,Z30,AF30) -> 0 | AM30: =SUM(U30,AA30,AG30) -> 0 | AN30: =SUM(V30,AB30,AH30) -> 0 | AO30: =SUM(W30,AC30,AI30) -> 0 | AP30: =SUM(X30,AD30,AJ30) -> 0 | AQ30: =SUM(AL30:AP30) -> 0 | AW30: =SUM(AR30:AV30) -> 0 | BD30: =SUM(AX30:BC30) -> 0 | BJ30: =SUM(BE30:BI30) -> 0 | BK30: =SUM(AR30,AX30,BE30) -> 0 | BL30: =SUM(AS30,AY30,BF30) -> 0 | BM30: =SUM(AT30,AZ30,BG30) -> 0 | BN30: =SUM(AU30,BA30,BH30) -> 0 | BO30: =SUM(AV30,BB30,BI30) -> 0 | BP30: =SUM(BC30) -> 0 | BQ30: =SUM(BK30:BP30) -> 0 | BW30: =SUM(BR30:BV30) -> 0 | CC30: =SUM(BX30:CB30) -> 0 | CJ30: =SUM(CD30:CI30) -> 0 | CK30: =SUM(BR30,BX30,CD30) -> 0 | CL30: =SUM(BS30,BY30,CE30) -> 0 | CM30: =SUM(BT30,BZ30,CF30) -> 0 | CN30: =SUM(BU30,CA30,CG30) -> 0 | CO30: =SUM(BV30,CB30,CH30) -> 0 | CP30: =SUM(CI30) -> 0 | CQ30: =SUM(CK30:CP30) -> 0 | CX30: =SUM(CR30:CW30) -> 0 | DE30: =SUM(CY30:DD30) -> 0 | DL30: =SUM(DF30:DK30) -> 0 | DS30: =SUM(DM30:DR30) -> 0 | DT30: =SUM(CR30,CY30,DF30,DM30) -> 0 | DU30: =SUM(CS30,CZ30,DG30,DN30) -> 0 | DV30: =SUM(CT30,DA30,DH30,DO30) -> 0 | DW30: =SUM(CU30,DB30,DI30,DP30) -> 0 | DX30: =SUM(CV30,DC30,DJ30,DQ30) -> 0 | DY30: =SUM(CW30,DD30,DK30,DR30) -> 0 | DZ30: =SUM(DT30:DY30) -> 0 | EF30: =SUM(EA30:EE30) -> 0 | EL30: =SUM(EG30:EK30) -> 0 | ER30: =SUM(EM30:EQ30) -> 0 | EX30: =SUM(ES30:EW30) -> 0 | FD30: =SUM(EY30:FC30) -> 0 | FJ30: =SUM(FE30:FI30) -> 0 | FP30: =SUM(FK30:FO30) -> 0 | FQ30: =SUM(EA30,EG30,EM30,ES30,EY30,FE30,FK30) -> 0 | FR30: =SUM(EB30,EH30,EN30,ET30,EZ30,FF30,FL30) -> 0 | FS30: =SUM(EC30,EI30,EO30,EU30,FA30,FG30,FM30) -> 0 | FT30: =SUM(ED30,EJ30,EP30,EV30,FB30,FH30,FN30) -> 0 | FU30: =SUM(EE30,EK30,EQ30,EW30,FC30,FI30,FO30) -> 0 | FV30: =SUM(FQ30:FU30) -> 0 | GB30: =SUM(FW30:GA30) -> 0 | GH30: =SUM(GC30:GG30) -> 0 | GN30: =SUM(GI30:GM30) -> 0 | GT30: =SUM(GO30:GS30) -> 0 | GZ30: =SUM(GU30:GY30) -> 0 | HF30: =SUM(HA30:HE30) -> 0 | HL30: =SUM(HG30:HK30) -> 0 | HR30: =SUM(HM30:HQ30) -> 0 | HS30: =SUM(FW30,GC30,GI30,GO30,GU30,HA30,HG30,HM30) -> 0 | HT30: =SUM(FX30,GD30,GJ30,GP30,GV30,HB30,HH30,HN30) -> 0 | HU30: =SUM(HO30,HI30,HC30,GW30,GQ30,GK30,GE30,FY30) -> 0 | HV30: =SUM(HP30,HJ30,HD30,GX30,GR30,GL30,GF30,FZ30) -> 0 | HW30: =SUM(HQ30,HK30,HE30,GY30,GS30,GM30,GG30,GA30) -> 0 | HX30: =SUM(HS30:HW30) -> 0 | ID30: =SUM(HY30:IC30) -> 0 | IJ30: =SUM(IE30:II30) -> 0 | IP30: =SUM(IK30:IO30) -> 0 | IQ30: =SUM(HY30,IE30,IK30) -> 0 | IR30: =SUM(HZ30,IF30,IL30) -> 0 | IS30: =SUM(IA30,IG30,IM30) -> 0 | IT30: =SUM(IB30,IH30,IN30) -> 0 | IU30: =SUM(IC30,II30,IO30) -> 0 | IV30: =SUM(IQ30:IU30) -> 0 | JB30: =SUM(IW30:JA30) -> 0 | JH30: =SUM(JC30:JG30) -> 0 | JN30: =SUM(JI30:JM30) -> 0 | JO30: =SUM(IW30,JC30,JI30) -> 0 | JP30: =SUM(IX30,JD30,JJ30) -> 0 | JQ30: =SUM(IY30,JE30,JK30) -> 0 | JR30: =SUM(IZ30,JF30,JL30) -> 0 | JS30: =SUM(JA30,JG30,JM30) -> 0 | JT30: =SUM(JO30:JS30) -> 0 | JV30: =SUM(N30,AL30,BK30,CK30,DT30,FQ30,HS30,IQ30,JO30) -> 0 | JW30: =SUM(O30,AM30,BL30,CL30,DU30,FR30,HT30,IR30,JP30) -> 0 | JX30: =SUM(P30,AN30,BM30,CM30,DV30,FS30,HU30,IS30,JQ30) -> 0 | JY30: =SUM(Q30,AO30,BN30,CN30,DW30,FT30,HV30,IT30,JR30) -> 0 | JZ30: =SUM(R30,AP30,BO30,CO30,DX30,FU30,HW30,IU30,JS30) -> 0 | KA30: =SUM(BP30,CP30,DY30) -> 0 | KB30: =SUM(JV30:KA30) -> 0
A31: IDE=Spruce Budworm | G31: =SUM(B31:F31) -> 0 | M31: =SUM(H31:L31) -> 0 | N31: =SUM(B31,H31) -> 0 | O31: =SUM(C31,I31) -> 0 | P31: =SUM(D31,J31) -> 0 | Q31: =SUM(E31,K31) -> 0 | R31: =SUM(F31,L31) -> 0 | S31: =SUM(N31:R31) -> 0 | Y31: =SUM(T31:X31) -> 0 | AE31: =SUM(Z31:AD31) -> 0 | AK31: =SUM(AF31:AJ31) -> 0 | AL31: =SUM(T31,Z31,AF31) -> 0 | AM31: =SUM(U31,AA31,AG31) -> 0 | AN31: =SUM(V31,AB31,AH31) -> 0 | AO31: =SUM(W31,AC31,AI31) -> 0 | AP31: =SUM(X31,AD31,AJ31) -> 0 | AQ31: =SUM(AL31:AP31) -> 0 | AW31: =SUM(AR31:AV31) -> 0 | BD31: =SUM(AX31:BC31) -> 0 | BJ31: =SUM(BE31:BI31) -> 0 | BK31: =SUM(AR31,AX31,BE31) -> 0 | BL31: =SUM(AS31,AY31,BF31) -> 0 | BM31: =SUM(AT31,AZ31,BG31) -> 0 | BN31: =SUM(AU31,BA31,BH31) -> 0 | BO31: =SUM(AV31,BB31,BI31) -> 0 | BP31: =SUM(BC31) -> 0 | BQ31: =SUM(BK31:BP31) -> 0 | BW31: =SUM(BR31:BV31) -> 0 | CC31: =SUM(BX31:CB31) -> 0 | CJ31: =SUM(CD31:CI31) -> 0 | CK31: =SUM(BR31,BX31,CD31) -> 0 | CL31: =SUM(BS31,BY31,CE31) -> 0 | CM31: =SUM(BT31,BZ31,CF31) -> 0 | CN31: =SUM(BU31,CA31,CG31) -> 0 | CO31: =SUM(BV31,CB31,CH31) -> 0 | CP31: =SUM(CI31) -> 0 | CQ31: =SUM(CK31:CP31) -> 0 | CX31: =SUM(CR31:CW31) -> 0 | DE31: =SUM(CY31:DD31) -> 0 | DL31: =SUM(DF31:DK31) -> 0 | DS31: =SUM(DM31:DR31) -> 0 | DT31: =SUM(CR31,CY31,DF31,DM31) -> 0 | DU31: =SUM(CS31,CZ31,DG31,DN31) -> 0 | DV31: =SUM(CT31,DA31,DH31,DO31) -> 0 | DW31: =SUM(CU31,DB31,DI31,DP31) -> 0 | DX31: =SUM(CV31,DC31,DJ31,DQ31) -> 0 | DY31: =SUM(CW31,DD31,DK31,DR31) -> 0 | DZ31: =SUM(DT31:DY31) -> 0 | EF31: =SUM(EA31:EE31) -> 0 | EL31: =SUM(EG31:EK31) -> 0 | ER31: =SUM(EM31:EQ31) -> 0 | EX31: =SUM(ES31:EW31) -> 0 | FD31: =SUM(EY31:FC31) -> 0 | FJ31: =SUM(FE31:FI31) -> 0 | FP31: =SUM(FK31:FO31) -> 0 | FQ31: =SUM(EA31,EG31,EM31,ES31,EY31,FE31,FK31) -> 0 | FR31: =SUM(EB31,EH31,EN31,ET31,EZ31,FF31,FL31) -> 0 | FS31: =SUM(EC31,EI31,EO31,EU31,FA31,FG31,FM31) -> 0 | FT31: =SUM(ED31,EJ31,EP31,EV31,FB31,FH31,FN31) -> 0 | FU31: =SUM(EE31,EK31,EQ31,EW31,FC31,FI31,FO31) -> 0 | FV31: =SUM(FQ31:FU31) -> 0 | GB31: =SUM(FW31:GA31) -> 0 | GD31: 12.472706 | GH31: =SUM(GC31:GG31) -> 12.472706 | GN31: =SUM(GI31:GM31) -> 0 | GT31: =SUM(GO31:GS31) -> 0 | GZ31: =SUM(GU31:GY31) -> 0 | HF31: =SUM(HA31:HE31) -> 0 | HL31: =SUM(HG31:HK31) -> 0 | HR31: =SUM(HM31:HQ31) -> 0 | HS31: =SUM(FW31,GC31,GI31,GO31,GU31,HA31,HG31,HM31) -> 0 | HT31: =SUM(FX31,GD31,GJ31,GP31,GV31,HB31,HH31,HN31) -> 12.472706 | HU31: =SUM(HO31,HI31,HC31,GW31,GQ31,GK31,GE31,FY31) -> 0 | HV31: =SUM(HP31,HJ31,HD31,GX31,GR31,GL31,GF31,FZ31) -> 0 | HW31: =SUM(HQ31,HK31,HE31,GY31,GS31,GM31,GG31,GA31) -> 0 | HX31: =SUM(HS31:HW31) -> 12.472706 | ID31: =SUM(HY31:IC31) -> 0 | IJ31: =SUM(IE31:II31) -> 0 | IP31: =SUM(IK31:IO31) -> 0 | IQ31: =SUM(HY31,IE31,IK31) -> 0 | IR31: =SUM(HZ31,IF31,IL31) -> 0 | IS31: =SUM(IA31,IG31,IM31) -> 0 | IT31: =SUM(IB31,IH31,IN31) -> 0 | IU31: =SUM(IC31,II31,IO31) -> 0 | IV31: =SUM(IQ31:IU31) -> 0 | JB31: =SUM(IW31:JA31) -> 0 | JD31: 1206.9382 | JE31: 2666.04 | JH31: =SUM(JC31:JG31) -> 3872.9782 | JN31: =SUM(JI31:JM31) -> 0 | JO31: =SUM(IW31,JC31,JI31) -> 0 | JP31: =SUM(IX31,JD31,JJ31) -> 1206.9382 | JQ31: =SUM(IY31,JE31,JK31) -> 2666.04 | JR31: =SUM(IZ31,JF31,JL31) -> 0 | JS31: =SUM(JA31,JG31,JM31) -> 0 | JT31: =SUM(JO31:JS31) -> 3872.9782 | JV31: =SUM(N31,AL31,BK31,CK31,DT31,FQ31,HS31,IQ31,JO31) -> 0 | JW31: =SUM(O31,AM31,BL31,CL31,DU31,FR31,HT31,IR31,JP31) -> 1219.4109 | JX31: =SUM(P31,AN31,BM31,CM31,DV31,FS31,HU31,IS31,JQ31) -> 2666.04 | JY31: =SUM(Q31,AO31,BN31,CN31,DW31,FT31,HV31,IT31,JR31) -> 0 | JZ31: =SUM(R31,AP31,BO31,CO31,DX31,FU31,HW31,IU31,JS31) -> 0 | KA31: =SUM(BP31,CP31,DY31) -> 0 | KB31: =SUM(JV31:KA31) -> 3885.4509
A32: IDF=Forest Tent Caterpillar | G32: =SUM(B32:F32) -> 0 | M32: =SUM(H32:L32) -> 0 | N32: =SUM(B32,H32) -> 0 | O32: =SUM(C32,I32) -> 0 | P32: =SUM(D32,J32) -> 0 | Q32: =SUM(E32,K32) -> 0 | R32: =SUM(F32,L32) -> 0 | S32: =SUM(N32:R32) -> 0 | Y32: =SUM(T32:X32) -> 0 | AE32: =SUM(Z32:AD32) -> 0 | AK32: =SUM(AF32:AJ32) -> 0 | AL32: =SUM(T32,Z32,AF32) -> 0 | AM32: =SUM(U32,AA32,AG32) -> 0 | AN32: =SUM(V32,AB32,AH32) -> 0 | AO32: =SUM(W32,AC32,AI32) -> 0 | AP32: =SUM(X32,AD32,AJ32) -> 0 | AQ32: =SUM(AL32:AP32) -> 0 | AW32: =SUM(AR32:AV32) -> 0 | BD32: =SUM(AX32:BC32) -> 0 | BJ32: =SUM(BE32:BI32) -> 0 | BK32: =SUM(AR32,AX32,BE32) -> 0 | BL32: =SUM(AS32,AY32,BF32) -> 0 | BM32: =SUM(AT32,AZ32,BG32) -> 0 | BN32: =SUM(AU32,BA32,BH32) -> 0 | BO32: =SUM(AV32,BB32,BI32) -> 0 | BP32: =SUM(BC32) -> 0 | BQ32: =SUM(BK32:BP32) -> 0 | BW32: =SUM(BR32:BV32) -> 0 | CC32: =SUM(BX32:CB32) -> 0 | CJ32: =SUM(CD32:CI32) -> 0 | CK32: =SUM(BR32,BX32,CD32) -> 0 | CL32: =SUM(BS32,BY32,CE32) -> 0 | CM32: =SUM(BT32,BZ32,CF32) -> 0 | CN32: =SUM(BU32,CA32,CG32) -> 0 | CO32: =SUM(BV32,CB32,CH32) -> 0 | CP32: =SUM(CI32) -> 0 | CQ32: =SUM(CK32:CP32) -> 0 | CX32: =SUM(CR32:CW32) -> 0 | DE32: =SUM(CY32:DD32) -> 0 | DL32: =SUM(DF32:DK32) -> 0 | DS32: =SUM(DM32:DR32) -> 0 | DT32: =SUM(CR32,CY32,DF32,DM32) -> 0 | DU32: =SUM(CS32,CZ32,DG32,DN32) -> 0 | DV32: =SUM(CT32,DA32,DH32,DO32) -> 0 | DW32: =SUM(CU32,DB32,DI32,DP32) -> 0 | DX32: =SUM(CV32,DC32,DJ32,DQ32) -> 0 | DY32: =SUM(CW32,DD32,DK32,DR32) -> 0 | DZ32: =SUM(DT32:DY32) -> 0 | EF32: =SUM(EA32:EE32) -> 0 | EL32: =SUM(EG32:EK32) -> 0 | ER32: =SUM(EM32:EQ32) -> 0 | EX32: =SUM(ES32:EW32) -> 0 | FD32: =SUM(EY32:FC32) -> 0 | FJ32: =SUM(FE32:FI32) -> 0 | FP32: =SUM(FK32:FO32) -> 0 | FQ32: =SUM(EA32,EG32,EM32,ES32,EY32,FE32,FK32) -> 0 | FR32: =SUM(EB32,EH32,EN32,ET32,EZ32,FF32,FL32) -> 0 | FS32: =SUM(EC32,EI32,EO32,EU32,FA32,FG32,FM32) -> 0 | FT32: =SUM(ED32,EJ32,EP32,EV32,FB32,FH32,FN32) -> 0 | FU32: =SUM(EE32,EK32,EQ32,EW32,FC32,FI32,FO32) -> 0 | FV32: =SUM(FQ32:FU32) -> 0 | GB32: =SUM(FW32:GA32) -> 0 | GH32: =SUM(GC32:GG32) -> 0 | GN32: =SUM(GI32:GM32) -> 0 | GT32: =SUM(GO32:GS32) -> 0 | GZ32: =SUM(GU32:GY32) -> 0 | HF32: =SUM(HA32:HE32) -> 0 | HL32: =SUM(HG32:HK32) -> 0 | HR32: =SUM(HM32:HQ32) -> 0 | HS32: =SUM(FW32,GC32,GI32,GO32,GU32,HA32,HG32,HM32) -> 0 | HT32: =SUM(FX32,GD32,GJ32,GP32,GV32,HB32,HH32,HN32) -> 0 | HU32: =SUM(HO32,HI32,HC32,GW32,GQ32,GK32,GE32,FY32) -> 0 | HV32: =SUM(HP32,HJ32,HD32,GX32,GR32,GL32,GF32,FZ32) -> 0 | HW32: =SUM(HQ32,HK32,HE32,GY32,GS32,GM32,GG32,GA32) -> 0 | HX32: =SUM(HS32:HW32) -> 0 | ID32: =SUM(HY32:IC32) -> 0 | IJ32: =SUM(IE32:II32) -> 0 | IP32: =SUM(IK32:IO32) -> 0 | IQ32: =SUM(HY32,IE32,IK32) -> 0 | IR32: =SUM(HZ32,IF32,IL32) -> 0 | IS32: =SUM(IA32,IG32,IM32) -> 0 | IT32: =SUM(IB32,IH32,IN32) -> 0 | IU32: =SUM(IC32,II32,IO32) -> 0 | IV32: =SUM(IQ32:IU32) -> 0 | JB32: =SUM(IW32:JA32) -> 0 | JH32: =SUM(JC32:JG32) -> 0 | JN32: =SUM(JI32:JM32) -> 0 | JO32: =SUM(IW32,JC32,JI32) -> 0 | JP32: =SUM(IX32,JD32,JJ32) -> 0 | JQ32: =SUM(IY32,JE32,JK32) -> 0 | JR32: =SUM(IZ32,JF32,JL32) -> 0 | JS32: =SUM(JA32,JG32,JM32) -> 0 | JT32: =SUM(JO32:JS32) -> 0 | JV32: =SUM(N32,AL32,BK32,CK32,DT32,FQ32,HS32,IQ32,JO32) -> 0 | JW32: =SUM(O32,AM32,BL32,CL32,DU32,FR32,HT32,IR32,JP32) -> 0 | JX32: =SUM(P32,AN32,BM32,CM32,DV32,FS32,HU32,IS32,JQ32) -> 0 | JY32: =SUM(Q32,AO32,BN32,CN32,DW32,FT32,HV32,IT32,JR32) -> 0 | JZ32: =SUM(R32,AP32,BO32,CO32,DX32,FU32,HW32,IU32,JS32) -> 0 | KA32: =SUM(BP32,CP32,DY32) -> 0 | KB32: =SUM(JV32:KA32) -> 0
A33: IDH=Western Blackheaded Budworm | G33: =SUM(B33:F33) -> 0 | M33: =SUM(H33:L33) -> 0 | N33: =SUM(B33,H33) -> 0 | O33: =SUM(C33,I33) -> 0 | P33: =SUM(D33,J33) -> 0 | Q33: =SUM(E33,K33) -> 0 | R33: =SUM(F33,L33) -> 0 | S33: =SUM(N33:R33) -> 0 | Y33: =SUM(T33:X33) -> 0 | AE33: =SUM(Z33:AD33) -> 0 | AK33: =SUM(AF33:AJ33) -> 0 | AL33: =SUM(T33,Z33,AF33) -> 0 | AM33: =SUM(U33,AA33,AG33) -> 0 | AN33: =SUM(V33,AB33,AH33) -> 0 | AO33: =SUM(W33,AC33,AI33) -> 0 | AP33: =SUM(X33,AD33,AJ33) -> 0 | AQ33: =SUM(AL33:AP33) -> 0 | AW33: =SUM(AR33:AV33) -> 0 | AY33: 370.29424 | BD33: =SUM(AX33:BC33) -> 370.29424 | BJ33: =SUM(BE33:BI33) -> 0 | BK33: =SUM(AR33,AX33,BE33) -> 0 | BL33: =SUM(AS33,AY33,BF33) -> 370.29424 | BM33: =SUM(AT33,AZ33,BG33) -> 0 | BN33: =SUM(AU33,BA33,BH33) -> 0 | BO33: =SUM(AV33,BB33,BI33) -> 0 | BP33: =SUM(BC33) -> 0 | BQ33: =SUM(BK33:BP33) -> 370.29424 | BW33: =SUM(BR33:BV33) -> 0 | CC33: =SUM(BX33:CB33) -> 0 | CJ33: =SUM(CD33:CI33) -> 0 | CK33: =SUM(BR33,BX33,CD33) -> 0 | CL33: =SUM(BS33,BY33,CE33) -> 0 | CM33: =SUM(BT33,BZ33,CF33) -> 0 | CN33: =SUM(BU33,CA33,CG33) -> 0 | CO33: =SUM(BV33,CB33,CH33) -> 0 | CP33: =SUM(CI33) -> 0 | CQ33: =SUM(CK33:CP33) -> 0 | CX33: =SUM(CR33:CW33) -> 0 | DE33: =SUM(CY33:DD33) -> 0 | DL33: =SUM(DF33:DK33) -> 0 | DS33: =SUM(DM33:DR33) -> 0 | DT33: =SUM(CR33,CY33,DF33,DM33) -> 0 | DU33: =SUM(CS33,CZ33,DG33,DN33) -> 0 | DV33: =SUM(CT33,DA33,DH33,DO33) -> 0 | DW33: =SUM(CU33,DB33,DI33,DP33) -> 0 | DX33: =SUM(CV33,DC33,DJ33,DQ33) -> 0 | DY33: =SUM(CW33,DD33,DK33,DR33) -> 0 | DZ33: =SUM(DT33:DY33) -> 0 | EF33: =SUM(EA33:EE33) -> 0 | EL33: =SUM(EG33:EK33) -> 0 | ER33: =SUM(EM33:EQ33) -> 0 | EX33: =SUM(ES33:EW33) -> 0 | FD33: =SUM(EY33:FC33) -> 0 | FJ33: =SUM(FE33:FI33) -> 0 | FP33: =SUM(FK33:FO33) -> 0 | FQ33: =SUM(EA33,EG33,EM33,ES33,EY33,FE33,FK33) -> 0 | FR33: =SUM(EB33,EH33,EN33,ET33,EZ33,FF33,FL33) -> 0 | FS33: =SUM(EC33,EI33,EO33,EU33,FA33,FG33,FM33) -> 0 | FT33: =SUM(ED33,EJ33,EP33,EV33,FB33,FH33,FN33) -> 0 | FU33: =SUM(EE33,EK33,EQ33,EW33,FC33,FI33,FO33) -> 0 | FV33: =SUM(FQ33:FU33) -> 0 | GB33: =SUM(FW33:GA33) -> 0 | GH33: =SUM(GC33:GG33) -> 0 | GN33: =SUM(GI33:GM33) -> 0 | GT33: =SUM(GO33:GS33) -> 0 | GZ33: =SUM(GU33:GY33) -> 0 | HF33: =SUM(HA33:HE33) -> 0 | HL33: =SUM(HG33:HK33) -> 0 | HR33: =SUM(HM33:HQ33) -> 0 | HS33: =SUM(FW33,GC33,GI33,GO33,GU33,HA33,HG33,HM33) -> 0 | HT33: =SUM(FX33,GD33,GJ33,GP33,GV33,HB33,HH33,HN33) -> 0 | HU33: =SUM(HO33,HI33,HC33,GW33,GQ33,GK33,GE33,FY33) -> 0 | HV33: =SUM(HP33,HJ33,HD33,GX33,GR33,GL33,GF33,FZ33) -> 0 | HW33: =SUM(HQ33,HK33,HE33,GY33,GS33,GM33,GG33,GA33) -> 0 | HX33: =SUM(HS33:HW33) -> 0 | ID33: =SUM(HY33:IC33) -> 0 | IJ33: =SUM(IE33:II33) -> 0 | IP33: =SUM(IK33:IO33) -> 0 | IQ33: =SUM(HY33,IE33,IK33) -> 0 | IR33: =SUM(HZ33,IF33,IL33) -> 0 | IS33: =SUM(IA33,IG33,IM33) -> 0 | IT33: =SUM(IB33,IH33,IN33) -> 0 | IU33: =SUM(IC33,II33,IO33) -> 0 | IV33: =SUM(IQ33:IU33) -> 0 | JB33: =SUM(IW33:JA33) -> 0 | JH33: =SUM(JC33:JG33) -> 0 | JN33: =SUM(JI33:JM33) -> 0 | JO33: =SUM(IW33,JC33,JI33) -> 0 | JP33: =SUM(IX33,JD33,JJ33) -> 0 | JQ33: =SUM(IY33,JE33,JK33) -> 0 | JR33: =SUM(IZ33,JF33,JL33) -> 0 | JS33: =SUM(JA33,JG33,JM33) -> 0 | JT33: =SUM(JO33:JS33) -> 0 | JV33: =SUM(N33,AL33,BK33,CK33,DT33,FQ33,HS33,IQ33,JO33) -> 0 | JW33: =SUM(O33,AM33,BL33,CL33,DU33,FR33,HT33,IR33,JP33) -> 370.29424 | JX33: =SUM(P33,AN33,BM33,CM33,DV33,FS33,HU33,IS33,JQ33) -> 0 | JY33: =SUM(Q33,AO33,BN33,CN33,DW33,FT33,HV33,IT33,JR33) -> 0 | JZ33: =SUM(R33,AP33,BO33,CO33,DX33,FU33,HW33,IU33,JS33) -> 0 | KA33: =SUM(BP33,CP33,DY33) -> 0 | KB33: =SUM(JV33:KA33) -> 370.29424
A34: IDI=Pine needle sheathminer | G34: =SUM(B34:F34) -> 0 | M34: =SUM(H34:L34) -> 0 | N34: =SUM(B34,H34) -> 0 | O34: =SUM(C34,I34) -> 0 | P34: =SUM(D34,J34) -> 0 | Q34: =SUM(E34,K34) -> 0 | R34: =SUM(F34,L34) -> 0 | S34: =SUM(N34:R34) -> 0 | Y34: =SUM(T34:X34) -> 0 | AE34: =SUM(Z34:AD34) -> 0 | AK34: =SUM(AF34:AJ34) -> 0 | AL34: =SUM(T34,Z34,AF34) -> 0 | AM34: =SUM(U34,AA34,AG34) -> 0 | AN34: =SUM(V34,AB34,AH34) -> 0 | AO34: =SUM(W34,AC34,AI34) -> 0 | AP34: =SUM(X34,AD34,AJ34) -> 0 | AQ34: =SUM(AL34:AP34) -> 0 | AW34: =SUM(AR34:AV34) -> 0 | BD34: =SUM(AX34:BC34) -> 0 | BJ34: =SUM(BE34:BI34) -> 0 | BK34: =SUM(AR34,AX34,BE34) -> 0 | BL34: =SUM(AS34,AY34,BF34) -> 0 | BM34: =SUM(AT34,AZ34,BG34) -> 0 | BN34: =SUM(AU34,BA34,BH34) -> 0 | BO34: =SUM(AV34,BB34,BI34) -> 0 | BP34: =SUM(BC34) -> 0 | BQ34: =SUM(BK34:BP34) -> 0 | BW34: =SUM(BR34:BV34) -> 0 | BY34: 628.97409 | BZ34: 31.638448 | CA34: 90.775429 | CC34: =SUM(BX34:CB34) -> 751.38796 | CJ34: =SUM(CD34:CI34) -> 0 | CK34: =SUM(BR34,BX34,CD34) -> 0 | CL34: =SUM(BS34,BY34,CE34) -> 628.97409 | CM34: =SUM(BT34,BZ34,CF34) -> 31.638448 | CN34: =SUM(BU34,CA34,CG34) -> 90.775429 | CO34: =SUM(BV34,CB34,CH34) -> 0 | CP34: =SUM(CI34) -> 0 | CQ34: =SUM(CK34:CP34) -> 751.38796 | CX34: =SUM(CR34:CW34) -> 0 | DE34: =SUM(CY34:DD34) -> 0 | DL34: =SUM(DF34:DK34) -> 0 | DS34: =SUM(DM34:DR34) -> 0 | DT34: =SUM(CR34,CY34,DF34,DM34) -> 0 | DU34: =SUM(CS34,CZ34,DG34,DN34) -> 0 | DV34: =SUM(CT34,DA34,DH34,DO34) -> 0 | DW34: =SUM(CU34,DB34,DI34,DP34) -> 0 | DX34: =SUM(CV34,DC34,DJ34,DQ34) -> 0 | DY34: =SUM(CW34,DD34,DK34,DR34) -> 0 | DZ34: =SUM(DT34:DY34) -> 0 | EF34: =SUM(EA34:EE34) -> 0 | EL34: =SUM(EG34:EK34) -> 0 | ER34: =SUM(EM34:EQ34) -> 0 | EX34: =SUM(ES34:EW34) -> 0 | FD34: =SUM(EY34:FC34) -> 0 | FJ34: =SUM(FE34:FI34) -> 0 | FP34: =SUM(FK34:FO34) -> 0 | FQ34: =SUM(EA34,EG34,EM34,ES34,EY34,FE34,FK34) -> 0 | FR34: =SUM(EB34,EH34,EN34,ET34,EZ34,FF34,FL34) -> 0 | FS34: =SUM(EC34,EI34,EO34,EU34,FA34,FG34,FM34) -> 0 | FT34: =SUM(ED34,EJ34,EP34,EV34,FB34,FH34,FN34) -> 0 | FU34: =SUM(EE34,EK34,EQ34,EW34,FC34,FI34,FO34) -> 0 | FV34: =SUM(FQ34:FU34) -> 0 | GB34: =SUM(FW34:GA34) -> 0 | GH34: =SUM(GC34:GG34) -> 0 | GN34: =SUM(GI34:GM34) -> 0 | GT34: =SUM(GO34:GS34) -> 0 | GZ34: =SUM(GU34:GY34) -> 0 | HF34: =SUM(HA34:HE34) -> 0 | HL34: =SUM(HG34:HK34) -> 0 | HR34: =SUM(HM34:HQ34) -> 0 | HS34: =SUM(FW34,GC34,GI34,GO34,GU34,HA34,HG34,HM34) -> 0 | HT34: =SUM(FX34,GD34,GJ34,GP34,GV34,HB34,HH34,HN34) -> 0 | HU34: =SUM(HO34,HI34,HC34,GW34,GQ34,GK34,GE34,FY34) -> 0 | HV34: =SUM(HP34,HJ34,HD34,GX34,GR34,GL34,GF34,FZ34) -> 0 | HW34: =SUM(HQ34,HK34,HE34,GY34,GS34,GM34,GG34,GA34) -> 0 | HX34: =SUM(HS34:HW34) -> 0 | ID34: =SUM(HY34:IC34) -> 0 | IJ34: =SUM(IE34:II34) -> 0 | IL34: 1871.9423 | IM34: 2774.1531 | IN34: 1681.0652 | IP34: =SUM(IK34:IO34) -> 6327.1606 | IQ34: =SUM(HY34,IE34,IK34) -> 0 | IR34: =SUM(HZ34,IF34,IL34) -> 1871.9423 | IS34: =SUM(IA34,IG34,IM34) -> 2774.1531 | IT34: =SUM(IB34,IH34,IN34) -> 1681.0652 | IU34: =SUM(IC34,II34,IO34) -> 0 | IV34: =SUM(IQ34:IU34) -> 6327.1606 | JB34: =SUM(IW34:JA34) -> 0 | JH34: =SUM(JC34:JG34) -> 0 | JN34: =SUM(JI34:JM34) -> 0 | JO34: =SUM(IW34,JC34,JI34) -> 0 | JP34: =SUM(IX34,JD34,JJ34) -> 0 | JQ34: =SUM(IY34,JE34,JK34) -> 0 | JR34: =SUM(IZ34,JF34,JL34) -> 0 | JS34: =SUM(JA34,JG34,JM34) -> 0 | JT34: =SUM(JO34:JS34) -> 0 | JV34: =SUM(N34,AL34,BK34,CK34,DT34,FQ34,HS34,IQ34,JO34) -> 0 | JW34: =SUM(O34,AM34,BL34,CL34,DU34,FR34,HT34,IR34,JP34) -> 2500.9164 | JX34: =SUM(P34,AN34,BM34,CM34,DV34,FS34,HU34,IS34,JQ34) -> 2805.7915 | JY34: =SUM(Q34,AO34,BN34,CN34,DW34,FT34,HV34,IT34,JR34) -> 1771.8406 | JZ34: =SUM(R34,AP34,BO34,CO34,DX34,FU34,HW34,IU34,JS34) -> 0 | KA34: =SUM(BP34,CP34,DY34) -> 0 | KB34: =SUM(JV34:KA34) -> 7078.5485
A35: IDK=Northern Tent Caterpillar | G35: =SUM(B35:F35) -> 0 | M35: =SUM(H35:L35) -> 0 | N35: =SUM(B35,H35) -> 0 | O35: =SUM(C35,I35) -> 0 | P35: =SUM(D35,J35) -> 0 | Q35: =SUM(E35,K35) -> 0 | R35: =SUM(F35,L35) -> 0 | S35: =SUM(N35:R35) -> 0 | Y35: =SUM(T35:X35) -> 0 | AE35: =SUM(Z35:AD35) -> 0 | AK35: =SUM(AF35:AJ35) -> 0 | AL35: =SUM(T35,Z35,AF35) -> 0 | AM35: =SUM(U35,AA35,AG35) -> 0 | AN35: =SUM(V35,AB35,AH35) -> 0 | AO35: =SUM(W35,AC35,AI35) -> 0 | AP35: =SUM(X35,AD35,AJ35) -> 0 | AQ35: =SUM(AL35:AP35) -> 0 | AW35: =SUM(AR35:AV35) -> 0 | BD35: =SUM(AX35:BC35) -> 0 | BJ35: =SUM(BE35:BI35) -> 0 | BK35: =SUM(AR35,AX35,BE35) -> 0 | BL35: =SUM(AS35,AY35,BF35) -> 0 | BM35: =SUM(AT35,AZ35,BG35) -> 0 | BN35: =SUM(AU35,BA35,BH35) -> 0 | BO35: =SUM(AV35,BB35,BI35) -> 0 | BP35: =SUM(BC35) -> 0 | BQ35: =SUM(BK35:BP35) -> 0 | BW35: =SUM(BR35:BV35) -> 0 | CC35: =SUM(BX35:CB35) -> 0 | CJ35: =SUM(CD35:CI35) -> 0 | CK35: =SUM(BR35,BX35,CD35) -> 0 | CL35: =SUM(BS35,BY35,CE35) -> 0 | CM35: =SUM(BT35,BZ35,CF35) -> 0 | CN35: =SUM(BU35,CA35,CG35) -> 0 | CO35: =SUM(BV35,CB35,CH35) -> 0 | CP35: =SUM(CI35) -> 0 | CQ35: =SUM(CK35:CP35) -> 0 | CX35: =SUM(CR35:CW35) -> 0 | DE35: =SUM(CY35:DD35) -> 0 | DL35: =SUM(DF35:DK35) -> 0 | DS35: =SUM(DM35:DR35) -> 0 | DT35: =SUM(CR35,CY35,DF35,DM35) -> 0 | DU35: =SUM(CS35,CZ35,DG35,DN35) -> 0 | DV35: =SUM(CT35,DA35,DH35,DO35) -> 0 | DW35: =SUM(CU35,DB35,DI35,DP35) -> 0 | DX35: =SUM(CV35,DC35,DJ35,DQ35) -> 0 | DY35: =SUM(CW35,DD35,DK35,DR35) -> 0 | DZ35: =SUM(DT35:DY35) -> 0 | EF35: =SUM(EA35:EE35) -> 0 | EL35: =SUM(EG35:EK35) -> 0 | ER35: =SUM(EM35:EQ35) -> 0 | EX35: =SUM(ES35:EW35) -> 0 | FD35: =SUM(EY35:FC35) -> 0 | FJ35: =SUM(FE35:FI35) -> 0 | FP35: =SUM(FK35:FO35) -> 0 | FQ35: =SUM(EA35,EG35,EM35,ES35,EY35,FE35,FK35) -> 0 | FR35: =SUM(EB35,EH35,EN35,ET35,EZ35,FF35,FL35) -> 0 | FS35: =SUM(EC35,EI35,EO35,EU35,FA35,FG35,FM35) -> 0 | FT35: =SUM(ED35,EJ35,EP35,EV35,FB35,FH35,FN35) -> 0 | FU35: =SUM(EE35,EK35,EQ35,EW35,FC35,FI35,FO35) -> 0 | FV35: =SUM(FQ35:FU35) -> 0 | GB35: =SUM(FW35:GA35) -> 0 | GH35: =SUM(GC35:GG35) -> 0 | GN35: =SUM(GI35:GM35) -> 0 | GT35: =SUM(GO35:GS35) -> 0 | GZ35: =SUM(GU35:GY35) -> 0 | HF35: =SUM(HA35:HE35) -> 0 | HL35: =SUM(HG35:HK35) -> 0 | HR35: =SUM(HM35:HQ35) -> 0 | HS35: =SUM(FW35,GC35,GI35,GO35,GU35,HA35,HG35,HM35) -> 0 | HT35: =SUM(FX35,GD35,GJ35,GP35,GV35,HB35,HH35,HN35) -> 0 | HU35: =SUM(HO35,HI35,HC35,GW35,GQ35,GK35,GE35,FY35) -> 0 | HV35: =SUM(HP35,HJ35,HD35,GX35,GR35,GL35,GF35,FZ35) -> 0 | HW35: =SUM(HQ35,HK35,HE35,GY35,GS35,GM35,GG35,GA35) -> 0 | HX35: =SUM(HS35:HW35) -> 0 | ID35: =SUM(HY35:IC35) -> 0 | IJ35: =SUM(IE35:II35) -> 0 | IP35: =SUM(IK35:IO35) -> 0 | IQ35: =SUM(HY35,IE35,IK35) -> 0 | IR35: =SUM(HZ35,IF35,IL35) -> 0 | IS35: =SUM(IA35,IG35,IM35) -> 0 | IT35: =SUM(IB35,IH35,IN35) -> 0 | IU35: =SUM(IC35,II35,IO35) -> 0 | IV35: =SUM(IQ35:IU35) -> 0 | JB35: =SUM(IW35:JA35) -> 0 | JH35: =SUM(JC35:JG35) -> 0 | JN35: =SUM(JI35:JM35) -> 0 | JO35: =SUM(IW35,JC35,JI35) -> 0 | JP35: =SUM(IX35,JD35,JJ35) -> 0 | JQ35: =SUM(IY35,JE35,JK35) -> 0 | JR35: =SUM(IZ35,JF35,JL35) -> 0 | JS35: =SUM(JA35,JG35,JM35) -> 0 | JT35: =SUM(JO35:JS35) -> 0 | JV35: =SUM(N35,AL35,BK35,CK35,DT35,FQ35,HS35,IQ35,JO35) -> 0 | JW35: =SUM(O35,AM35,BL35,CL35,DU35,FR35,HT35,IR35,JP35) -> 0 | JX35: =SUM(P35,AN35,BM35,CM35,DV35,FS35,HU35,IS35,JQ35) -> 0 | JY35: =SUM(Q35,AO35,BN35,CN35,DW35,FT35,HV35,IT35,JR35) -> 0 | JZ35: =SUM(R35,AP35,BO35,CO35,DX35,FU35,HW35,IU35,JS35) -> 0 | KA35: =SUM(BP35,CP35,DY35) -> 0 | KB35: =SUM(JV35:KA35) -> 0
A36: IDL=Western Hemlock Looper | G36: =SUM(B36:F36) -> 0 | M36: =SUM(H36:L36) -> 0 | N36: =SUM(B36,H36) -> 0 | O36: =SUM(C36,I36) -> 0 | P36: =SUM(D36,J36) -> 0 | Q36: =SUM(E36,K36) -> 0 | R36: =SUM(F36,L36) -> 0 | S36: =SUM(N36:R36) -> 0 | W36: 38.701355 | Y36: =SUM(T36:X36) -> 38.701355 | AE36: =SUM(Z36:AD36) -> 0 | AG36: 1986.2285 | AH36: 158.71867 | AK36: =SUM(AF36:AJ36) -> 2144.9472 | AL36: =SUM(T36,Z36,AF36) -> 0 | AM36: =SUM(U36,AA36,AG36) -> 1986.2285 | AN36: =SUM(V36,AB36,AH36) -> 158.71867 | AO36: =SUM(W36,AC36,AI36) -> 38.701355 | AP36: =SUM(X36,AD36,AJ36) -> 0 | AQ36: =SUM(AL36:AP36) -> 2183.6485 | AW36: =SUM(AR36:AV36) -> 0 | BD36: =SUM(AX36:BC36) -> 0 | BF36: 18.334211 | BJ36: =SUM(BE36:BI36) -> 18.334211 | BK36: =SUM(AR36,AX36,BE36) -> 0 | BL36: =SUM(AS36,AY36,BF36) -> 18.334211 | BM36: =SUM(AT36,AZ36,BG36) -> 0 | BN36: =SUM(AU36,BA36,BH36) -> 0 | BO36: =SUM(AV36,BB36,BI36) -> 0 | BP36: =SUM(BC36) -> 0 | BQ36: =SUM(BK36:BP36) -> 18.334211 | BW36: =SUM(BR36:BV36) -> 0 | CC36: =SUM(BX36:CB36) -> 0 | CJ36: =SUM(CD36:CI36) -> 0 | CK36: =SUM(BR36,BX36,CD36) -> 0 | CL36: =SUM(BS36,BY36,CE36) -> 0 | CM36: =SUM(BT36,BZ36,CF36) -> 0 | CN36: =SUM(BU36,CA36,CG36) -> 0 | CO36: =SUM(BV36,CB36,CH36) -> 0 | CP36: =SUM(CI36) -> 0 | CQ36: =SUM(CK36:CP36) -> 0 | CX36: =SUM(CR36:CW36) -> 0 | DE36: =SUM(CY36:DD36) -> 0 | DL36: =SUM(DF36:DK36) -> 0 | DS36: =SUM(DM36:DR36) -> 0 | DT36: =SUM(CR36,CY36,DF36,DM36) -> 0 | DU36: =SUM(CS36,CZ36,DG36,DN36) -> 0 | DV36: =SUM(CT36,DA36,DH36,DO36) -> 0 | DW36: =SUM(CU36,DB36,DI36,DP36) -> 0 | DX36: =SUM(CV36,DC36,DJ36,DQ36) -> 0 | DY36: =SUM(CW36,DD36,DK36,DR36) -> 0 | DZ36: =SUM(DT36:DY36) -> 0 | EB36: 372.62229 | EC36: 61.159958 | ED36: 114.08219 | EF36: =SUM(EA36:EE36) -> 547.86444 | EL36: =SUM(EG36:EK36) -> 0 | ER36: =SUM(EM36:EQ36) -> 0 | EX36: =SUM(ES36:EW36) -> 0 | EZ36: 7.9426628 | FD36: =SUM(EY36:FC36) -> 7.9426628 | FF36: 202.24453 | FG36: 82.50044 | FH36: 13.598193 | FJ36: =SUM(FE36:FI36) -> 298.34316 | FL36: 156.84439 | FM36: 63.159764 | FP36: =SUM(FK36:FO36) -> 220.00416 | FQ36: =SUM(EA36,EG36,EM36,ES36,EY36,FE36,FK36) -> 0 | FR36: =SUM(EB36,EH36,EN36,ET36,EZ36,FF36,FL36) -> 739.65387 | FS36: =SUM(EC36,EI36,EO36,EU36,FA36,FG36,FM36) -> 206.82016 | FT36: =SUM(ED36,EJ36,EP36,EV36,FB36,FH36,FN36) -> 127.68038 | FU36: =SUM(EE36,EK36,EQ36,EW36,FC36,FI36,FO36) -> 0 | FV36: =SUM(FQ36:FU36) -> 1074.1544 | GB36: =SUM(FW36:GA36) -> 0 | GH36: =SUM(GC36:GG36) -> 0 | GN36: =SUM(GI36:GM36) -> 0 | GT36: =SUM(GO36:GS36) -> 0 | GZ36: =SUM(GU36:GY36) -> 0 | HF36: =SUM(HA36:HE36) -> 0 | HL36: =SUM(HG36:HK36) -> 0 | HR36: =SUM(HM36:HQ36) -> 0 | HS36: =SUM(FW36,GC36,GI36,GO36,GU36,HA36,HG36,HM36) -> 0 | HT36: =SUM(FX36,GD36,GJ36,GP36,GV36,HB36,HH36,HN36) -> 0 | HU36: =SUM(HO36,HI36,HC36,GW36,GQ36,GK36,GE36,FY36) -> 0 | HV36: =SUM(HP36,HJ36,HD36,GX36,GR36,GL36,GF36,FZ36) -> 0 | HW36: =SUM(HQ36,HK36,HE36,GY36,GS36,GM36,GG36,GA36) -> 0 | HX36: =SUM(HS36:HW36) -> 0 | ID36: =SUM(HY36:IC36) -> 0 | IJ36: =SUM(IE36:II36) -> 0 | IP36: =SUM(IK36:IO36) -> 0 | IQ36: =SUM(HY36,IE36,IK36) -> 0 | IR36: =SUM(HZ36,IF36,IL36) -> 0 | IS36: =SUM(IA36,IG36,IM36) -> 0 | IT36: =SUM(IB36,IH36,IN36) -> 0 | IU36: =SUM(IC36,II36,IO36) -> 0 | IV36: =SUM(IQ36:IU36) -> 0 | JB36: =SUM(IW36:JA36) -> 0 | JH36: =SUM(JC36:JG36) -> 0 | JN36: =SUM(JI36:JM36) -> 0 | JO36: =SUM(IW36,JC36,JI36) -> 0 | JP36: =SUM(IX36,JD36,JJ36) -> 0 | JQ36: =SUM(IY36,JE36,JK36) -> 0 | JR36: =SUM(IZ36,JF36,JL36) -> 0 | JS36: =SUM(JA36,JG36,JM36) -> 0 | JT36: =SUM(JO36:JS36) -> 0 | JV36: =SUM(N36,AL36,BK36,CK36,DT36,FQ36,HS36,IQ36,JO36) -> 0 | JW36: =SUM(O36,AM36,BL36,CL36,DU36,FR36,HT36,IR36,JP36) -> 2744.2166 | JX36: =SUM(P36,AN36,BM36,CM36,DV36,FS36,HU36,IS36,JQ36) -> 365.53883 | JY36: =SUM(Q36,AO36,BN36,CN36,DW36,FT36,HV36,IT36,JR36) -> 166.38174 | JZ36: =SUM(R36,AP36,BO36,CO36,DX36,FU36,HW36,IU36,JS36) -> 0 | KA36: =SUM(BP36,CP36,DY36) -> 0 | KB36: =SUM(JV36:KA36) -> 3276.1371
A37: IDN=Birch Leaf Miner | G37: =SUM(B37:F37) -> 0 | M37: =SUM(H37:L37) -> 0 | N37: =SUM(B37,H37) -> 0 | O37: =SUM(C37,I37) -> 0 | P37: =SUM(D37,J37) -> 0 | Q37: =SUM(E37,K37) -> 0 | R37: =SUM(F37,L37) -> 0 | S37: =SUM(N37:R37) -> 0 | Y37: =SUM(T37:X37) -> 0 | AE37: =SUM(Z37:AD37) -> 0 | AK37: =SUM(AF37:AJ37) -> 0 | AL37: =SUM(T37,Z37,AF37) -> 0 | AM37: =SUM(U37,AA37,AG37) -> 0 | AN37: =SUM(V37,AB37,AH37) -> 0 | AO37: =SUM(W37,AC37,AI37) -> 0 | AP37: =SUM(X37,AD37,AJ37) -> 0 | AQ37: =SUM(AL37:AP37) -> 0 | AW37: =SUM(AR37:AV37) -> 0 | BD37: =SUM(AX37:BC37) -> 0 | BJ37: =SUM(BE37:BI37) -> 0 | BK37: =SUM(AR37,AX37,BE37) -> 0 | BL37: =SUM(AS37,AY37,BF37) -> 0 | BM37: =SUM(AT37,AZ37,BG37) -> 0 | BN37: =SUM(AU37,BA37,BH37) -> 0 | BO37: =SUM(AV37,BB37,BI37) -> 0 | BP37: =SUM(BC37) -> 0 | BQ37: =SUM(BK37:BP37) -> 0 | BW37: =SUM(BR37:BV37) -> 0 | CC37: =SUM(BX37:CB37) -> 0 | CJ37: =SUM(CD37:CI37) -> 0 | CK37: =SUM(BR37,BX37,CD37) -> 0 | CL37: =SUM(BS37,BY37,CE37) -> 0 | CM37: =SUM(BT37,BZ37,CF37) -> 0 | CN37: =SUM(BU37,CA37,CG37) -> 0 | CO37: =SUM(BV37,CB37,CH37) -> 0 | CP37: =SUM(CI37) -> 0 | CQ37: =SUM(CK37:CP37) -> 0 | CS37: 670.77663 | CT37: 481.47847 | CU37: 114.48921 | CX37: =SUM(CR37:CW37) -> 1266.7443 | DE37: =SUM(CY37:DD37) -> 0 | DL37: =SUM(DF37:DK37) -> 0 | DN37: 5.8122867 | DO37: 52.437394 | DS37: =SUM(DM37:DR37) -> 58.249681 | DT37: =SUM(CR37,CY37,DF37,DM37) -> 0 | DU37: =SUM(CS37,CZ37,DG37,DN37) -> 676.58892 | DV37: =SUM(CT37,DA37,DH37,DO37) -> 533.91587 | DW37: =SUM(CU37,DB37,DI37,DP37) -> 114.48921 | DX37: =SUM(CV37,DC37,DJ37,DQ37) -> 0 | DY37: =SUM(CW37,DD37,DK37,DR37) -> 0 | DZ37: =SUM(DT37:DY37) -> 1324.994 | EB37: 359.21657 | EC37: 341.33388 | EF37: =SUM(EA37:EE37) -> 700.55044 | EL37: =SUM(EG37:EK37) -> 0 | EN37: 8.2846096 | EO37: 18.182802 | EP37: 8.9890687 | ER37: =SUM(EM37:EQ37) -> 35.45648 | EU37: 84.108604 | EV37: 5.7404671 | EX37: =SUM(ES37:EW37) -> 89.849071 | FD37: =SUM(EY37:FC37) -> 0 | FF37: 575.23837 | FG37: 212.35122 | FJ37: =SUM(FE37:FI37) -> 787.58959 | FM37: 23.033468 | FP37: =SUM(FK37:FO37) -> 23.033468 | FQ37: =SUM(EA37,EG37,EM37,ES37,EY37,FE37,FK37) -> 0 | FR37: =SUM(EB37,EH37,EN37,ET37,EZ37,FF37,FL37) -> 942.73955 | FS37: =SUM(EC37,EI37,EO37,EU37,FA37,FG37,FM37) -> 679.00997 | FT37: =SUM(ED37,EJ37,EP37,EV37,FB37,FH37,FN37) -> 14.729536 | FU37: =SUM(EE37,EK37,EQ37,EW37,FC37,FI37,FO37) -> 0 | FV37: =SUM(FQ37:FU37) -> 1636.4791 | GB37: =SUM(FW37:GA37) -> 0 | GH37: =SUM(GC37:GG37) -> 0 | GN37: =SUM(GI37:GM37) -> 0 | GT37: =SUM(GO37:GS37) -> 0 | GZ37: =SUM(GU37:GY37) -> 0 | HF37: =SUM(HA37:HE37) -> 0 | HL37: =SUM(HG37:HK37) -> 0 | HR37: =SUM(HM37:HQ37) -> 0 | HS37: =SUM(FW37,GC37,GI37,GO37,GU37,HA37,HG37,HM37) -> 0 | HT37: =SUM(FX37,GD37,GJ37,GP37,GV37,HB37,HH37,HN37) -> 0 | HU37: =SUM(HO37,HI37,HC37,GW37,GQ37,GK37,GE37,FY37) -> 0 | HV37: =SUM(HP37,HJ37,HD37,GX37,GR37,GL37,GF37,FZ37) -> 0 | HW37: =SUM(HQ37,HK37,HE37,GY37,GS37,GM37,GG37,GA37) -> 0 | HX37: =SUM(HS37:HW37) -> 0 | ID37: =SUM(HY37:IC37) -> 0 | IF37: 6.4460259 | IG37: 1.9153264 | IJ37: =SUM(IE37:II37) -> 8.3613523 | IP37: =SUM(IK37:IO37) -> 0 | IQ37: =SUM(HY37,IE37,IK37) -> 0 | IR37: =SUM(HZ37,IF37,IL37) -> 6.4460259 | IS37: =SUM(IA37,IG37,IM37) -> 1.9153264 | IT37: =SUM(IB37,IH37,IN37) -> 0 | IU37: =SUM(IC37,II37,IO37) -> 0 | IV37: =SUM(IQ37:IU37) -> 8.3613523 | JB37: =SUM(IW37:JA37) -> 0 | JD37: 6233.5308 | JE37: 174.69744 | JH37: =SUM(JC37:JG37) -> 6408.2283 | JJ37: 845.12 | JK37: 18.632274 | JN37: =SUM(JI37:JM37) -> 863.75227 | JO37: =SUM(IW37,JC37,JI37) -> 0 | JP37: =SUM(IX37,JD37,JJ37) -> 7078.6508 | JQ37: =SUM(IY37,JE37,JK37) -> 193.32971 | JR37: =SUM(IZ37,JF37,JL37) -> 0 | JS37: =SUM(JA37,JG37,JM37) -> 0 | JT37: =SUM(JO37:JS37) -> 7271.9805 | JV37: =SUM(N37,AL37,BK37,CK37,DT37,FQ37,HS37,IQ37,JO37) -> 0 | JW37: =SUM(O37,AM37,BL37,CL37,DU37,FR37,HT37,IR37,JP37) -> 8704.4253 | JX37: =SUM(P37,AN37,BM37,CM37,DV37,FS37,HU37,IS37,JQ37) -> 1408.1709 | JY37: =SUM(Q37,AO37,BN37,CN37,DW37,FT37,HV37,IT37,JR37) -> 129.21875 | JZ37: =SUM(R37,AP37,BO37,CO37,DX37,FU37,HW37,IU37,JS37) -> 0 | KA37: =SUM(BP37,CP37,DY37) -> 0 | KB37: =SUM(JV37:KA37) -> 10241.815
A38: IDP=Larch Sawfly | G38: =SUM(B38:F38) -> 0 | M38: =SUM(H38:L38) -> 0 | N38: =SUM(B38,H38) -> 0 | O38: =SUM(C38,I38) -> 0 | P38: =SUM(D38,J38) -> 0 | Q38: =SUM(E38,K38) -> 0 | R38: =SUM(F38,L38) -> 0 | S38: =SUM(N38:R38) -> 0 | Y38: =SUM(T38:X38) -> 0 | AE38: =SUM(Z38:AD38) -> 0 | AK38: =SUM(AF38:AJ38) -> 0 | AL38: =SUM(T38,Z38,AF38) -> 0 | AM38: =SUM(U38,AA38,AG38) -> 0 | AN38: =SUM(V38,AB38,AH38) -> 0 | AO38: =SUM(W38,AC38,AI38) -> 0 | AP38: =SUM(X38,AD38,AJ38) -> 0 | AQ38: =SUM(AL38:AP38) -> 0 | AW38: =SUM(AR38:AV38) -> 0 | BD38: =SUM(AX38:BC38) -> 0 | BJ38: =SUM(BE38:BI38) -> 0 | BK38: =SUM(AR38,AX38,BE38) -> 0 | BL38: =SUM(AS38,AY38,BF38) -> 0 | BM38: =SUM(AT38,AZ38,BG38) -> 0 | BN38: =SUM(AU38,BA38,BH38) -> 0 | BO38: =SUM(AV38,BB38,BI38) -> 0 | BP38: =SUM(BC38) -> 0 | BQ38: =SUM(BK38:BP38) -> 0 | BW38: =SUM(BR38:BV38) -> 0 | CC38: =SUM(BX38:CB38) -> 0 | CJ38: =SUM(CD38:CI38) -> 0 | CK38: =SUM(BR38,BX38,CD38) -> 0 | CL38: =SUM(BS38,BY38,CE38) -> 0 | CM38: =SUM(BT38,BZ38,CF38) -> 0 | CN38: =SUM(BU38,CA38,CG38) -> 0 | CO38: =SUM(BV38,CB38,CH38) -> 0 | CP38: =SUM(CI38) -> 0 | CQ38: =SUM(CK38:CP38) -> 0 | CX38: =SUM(CR38:CW38) -> 0 | DE38: =SUM(CY38:DD38) -> 0 | DL38: =SUM(DF38:DK38) -> 0 | DS38: =SUM(DM38:DR38) -> 0 | DT38: =SUM(CR38,CY38,DF38,DM38) -> 0 | DU38: =SUM(CS38,CZ38,DG38,DN38) -> 0 | DV38: =SUM(CT38,DA38,DH38,DO38) -> 0 | DW38: =SUM(CU38,DB38,DI38,DP38) -> 0 | DX38: =SUM(CV38,DC38,DJ38,DQ38) -> 0 | DY38: =SUM(CW38,DD38,DK38,DR38) -> 0 | DZ38: =SUM(DT38:DY38) -> 0 | EF38: =SUM(EA38:EE38) -> 0 | EL38: =SUM(EG38:EK38) -> 0 | ER38: =SUM(EM38:EQ38) -> 0 | EX38: =SUM(ES38:EW38) -> 0 | FD38: =SUM(EY38:FC38) -> 0 | FJ38: =SUM(FE38:FI38) -> 0 | FP38: =SUM(FK38:FO38) -> 0 | FQ38: =SUM(EA38,EG38,EM38,ES38,EY38,FE38,FK38) -> 0 | FR38: =SUM(EB38,EH38,EN38,ET38,EZ38,FF38,FL38) -> 0 | FS38: =SUM(EC38,EI38,EO38,EU38,FA38,FG38,FM38) -> 0 | FT38: =SUM(ED38,EJ38,EP38,EV38,FB38,FH38,FN38) -> 0 | FU38: =SUM(EE38,EK38,EQ38,EW38,FC38,FI38,FO38) -> 0 | FV38: =SUM(FQ38:FU38) -> 0 | GB38: =SUM(FW38:GA38) -> 0 | GH38: =SUM(GC38:GG38) -> 0 | GN38: =SUM(GI38:GM38) -> 0 | GT38: =SUM(GO38:GS38) -> 0 | GZ38: =SUM(GU38:GY38) -> 0 | HF38: =SUM(HA38:HE38) -> 0 | HL38: =SUM(HG38:HK38) -> 0 | HR38: =SUM(HM38:HQ38) -> 0 | HS38: =SUM(FW38,GC38,GI38,GO38,GU38,HA38,HG38,HM38) -> 0 | HT38: =SUM(FX38,GD38,GJ38,GP38,GV38,HB38,HH38,HN38) -> 0 | HU38: =SUM(HO38,HI38,HC38,GW38,GQ38,GK38,GE38,FY38) -> 0 | HV38: =SUM(HP38,HJ38,HD38,GX38,GR38,GL38,GF38,FZ38) -> 0 | HW38: =SUM(HQ38,HK38,HE38,GY38,GS38,GM38,GG38,GA38) -> 0 | HX38: =SUM(HS38:HW38) -> 0 | ID38: =SUM(HY38:IC38) -> 0 | IJ38: =SUM(IE38:II38) -> 0 | IP38: =SUM(IK38:IO38) -> 0 | IQ38: =SUM(HY38,IE38,IK38) -> 0 | IR38: =SUM(HZ38,IF38,IL38) -> 0 | IS38: =SUM(IA38,IG38,IM38) -> 0 | IT38: =SUM(IB38,IH38,IN38) -> 0 | IU38: =SUM(IC38,II38,IO38) -> 0 | IV38: =SUM(IQ38:IU38) -> 0 | JB38: =SUM(IW38:JA38) -> 0 | JH38: =SUM(JC38:JG38) -> 0 | JN38: =SUM(JI38:JM38) -> 0 | JO38: =SUM(IW38,JC38,JI38) -> 0 | JP38: =SUM(IX38,JD38,JJ38) -> 0 | JQ38: =SUM(IY38,JE38,JK38) -> 0 | JR38: =SUM(IZ38,JF38,JL38) -> 0 | JS38: =SUM(JA38,JG38,JM38) -> 0 | JT38: =SUM(JO38:JS38) -> 0 | JV38: =SUM(N38,AL38,BK38,CK38,DT38,FQ38,HS38,IQ38,JO38) -> 0 | JW38: =SUM(O38,AM38,BL38,CL38,DU38,FR38,HT38,IR38,JP38) -> 0 | JX38: =SUM(P38,AN38,BM38,CM38,DV38,FS38,HU38,IS38,JQ38) -> 0 | JY38: =SUM(Q38,AO38,BN38,CN38,DW38,FT38,HV38,IT38,JR38) -> 0 | JZ38: =SUM(R38,AP38,BO38,CO38,DX38,FU38,HW38,IU38,JS38) -> 0 | KA38: =SUM(BP38,CP38,DY38) -> 0 | KB38: =SUM(JV38:KA38) -> 0
A39: IDR=Alder Sawfly | G39: =SUM(B39:F39) -> 0 | M39: =SUM(H39:L39) -> 0 | N39: =SUM(B39,H39) -> 0 | O39: =SUM(C39,I39) -> 0 | P39: =SUM(D39,J39) -> 0 | Q39: =SUM(E39,K39) -> 0 | R39: =SUM(F39,L39) -> 0 | S39: =SUM(N39:R39) -> 0 | Y39: =SUM(T39:X39) -> 0 | AE39: =SUM(Z39:AD39) -> 0 | AK39: =SUM(AF39:AJ39) -> 0 | AL39: =SUM(T39,Z39,AF39) -> 0 | AM39: =SUM(U39,AA39,AG39) -> 0 | AN39: =SUM(V39,AB39,AH39) -> 0 | AO39: =SUM(W39,AC39,AI39) -> 0 | AP39: =SUM(X39,AD39,AJ39) -> 0 | AQ39: =SUM(AL39:AP39) -> 0 | AW39: =SUM(AR39:AV39) -> 0 | BD39: =SUM(AX39:BC39) -> 0 | BJ39: =SUM(BE39:BI39) -> 0 | BK39: =SUM(AR39,AX39,BE39) -> 0 | BL39: =SUM(AS39,AY39,BF39) -> 0 | BM39: =SUM(AT39,AZ39,BG39) -> 0 | BN39: =SUM(AU39,BA39,BH39) -> 0 | BO39: =SUM(AV39,BB39,BI39) -> 0 | BP39: =SUM(BC39) -> 0 | BQ39: =SUM(BK39:BP39) -> 0 | BW39: =SUM(BR39:BV39) -> 0 | CC39: =SUM(BX39:CB39) -> 0 | CJ39: =SUM(CD39:CI39) -> 0 | CK39: =SUM(BR39,BX39,CD39) -> 0 | CL39: =SUM(BS39,BY39,CE39) -> 0 | CM39: =SUM(BT39,BZ39,CF39) -> 0 | CN39: =SUM(BU39,CA39,CG39) -> 0 | CO39: =SUM(BV39,CB39,CH39) -> 0 | CP39: =SUM(CI39) -> 0 | CQ39: =SUM(CK39:CP39) -> 0 | CX39: =SUM(CR39:CW39) -> 0 | DE39: =SUM(CY39:DD39) -> 0 | DL39: =SUM(DF39:DK39) -> 0 | DS39: =SUM(DM39:DR39) -> 0 | DT39: =SUM(CR39,CY39,DF39,DM39) -> 0 | DU39: =SUM(CS39,CZ39,DG39,DN39) -> 0 | DV39: =SUM(CT39,DA39,DH39,DO39) -> 0 | DW39: =SUM(CU39,DB39,DI39,DP39) -> 0 | DX39: =SUM(CV39,DC39,DJ39,DQ39) -> 0 | DY39: =SUM(CW39,DD39,DK39,DR39) -> 0 | DZ39: =SUM(DT39:DY39) -> 0 | EF39: =SUM(EA39:EE39) -> 0 | EL39: =SUM(EG39:EK39) -> 0 | ER39: =SUM(EM39:EQ39) -> 0 | EX39: =SUM(ES39:EW39) -> 0 | FD39: =SUM(EY39:FC39) -> 0 | FJ39: =SUM(FE39:FI39) -> 0 | FP39: =SUM(FK39:FO39) -> 0 | FQ39: =SUM(EA39,EG39,EM39,ES39,EY39,FE39,FK39) -> 0 | FR39: =SUM(EB39,EH39,EN39,ET39,EZ39,FF39,FL39) -> 0 | FS39: =SUM(EC39,EI39,EO39,EU39,FA39,FG39,FM39) -> 0 | FT39: =SUM(ED39,EJ39,EP39,EV39,FB39,FH39,FN39) -> 0 | FU39: =SUM(EE39,EK39,EQ39,EW39,FC39,FI39,FO39) -> 0 | FV39: =SUM(FQ39:FU39) -> 0 | GB39: =SUM(FW39:GA39) -> 0 | GH39: =SUM(GC39:GG39) -> 0 | GN39: =SUM(GI39:GM39) -> 0 | GT39: =SUM(GO39:GS39) -> 0 | GZ39: =SUM(GU39:GY39) -> 0 | HF39: =SUM(HA39:HE39) -> 0 | HL39: =SUM(HG39:HK39) -> 0 | HR39: =SUM(HM39:HQ39) -> 0 | HS39: =SUM(FW39,GC39,GI39,GO39,GU39,HA39,HG39,HM39) -> 0 | HT39: =SUM(FX39,GD39,GJ39,GP39,GV39,HB39,HH39,HN39) -> 0 | HU39: =SUM(HO39,HI39,HC39,GW39,GQ39,GK39,GE39,FY39) -> 0 | HV39: =SUM(HP39,HJ39,HD39,GX39,GR39,GL39,GF39,FZ39) -> 0 | HW39: =SUM(HQ39,HK39,HE39,GY39,GS39,GM39,GG39,GA39) -> 0 | HX39: =SUM(HS39:HW39) -> 0 | ID39: =SUM(HY39:IC39) -> 0 | IJ39: =SUM(IE39:II39) -> 0 | IP39: =SUM(IK39:IO39) -> 0 | IQ39: =SUM(HY39,IE39,IK39) -> 0 | IR39: =SUM(HZ39,IF39,IL39) -> 0 | IS39: =SUM(IA39,IG39,IM39) -> 0 | IT39: =SUM(IB39,IH39,IN39) -> 0 | IU39: =SUM(IC39,II39,IO39) -> 0 | IV39: =SUM(IQ39:IU39) -> 0 | JB39: =SUM(IW39:JA39) -> 0 | JH39: =SUM(JC39:JG39) -> 0 | JN39: =SUM(JI39:JM39) -> 0 | JO39: =SUM(IW39,JC39,JI39) -> 0 | JP39: =SUM(IX39,JD39,JJ39) -> 0 | JQ39: =SUM(IY39,JE39,JK39) -> 0 | JR39: =SUM(IZ39,JF39,JL39) -> 0 | JS39: =SUM(JA39,JG39,JM39) -> 0 | JT39: =SUM(JO39:JS39) -> 0 | JV39: =SUM(N39,AL39,BK39,CK39,DT39,FQ39,HS39,IQ39,JO39) -> 0 | JW39: =SUM(O39,AM39,BL39,CL39,DU39,FR39,HT39,IR39,JP39) -> 0 | JX39: =SUM(P39,AN39,BM39,CM39,DV39,FS39,HU39,IS39,JQ39) -> 0 | JY39: =SUM(Q39,AO39,BN39,CN39,DW39,FT39,HV39,IT39,JR39) -> 0 | JZ39: =SUM(R39,AP39,BO39,CO39,DX39,FU39,HW39,IU39,JS39) -> 0 | KA39: =SUM(BP39,CP39,DY39) -> 0 | KB39: =SUM(JV39:KA39) -> 0
A40: IDS=Conifer Sawflies | G40: =SUM(B40:F40) -> 0 | M40: =SUM(H40:L40) -> 0 | N40: =SUM(B40,H40) -> 0 | O40: =SUM(C40,I40) -> 0 | P40: =SUM(D40,J40) -> 0 | Q40: =SUM(E40,K40) -> 0 | R40: =SUM(F40,L40) -> 0 | S40: =SUM(N40:R40) -> 0 | Y40: =SUM(T40:X40) -> 0 | AE40: =SUM(Z40:AD40) -> 0 | AK40: =SUM(AF40:AJ40) -> 0 | AL40: =SUM(T40,Z40,AF40) -> 0 | AM40: =SUM(U40,AA40,AG40) -> 0 | AN40: =SUM(V40,AB40,AH40) -> 0 | AO40: =SUM(W40,AC40,AI40) -> 0 | AP40: =SUM(X40,AD40,AJ40) -> 0 | AQ40: =SUM(AL40:AP40) -> 0 | AW40: =SUM(AR40:AV40) -> 0 | BD40: =SUM(AX40:BC40) -> 0 | BJ40: =SUM(BE40:BI40) -> 0 | BK40: =SUM(AR40,AX40,BE40) -> 0 | BL40: =SUM(AS40,AY40,BF40) -> 0 | BM40: =SUM(AT40,AZ40,BG40) -> 0 | BN40: =SUM(AU40,BA40,BH40) -> 0 | BO40: =SUM(AV40,BB40,BI40) -> 0 | BP40: =SUM(BC40) -> 0 | BQ40: =SUM(BK40:BP40) -> 0 | BW40: =SUM(BR40:BV40) -> 0 | CC40: =SUM(BX40:CB40) -> 0 | CJ40: =SUM(CD40:CI40) -> 0 | CK40: =SUM(BR40,BX40,CD40) -> 0 | CL40: =SUM(BS40,BY40,CE40) -> 0 | CM40: =SUM(BT40,BZ40,CF40) -> 0 | CN40: =SUM(BU40,CA40,CG40) -> 0 | CO40: =SUM(BV40,CB40,CH40) -> 0 | CP40: =SUM(CI40) -> 0 | CQ40: =SUM(CK40:CP40) -> 0 | CX40: =SUM(CR40:CW40) -> 0 | DE40: =SUM(CY40:DD40) -> 0 | DL40: =SUM(DF40:DK40) -> 0 | DS40: =SUM(DM40:DR40) -> 0 | DT40: =SUM(CR40,CY40,DF40,DM40) -> 0 | DU40: =SUM(CS40,CZ40,DG40,DN40) -> 0 | DV40: =SUM(CT40,DA40,DH40,DO40) -> 0 | DW40: =SUM(CU40,DB40,DI40,DP40) -> 0 | DX40: =SUM(CV40,DC40,DJ40,DQ40) -> 0 | DY40: =SUM(CW40,DD40,DK40,DR40) -> 0 | DZ40: =SUM(DT40:DY40) -> 0 | EF40: =SUM(EA40:EE40) -> 0 | EL40: =SUM(EG40:EK40) -> 0 | ER40: =SUM(EM40:EQ40) -> 0 | EX40: =SUM(ES40:EW40) -> 0 | FD40: =SUM(EY40:FC40) -> 0 | FJ40: =SUM(FE40:FI40) -> 0 | FP40: =SUM(FK40:FO40) -> 0 | FQ40: =SUM(EA40,EG40,EM40,ES40,EY40,FE40,FK40) -> 0 | FR40: =SUM(EB40,EH40,EN40,ET40,EZ40,FF40,FL40) -> 0 | FS40: =SUM(EC40,EI40,EO40,EU40,FA40,FG40,FM40) -> 0 | FT40: =SUM(ED40,EJ40,EP40,EV40,FB40,FH40,FN40) -> 0 | FU40: =SUM(EE40,EK40,EQ40,EW40,FC40,FI40,FO40) -> 0 | FV40: =SUM(FQ40:FU40) -> 0 | GB40: =SUM(FW40:GA40) -> 0 | GH40: =SUM(GC40:GG40) -> 0 | GN40: =SUM(GI40:GM40) -> 0 | GT40: =SUM(GO40:GS40) -> 0 | GZ40: =SUM(GU40:GY40) -> 0 | HF40: =SUM(HA40:HE40) -> 0 | HL40: =SUM(HG40:HK40) -> 0 | HR40: =SUM(HM40:HQ40) -> 0 | HS40: =SUM(FW40,GC40,GI40,GO40,GU40,HA40,HG40,HM40) -> 0 | HT40: =SUM(FX40,GD40,GJ40,GP40,GV40,HB40,HH40,HN40) -> 0 | HU40: =SUM(HO40,HI40,HC40,GW40,GQ40,GK40,GE40,FY40) -> 0 | HV40: =SUM(HP40,HJ40,HD40,GX40,GR40,GL40,GF40,FZ40) -> 0 | HW40: =SUM(HQ40,HK40,HE40,GY40,GS40,GM40,GG40,GA40) -> 0 | HX40: =SUM(HS40:HW40) -> 0 | ID40: =SUM(HY40:IC40) -> 0 | IJ40: =SUM(IE40:II40) -> 0 | IP40: =SUM(IK40:IO40) -> 0 | IQ40: =SUM(HY40,IE40,IK40) -> 0 | IR40: =SUM(HZ40,IF40,IL40) -> 0 | IS40: =SUM(IA40,IG40,IM40) -> 0 | IT40: =SUM(IB40,IH40,IN40) -> 0 | IU40: =SUM(IC40,II40,IO40) -> 0 | IV40: =SUM(IQ40:IU40) -> 0 | JB40: =SUM(IW40:JA40) -> 0 | JH40: =SUM(JC40:JG40) -> 0 | JN40: =SUM(JI40:JM40) -> 0 | JO40: =SUM(IW40,JC40,JI40) -> 0 | JP40: =SUM(IX40,JD40,JJ40) -> 0 | JQ40: =SUM(IY40,JE40,JK40) -> 0 | JR40: =SUM(IZ40,JF40,JL40) -> 0 | JS40: =SUM(JA40,JG40,JM40) -> 0 | JT40: =SUM(JO40:JS40) -> 0 | JV40: =SUM(N40,AL40,BK40,CK40,DT40,FQ40,HS40,IQ40,JO40) -> 0 | JW40: =SUM(O40,AM40,BL40,CL40,DU40,FR40,HT40,IR40,JP40) -> 0 | JX40: =SUM(P40,AN40,BM40,CM40,DV40,FS40,HU40,IS40,JQ40) -> 0 | JY40: =SUM(Q40,AO40,BN40,CN40,DW40,FT40,HV40,IT40,JR40) -> 0 | JZ40: =SUM(R40,AP40,BO40,CO40,DX40,FU40,HW40,IU40,JS40) -> 0 | KA40: =SUM(BP40,CP40,DY40) -> 0 | KB40: =SUM(JV40:KA40) -> 0
A41: IDT=Douglas-fir Tussock Moth | G41: =SUM(B41:F41) -> 0 | M41: =SUM(H41:L41) -> 0 | N41: =SUM(B41,H41) -> 0 | O41: =SUM(C41,I41) -> 0 | P41: =SUM(D41,J41) -> 0 | Q41: =SUM(E41,K41) -> 0 | R41: =SUM(F41,L41) -> 0 | S41: =SUM(N41:R41) -> 0 | Y41: =SUM(T41:X41) -> 0 | AE41: =SUM(Z41:AD41) -> 0 | AK41: =SUM(AF41:AJ41) -> 0 | AL41: =SUM(T41,Z41,AF41) -> 0 | AM41: =SUM(U41,AA41,AG41) -> 0 | AN41: =SUM(V41,AB41,AH41) -> 0 | AO41: =SUM(W41,AC41,AI41) -> 0 | AP41: =SUM(X41,AD41,AJ41) -> 0 | AQ41: =SUM(AL41:AP41) -> 0 | AW41: =SUM(AR41:AV41) -> 0 | BD41: =SUM(AX41:BC41) -> 0 | BJ41: =SUM(BE41:BI41) -> 0 | BK41: =SUM(AR41,AX41,BE41) -> 0 | BL41: =SUM(AS41,AY41,BF41) -> 0 | BM41: =SUM(AT41,AZ41,BG41) -> 0 | BN41: =SUM(AU41,BA41,BH41) -> 0 | BO41: =SUM(AV41,BB41,BI41) -> 0 | BP41: =SUM(BC41) -> 0 | BQ41: =SUM(BK41:BP41) -> 0 | BW41: =SUM(BR41:BV41) -> 0 | CC41: =SUM(BX41:CB41) -> 0 | CG41: 1662.4067 | CJ41: =SUM(CD41:CI41) -> 1662.4067 | CK41: =SUM(BR41,BX41,CD41) -> 0 | CL41: =SUM(BS41,BY41,CE41) -> 0 | CM41: =SUM(BT41,BZ41,CF41) -> 0 | CN41: =SUM(BU41,CA41,CG41) -> 1662.4067 | CO41: =SUM(BV41,CB41,CH41) -> 0 | CP41: =SUM(CI41) -> 0 | CQ41: =SUM(CK41:CP41) -> 1662.4067 | CT41: 3.8950433 | CX41: =SUM(CR41:CW41) -> 3.8950433 | DE41: =SUM(CY41:DD41) -> 0 | DI41: 14.232584 | DL41: =SUM(DF41:DK41) -> 14.232584 | DN41: 211.01048 | DO41: 641.86578 | DP41: 174.7527 | DS41: =SUM(DM41:DR41) -> 1027.629 | DT41: =SUM(CR41,CY41,DF41,DM41) -> 0 | DU41: =SUM(CS41,CZ41,DG41,DN41) -> 211.01048 | DV41: =SUM(CT41,DA41,DH41,DO41) -> 645.76082 | DW41: =SUM(CU41,DB41,DI41,DP41) -> 188.98529 | DX41: =SUM(CV41,DC41,DJ41,DQ41) -> 0 | DY41: =SUM(CW41,DD41,DK41,DR41) -> 0 | DZ41: =SUM(DT41:DY41) -> 1045.7566 | EF41: =SUM(EA41:EE41) -> 0 | EL41: =SUM(EG41:EK41) -> 0 | ER41: =SUM(EM41:EQ41) -> 0 | EX41: =SUM(ES41:EW41) -> 0 | FD41: =SUM(EY41:FC41) -> 0 | FJ41: =SUM(FE41:FI41) -> 0 | FP41: =SUM(FK41:FO41) -> 0 | FQ41: =SUM(EA41,EG41,EM41,ES41,EY41,FE41,FK41) -> 0 | FR41: =SUM(EB41,EH41,EN41,ET41,EZ41,FF41,FL41) -> 0 | FS41: =SUM(EC41,EI41,EO41,EU41,FA41,FG41,FM41) -> 0 | FT41: =SUM(ED41,EJ41,EP41,EV41,FB41,FH41,FN41) -> 0 | FU41: =SUM(EE41,EK41,EQ41,EW41,FC41,FI41,FO41) -> 0 | FV41: =SUM(FQ41:FU41) -> 0 | GB41: =SUM(FW41:GA41) -> 0 | GH41: =SUM(GC41:GG41) -> 0 | GN41: =SUM(GI41:GM41) -> 0 | GT41: =SUM(GO41:GS41) -> 0 | GZ41: =SUM(GU41:GY41) -> 0 | HF41: =SUM(HA41:HE41) -> 0 | HL41: =SUM(HG41:HK41) -> 0 | HR41: =SUM(HM41:HQ41) -> 0 | HS41: =SUM(FW41,GC41,GI41,GO41,GU41,HA41,HG41,HM41) -> 0 | HT41: =SUM(FX41,GD41,GJ41,GP41,GV41,HB41,HH41,HN41) -> 0 | HU41: =SUM(HO41,HI41,HC41,GW41,GQ41,GK41,GE41,FY41) -> 0 | HV41: =SUM(HP41,HJ41,HD41,GX41,GR41,GL41,GF41,FZ41) -> 0 | HW41: =SUM(HQ41,HK41,HE41,GY41,GS41,GM41,GG41,GA41) -> 0 | HX41: =SUM(HS41:HW41) -> 0 | ID41: =SUM(HY41:IC41) -> 0 | IJ41: =SUM(IE41:II41) -> 0 | IP41: =SUM(IK41:IO41) -> 0 | IQ41: =SUM(HY41,IE41,IK41) -> 0 | IR41: =SUM(HZ41,IF41,IL41) -> 0 | IS41: =SUM(IA41,IG41,IM41) -> 0 | IT41: =SUM(IB41,IH41,IN41) -> 0 | IU41: =SUM(IC41,II41,IO41) -> 0 | IV41: =SUM(IQ41:IU41) -> 0 | JB41: =SUM(IW41:JA41) -> 0 | JH41: =SUM(JC41:JG41) -> 0 | JN41: =SUM(JI41:JM41) -> 0 | JO41: =SUM(IW41,JC41,JI41) -> 0 | JP41: =SUM(IX41,JD41,JJ41) -> 0 | JQ41: =SUM(IY41,JE41,JK41) -> 0 | JR41: =SUM(IZ41,JF41,JL41) -> 0 | JS41: =SUM(JA41,JG41,JM41) -> 0 | JT41: =SUM(JO41:JS41) -> 0 | JV41: =SUM(N41,AL41,BK41,CK41,DT41,FQ41,HS41,IQ41,JO41) -> 0 | JW41: =SUM(O41,AM41,BL41,CL41,DU41,FR41,HT41,IR41,JP41) -> 211.01048 | JX41: =SUM(P41,AN41,BM41,CM41,DV41,FS41,HU41,IS41,JQ41) -> 645.76082 | JY41: =SUM(Q41,AO41,BN41,CN41,DW41,FT41,HV41,IT41,JR41) -> 1851.3919 | JZ41: =SUM(R41,AP41,BO41,CO41,DX41,FU41,HW41,IU41,JS41) -> 0 | KA41: =SUM(BP41,CP41,DY41) -> 0 | KB41: =SUM(JV41:KA41) -> 2708.1632
A42: IDU=Satin Moth | G42: =SUM(B42:F42) -> 0 | M42: =SUM(H42:L42) -> 0 | N42: =SUM(B42,H42) -> 0 | O42: =SUM(C42,I42) -> 0 | P42: =SUM(D42,J42) -> 0 | Q42: =SUM(E42,K42) -> 0 | R42: =SUM(F42,L42) -> 0 | S42: =SUM(N42:R42) -> 0 | Y42: =SUM(T42:X42) -> 0 | AE42: =SUM(Z42:AD42) -> 0 | AK42: =SUM(AF42:AJ42) -> 0 | AL42: =SUM(T42,Z42,AF42) -> 0 | AM42: =SUM(U42,AA42,AG42) -> 0 | AN42: =SUM(V42,AB42,AH42) -> 0 | AO42: =SUM(W42,AC42,AI42) -> 0 | AP42: =SUM(X42,AD42,AJ42) -> 0 | AQ42: =SUM(AL42:AP42) -> 0 | AW42: =SUM(AR42:AV42) -> 0 | BD42: =SUM(AX42:BC42) -> 0 | BJ42: =SUM(BE42:BI42) -> 0 | BK42: =SUM(AR42,AX42,BE42) -> 0 | BL42: =SUM(AS42,AY42,BF42) -> 0 | BM42: =SUM(AT42,AZ42,BG42) -> 0 | BN42: =SUM(AU42,BA42,BH42) -> 0 | BO42: =SUM(AV42,BB42,BI42) -> 0 | BP42: =SUM(BC42) -> 0 | BQ42: =SUM(BK42:BP42) -> 0 | BW42: =SUM(BR42:BV42) -> 0 | CC42: =SUM(BX42:CB42) -> 0 | CJ42: =SUM(CD42:CI42) -> 0 | CK42: =SUM(BR42,BX42,CD42) -> 0 | CL42: =SUM(BS42,BY42,CE42) -> 0 | CM42: =SUM(BT42,BZ42,CF42) -> 0 | CN42: =SUM(BU42,CA42,CG42) -> 0 | CO42: =SUM(BV42,CB42,CH42) -> 0 | CP42: =SUM(CI42) -> 0 | CQ42: =SUM(CK42:CP42) -> 0 | CT42: 46.589762 | CX42: =SUM(CR42:CW42) -> 46.589762 | DA42: 9.2234603 | DE42: =SUM(CY42:DD42) -> 9.2234603 | DG42: 26.17638 | DH42: 33.266426 | DI42: 10.748744 | DL42: =SUM(DF42:DK42) -> 70.191549 | DN42: 8.266145 | DO42: 19.175666 | DP42: 46.502876 | DS42: =SUM(DM42:DR42) -> 73.944686 | DT42: =SUM(CR42,CY42,DF42,DM42) -> 0 | DU42: =SUM(CS42,CZ42,DG42,DN42) -> 34.442525 | DV42: =SUM(CT42,DA42,DH42,DO42) -> 108.25531 | DW42: =SUM(CU42,DB42,DI42,DP42) -> 57.251619 | DX42: =SUM(CV42,DC42,DJ42,DQ42) -> 0 | DY42: =SUM(CW42,DD42,DK42,DR42) -> 0 | DZ42: =SUM(DT42:DY42) -> 199.94946 | EF42: =SUM(EA42:EE42) -> 0 | EL42: =SUM(EG42:EK42) -> 0 | ER42: =SUM(EM42:EQ42) -> 0 | EX42: =SUM(ES42:EW42) -> 0 | FD42: =SUM(EY42:FC42) -> 0 | FJ42: =SUM(FE42:FI42) -> 0 | FP42: =SUM(FK42:FO42) -> 0 | FQ42: =SUM(EA42,EG42,EM42,ES42,EY42,FE42,FK42) -> 0 | FR42: =SUM(EB42,EH42,EN42,ET42,EZ42,FF42,FL42) -> 0 | FS42: =SUM(EC42,EI42,EO42,EU42,FA42,FG42,FM42) -> 0 | FT42: =SUM(ED42,EJ42,EP42,EV42,FB42,FH42,FN42) -> 0 | FU42: =SUM(EE42,EK42,EQ42,EW42,FC42,FI42,FO42) -> 0 | FV42: =SUM(FQ42:FU42) -> 0 | GB42: =SUM(FW42:GA42) -> 0 | GH42: =SUM(GC42:GG42) -> 0 | GN42: =SUM(GI42:GM42) -> 0 | GT42: =SUM(GO42:GS42) -> 0 | GW42: 49.64 | GX42: 274.1 | GZ42: =SUM(GU42:GY42) -> 323.74 | HF42: =SUM(HA42:HE42) -> 0 | HL42: =SUM(HG42:HK42) -> 0 | HR42: =SUM(HM42:HQ42) -> 0 | HS42: =SUM(FW42,GC42,GI42,GO42,GU42,HA42,HG42,HM42) -> 0 | HT42: =SUM(FX42,GD42,GJ42,GP42,GV42,HB42,HH42,HN42) -> 0 | HU42: =SUM(HO42,HI42,HC42,GW42,GQ42,GK42,GE42,FY42) -> 49.64 | HV42: =SUM(HP42,HJ42,HD42,GX42,GR42,GL42,GF42,FZ42) -> 274.1 | HW42: =SUM(HQ42,HK42,HE42,GY42,GS42,GM42,GG42,GA42) -> 0 | HX42: =SUM(HS42:HW42) -> 323.74 | ID42: =SUM(HY42:IC42) -> 0 | IJ42: =SUM(IE42:II42) -> 0 | IL42: 16776.069 | IM42: 47304.648 | IN42: 12927.298 | IP42: =SUM(IK42:IO42) -> 77008.014 | IQ42: =SUM(HY42,IE42,IK42) -> 0 | IR42: =SUM(HZ42,IF42,IL42) -> 16776.069 | IS42: =SUM(IA42,IG42,IM42) -> 47304.648 | IT42: =SUM(IB42,IH42,IN42) -> 12927.298 | IU42: =SUM(IC42,II42,IO42) -> 0 | IV42: =SUM(IQ42:IU42) -> 77008.014 | JB42: =SUM(IW42:JA42) -> 0 | JH42: =SUM(JC42:JG42) -> 0 | JN42: =SUM(JI42:JM42) -> 0 | JO42: =SUM(IW42,JC42,JI42) -> 0 | JP42: =SUM(IX42,JD42,JJ42) -> 0 | JQ42: =SUM(IY42,JE42,JK42) -> 0 | JR42: =SUM(IZ42,JF42,JL42) -> 0 | JS42: =SUM(JA42,JG42,JM42) -> 0 | JT42: =SUM(JO42:JS42) -> 0 | JV42: =SUM(N42,AL42,BK42,CK42,DT42,FQ42,HS42,IQ42,JO42) -> 0 | JW42: =SUM(O42,AM42,BL42,CL42,DU42,FR42,HT42,IR42,JP42) -> 16810.511 | JX42: =SUM(P42,AN42,BM42,CM42,DV42,FS42,HU42,IS42,JQ42) -> 47462.543 | JY42: =SUM(Q42,AO42,BN42,CN42,DW42,FT42,HV42,IT42,JR42) -> 13258.649 | JZ42: =SUM(R42,AP42,BO42,CO42,DX42,FU42,HW42,IU42,JS42) -> 0 | KA42: =SUM(BP42,CP42,DY42) -> 0 | KB42: =SUM(JV42:KA42) -> 77531.704
A43: IDW=Western Spruce Budworm | G43: =SUM(B43:F43) -> 0 | M43: =SUM(H43:L43) -> 0 | N43: =SUM(B43,H43) -> 0 | O43: =SUM(C43,I43) -> 0 | P43: =SUM(D43,J43) -> 0 | Q43: =SUM(E43,K43) -> 0 | R43: =SUM(F43,L43) -> 0 | S43: =SUM(N43:R43) -> 0 | Y43: =SUM(T43:X43) -> 0 | AE43: =SUM(Z43:AD43) -> 0 | AK43: =SUM(AF43:AJ43) -> 0 | AL43: =SUM(T43,Z43,AF43) -> 0 | AM43: =SUM(U43,AA43,AG43) -> 0 | AN43: =SUM(V43,AB43,AH43) -> 0 | AO43: =SUM(W43,AC43,AI43) -> 0 | AP43: =SUM(X43,AD43,AJ43) -> 0 | AQ43: =SUM(AL43:AP43) -> 0 | AW43: =SUM(AR43:AV43) -> 0 | BD43: =SUM(AX43:BC43) -> 0 | BJ43: =SUM(BE43:BI43) -> 0 | BK43: =SUM(AR43,AX43,BE43) -> 0 | BL43: =SUM(AS43,AY43,BF43) -> 0 | BM43: =SUM(AT43,AZ43,BG43) -> 0 | BN43: =SUM(AU43,BA43,BH43) -> 0 | BO43: =SUM(AV43,BB43,BI43) -> 0 | BP43: =SUM(BC43) -> 0 | BQ43: =SUM(BK43:BP43) -> 0 | BS43: 933.75593 | BT43: 125.53285 | BW43: =SUM(BR43:BV43) -> 1059.2888 | CC43: =SUM(BX43:CB43) -> 0 | CE43: 9516.7237 | CF43: 786.06054 | CG43: 4582.1489 | CJ43: =SUM(CD43:CI43) -> 14884.933 | CK43: =SUM(BR43,BX43,CD43) -> 0 | CL43: =SUM(BS43,BY43,CE43) -> 10450.48 | CM43: =SUM(BT43,BZ43,CF43) -> 911.59338 | CN43: =SUM(BU43,CA43,CG43) -> 4582.1489 | CO43: =SUM(BV43,CB43,CH43) -> 0 | CP43: =SUM(CI43) -> 0 | CQ43: =SUM(CK43:CP43) -> 15944.222 | CS43: 3543.4299 | CT43: 752.46452 | CX43: =SUM(CR43:CW43) -> 4295.8944 | CZ43: 745.1277 | DA43: 105.33493 | DE43: =SUM(CY43:DD43) -> 850.46263 | DG43: 2736.3129 | DH43: 208.59192 | DL43: =SUM(DF43:DK43) -> 2944.9048 | DS43: =SUM(DM43:DR43) -> 0 | DT43: =SUM(CR43,CY43,DF43,DM43) -> 0 | DU43: =SUM(CS43,CZ43,DG43,DN43) -> 7024.8705 | DV43: =SUM(CT43,DA43,DH43,DO43) -> 1066.3914 | DW43: =SUM(CU43,DB43,DI43,DP43) -> 0 | DX43: =SUM(CV43,DC43,DJ43,DQ43) -> 0 | DY43: =SUM(CW43,DD43,DK43,DR43) -> 0 | DZ43: =SUM(DT43:DY43) -> 8091.2619 | EF43: =SUM(EA43:EE43) -> 0 | EH43: 66.696204 | EL43: =SUM(EG43:EK43) -> 66.696204 | ER43: =SUM(EM43:EQ43) -> 0 | EX43: =SUM(ES43:EW43) -> 0 | FD43: =SUM(EY43:FC43) -> 0 | FJ43: =SUM(FE43:FI43) -> 0 | FP43: =SUM(FK43:FO43) -> 0 | FQ43: =SUM(EA43,EG43,EM43,ES43,EY43,FE43,FK43) -> 0 | FR43: =SUM(EB43,EH43,EN43,ET43,EZ43,FF43,FL43) -> 66.696204 | FS43: =SUM(EC43,EI43,EO43,EU43,FA43,FG43,FM43) -> 0 | FT43: =SUM(ED43,EJ43,EP43,EV43,FB43,FH43,FN43) -> 0 | FU43: =SUM(EE43,EK43,EQ43,EW43,FC43,FI43,FO43) -> 0 | FV43: =SUM(FQ43:FU43) -> 66.696204 | GB43: =SUM(FW43:GA43) -> 0 | GH43: =SUM(GC43:GG43) -> 0 | GN43: =SUM(GI43:GM43) -> 0 | GT43: =SUM(GO43:GS43) -> 0 | GZ43: =SUM(GU43:GY43) -> 0 | HF43: =SUM(HA43:HE43) -> 0 | HL43: =SUM(HG43:HK43) -> 0 | HR43: =SUM(HM43:HQ43) -> 0 | HS43: =SUM(FW43,GC43,GI43,GO43,GU43,HA43,HG43,HM43) -> 0 | HT43: =SUM(FX43,GD43,GJ43,GP43,GV43,HB43,HH43,HN43) -> 0 | HU43: =SUM(HO43,HI43,HC43,GW43,GQ43,GK43,GE43,FY43) -> 0 | HV43: =SUM(HP43,HJ43,HD43,GX43,GR43,GL43,GF43,FZ43) -> 0 | HW43: =SUM(HQ43,HK43,HE43,GY43,GS43,GM43,GG43,GA43) -> 0 | HX43: =SUM(HS43:HW43) -> 0 | ID43: =SUM(HY43:IC43) -> 0 | IJ43: =SUM(IE43:II43) -> 0 | IP43: =SUM(IK43:IO43) -> 0 | IQ43: =SUM(HY43,IE43,IK43) -> 0 | IR43: =SUM(HZ43,IF43,IL43) -> 0 | IS43: =SUM(IA43,IG43,IM43) -> 0 | IT43: =SUM(IB43,IH43,IN43) -> 0 | IU43: =SUM(IC43,II43,IO43) -> 0 | IV43: =SUM(IQ43:IU43) -> 0 | JB43: =SUM(IW43:JA43) -> 0 | JH43: =SUM(JC43:JG43) -> 0 | JN43: =SUM(JI43:JM43) -> 0 | JO43: =SUM(IW43,JC43,JI43) -> 0 | JP43: =SUM(IX43,JD43,JJ43) -> 0 | JQ43: =SUM(IY43,JE43,JK43) -> 0 | JR43: =SUM(IZ43,JF43,JL43) -> 0 | JS43: =SUM(JA43,JG43,JM43) -> 0 | JT43: =SUM(JO43:JS43) -> 0 | JV43: =SUM(N43,AL43,BK43,CK43,DT43,FQ43,HS43,IQ43,JO43) -> 0 | JW43: =SUM(O43,AM43,BL43,CL43,DU43,FR43,HT43,IR43,JP43) -> 17542.046 | JX43: =SUM(P43,AN43,BM43,CM43,DV43,FS43,HU43,IS43,JQ43) -> 1977.9848 | JY43: =SUM(Q43,AO43,BN43,CN43,DW43,FT43,HV43,IT43,JR43) -> 4582.1489 | JZ43: =SUM(R43,AP43,BO43,CO43,DX43,FU43,HW43,IU43,JS43) -> 0 | KA43: =SUM(BP43,CP43,DY43) -> 0 | KB43: =SUM(JV43:KA43) -> 24102.18
A44: IDX=Large Aspen Tortrix | G44: =SUM(B44:F44) -> 0 | M44: =SUM(H44:L44) -> 0 | N44: =SUM(B44,H44) -> 0 | O44: =SUM(C44,I44) -> 0 | P44: =SUM(D44,J44) -> 0 | Q44: =SUM(E44,K44) -> 0 | R44: =SUM(F44,L44) -> 0 | S44: =SUM(N44:R44) -> 0 | Y44: =SUM(T44:X44) -> 0 | AE44: =SUM(Z44:AD44) -> 0 | AK44: =SUM(AF44:AJ44) -> 0 | AL44: =SUM(T44,Z44,AF44) -> 0 | AM44: =SUM(U44,AA44,AG44) -> 0 | AN44: =SUM(V44,AB44,AH44) -> 0 | AO44: =SUM(W44,AC44,AI44) -> 0 | AP44: =SUM(X44,AD44,AJ44) -> 0 | AQ44: =SUM(AL44:AP44) -> 0 | AW44: =SUM(AR44:AV44) -> 0 | BD44: =SUM(AX44:BC44) -> 0 | BJ44: =SUM(BE44:BI44) -> 0 | BK44: =SUM(AR44,AX44,BE44) -> 0 | BL44: =SUM(AS44,AY44,BF44) -> 0 | BM44: =SUM(AT44,AZ44,BG44) -> 0 | BN44: =SUM(AU44,BA44,BH44) -> 0 | BO44: =SUM(AV44,BB44,BI44) -> 0 | BP44: =SUM(BC44) -> 0 | BQ44: =SUM(BK44:BP44) -> 0 | BW44: =SUM(BR44:BV44) -> 0 | CC44: =SUM(BX44:CB44) -> 0 | CJ44: =SUM(CD44:CI44) -> 0 | CK44: =SUM(BR44,BX44,CD44) -> 0 | CL44: =SUM(BS44,BY44,CE44) -> 0 | CM44: =SUM(BT44,BZ44,CF44) -> 0 | CN44: =SUM(BU44,CA44,CG44) -> 0 | CO44: =SUM(BV44,CB44,CH44) -> 0 | CP44: =SUM(CI44) -> 0 | CQ44: =SUM(CK44:CP44) -> 0 | CX44: =SUM(CR44:CW44) -> 0 | DE44: =SUM(CY44:DD44) -> 0 | DL44: =SUM(DF44:DK44) -> 0 | DS44: =SUM(DM44:DR44) -> 0 | DT44: =SUM(CR44,CY44,DF44,DM44) -> 0 | DU44: =SUM(CS44,CZ44,DG44,DN44) -> 0 | DV44: =SUM(CT44,DA44,DH44,DO44) -> 0 | DW44: =SUM(CU44,DB44,DI44,DP44) -> 0 | DX44: =SUM(CV44,DC44,DJ44,DQ44) -> 0 | DY44: =SUM(CW44,DD44,DK44,DR44) -> 0 | DZ44: =SUM(DT44:DY44) -> 0 | EF44: =SUM(EA44:EE44) -> 0 | EL44: =SUM(EG44:EK44) -> 0 | ER44: =SUM(EM44:EQ44) -> 0 | EX44: =SUM(ES44:EW44) -> 0 | FD44: =SUM(EY44:FC44) -> 0 | FJ44: =SUM(FE44:FI44) -> 0 | FP44: =SUM(FK44:FO44) -> 0 | FQ44: =SUM(EA44,EG44,EM44,ES44,EY44,FE44,FK44) -> 0 | FR44: =SUM(EB44,EH44,EN44,ET44,EZ44,FF44,FL44) -> 0 | FS44: =SUM(EC44,EI44,EO44,EU44,FA44,FG44,FM44) -> 0 | FT44: =SUM(ED44,EJ44,EP44,EV44,FB44,FH44,FN44) -> 0 | FU44: =SUM(EE44,EK44,EQ44,EW44,FC44,FI44,FO44) -> 0 | FV44: =SUM(FQ44:FU44) -> 0 | GB44: =SUM(FW44:GA44) -> 0 | GH44: =SUM(GC44:GG44) -> 0 | GN44: =SUM(GI44:GM44) -> 0 | GT44: =SUM(GO44:GS44) -> 0 | GZ44: =SUM(GU44:GY44) -> 0 | HF44: =SUM(HA44:HE44) -> 0 | HL44: =SUM(HG44:HK44) -> 0 | HR44: =SUM(HM44:HQ44) -> 0 | HS44: =SUM(FW44,GC44,GI44,GO44,GU44,HA44,HG44,HM44) -> 0 | HT44: =SUM(FX44,GD44,GJ44,GP44,GV44,HB44,HH44,HN44) -> 0 | HU44: =SUM(HO44,HI44,HC44,GW44,GQ44,GK44,GE44,FY44) -> 0 | HV44: =SUM(HP44,HJ44,HD44,GX44,GR44,GL44,GF44,FZ44) -> 0 | HW44: =SUM(HQ44,HK44,HE44,GY44,GS44,GM44,GG44,GA44) -> 0 | HX44: =SUM(HS44:HW44) -> 0 | ID44: =SUM(HY44:IC44) -> 0 | IJ44: =SUM(IE44:II44) -> 0 | IP44: =SUM(IK44:IO44) -> 0 | IQ44: =SUM(HY44,IE44,IK44) -> 0 | IR44: =SUM(HZ44,IF44,IL44) -> 0 | IS44: =SUM(IA44,IG44,IM44) -> 0 | IT44: =SUM(IB44,IH44,IN44) -> 0 | IU44: =SUM(IC44,II44,IO44) -> 0 | IV44: =SUM(IQ44:IU44) -> 0 | JB44: =SUM(IW44:JA44) -> 0 | JH44: =SUM(JC44:JG44) -> 0 | JN44: =SUM(JI44:JM44) -> 0 | JO44: =SUM(IW44,JC44,JI44) -> 0 | JP44: =SUM(IX44,JD44,JJ44) -> 0 | JQ44: =SUM(IY44,JE44,JK44) -> 0 | JR44: =SUM(IZ44,JF44,JL44) -> 0 | JS44: =SUM(JA44,JG44,JM44) -> 0 | JT44: =SUM(JO44:JS44) -> 0 | JV44: =SUM(N44,AL44,BK44,CK44,DT44,FQ44,HS44,IQ44,JO44) -> 0 | JW44: =SUM(O44,AM44,BL44,CL44,DU44,FR44,HT44,IR44,JP44) -> 0 | JX44: =SUM(P44,AN44,BM44,CM44,DV44,FS44,HU44,IS44,JQ44) -> 0 | JY44: =SUM(Q44,AO44,BN44,CN44,DW44,FT44,HV44,IT44,JR44) -> 0 | JZ44: =SUM(R44,AP44,BO44,CO44,DX44,FU44,HW44,IU44,JS44) -> 0 | KA44: =SUM(BP44,CP44,DY44) -> 0 | KB44: =SUM(JV44:KA44) -> 0
A45: IDZ=False Hemlock Looper | G45: =SUM(B45:F45) -> 0 | M45: =SUM(H45:L45) -> 0 | N45: =SUM(B45,H45) -> 0 | O45: =SUM(C45,I45) -> 0 | P45: =SUM(D45,J45) -> 0 | Q45: =SUM(E45,K45) -> 0 | R45: =SUM(F45,L45) -> 0 | S45: =SUM(N45:R45) -> 0 | Y45: =SUM(T45:X45) -> 0 | AE45: =SUM(Z45:AD45) -> 0 | AK45: =SUM(AF45:AJ45) -> 0 | AL45: =SUM(T45,Z45,AF45) -> 0 | AM45: =SUM(U45,AA45,AG45) -> 0 | AN45: =SUM(V45,AB45,AH45) -> 0 | AO45: =SUM(W45,AC45,AI45) -> 0 | AP45: =SUM(X45,AD45,AJ45) -> 0 | AQ45: =SUM(AL45:AP45) -> 0 | AW45: =SUM(AR45:AV45) -> 0 | BD45: =SUM(AX45:BC45) -> 0 | BJ45: =SUM(BE45:BI45) -> 0 | BK45: =SUM(AR45,AX45,BE45) -> 0 | BL45: =SUM(AS45,AY45,BF45) -> 0 | BM45: =SUM(AT45,AZ45,BG45) -> 0 | BN45: =SUM(AU45,BA45,BH45) -> 0 | BO45: =SUM(AV45,BB45,BI45) -> 0 | BP45: =SUM(BC45) -> 0 | BQ45: =SUM(BK45:BP45) -> 0 | BW45: =SUM(BR45:BV45) -> 0 | CC45: =SUM(BX45:CB45) -> 0 | CJ45: =SUM(CD45:CI45) -> 0 | CK45: =SUM(BR45,BX45,CD45) -> 0 | CL45: =SUM(BS45,BY45,CE45) -> 0 | CM45: =SUM(BT45,BZ45,CF45) -> 0 | CN45: =SUM(BU45,CA45,CG45) -> 0 | CO45: =SUM(BV45,CB45,CH45) -> 0 | CP45: =SUM(CI45) -> 0 | CQ45: =SUM(CK45:CP45) -> 0 | CX45: =SUM(CR45:CW45) -> 0 | DE45: =SUM(CY45:DD45) -> 0 | DL45: =SUM(DF45:DK45) -> 0 | DS45: =SUM(DM45:DR45) -> 0 | DT45: =SUM(CR45,CY45,DF45,DM45) -> 0 | DU45: =SUM(CS45,CZ45,DG45,DN45) -> 0 | DV45: =SUM(CT45,DA45,DH45,DO45) -> 0 | DW45: =SUM(CU45,DB45,DI45,DP45) -> 0 | DX45: =SUM(CV45,DC45,DJ45,DQ45) -> 0 | DY45: =SUM(CW45,DD45,DK45,DR45) -> 0 | DZ45: =SUM(DT45:DY45) -> 0 | EF45: =SUM(EA45:EE45) -> 0 | EL45: =SUM(EG45:EK45) -> 0 | ER45: =SUM(EM45:EQ45) -> 0 | EX45: =SUM(ES45:EW45) -> 0 | FD45: =SUM(EY45:FC45) -> 0 | FJ45: =SUM(FE45:FI45) -> 0 | FP45: =SUM(FK45:FO45) -> 0 | FQ45: =SUM(EA45,EG45,EM45,ES45,EY45,FE45,FK45) -> 0 | FR45: =SUM(EB45,EH45,EN45,ET45,EZ45,FF45,FL45) -> 0 | FS45: =SUM(EC45,EI45,EO45,EU45,FA45,FG45,FM45) -> 0 | FT45: =SUM(ED45,EJ45,EP45,EV45,FB45,FH45,FN45) -> 0 | FU45: =SUM(EE45,EK45,EQ45,EW45,FC45,FI45,FO45) -> 0 | FV45: =SUM(FQ45:FU45) -> 0 | GB45: =SUM(FW45:GA45) -> 0 | GH45: =SUM(GC45:GG45) -> 0 | GN45: =SUM(GI45:GM45) -> 0 | GT45: =SUM(GO45:GS45) -> 0 | GZ45: =SUM(GU45:GY45) -> 0 | HF45: =SUM(HA45:HE45) -> 0 | HL45: =SUM(HG45:HK45) -> 0 | HR45: =SUM(HM45:HQ45) -> 0 | HS45: =SUM(FW45,GC45,GI45,GO45,GU45,HA45,HG45,HM45) -> 0 | HT45: =SUM(FX45,GD45,GJ45,GP45,GV45,HB45,HH45,HN45) -> 0 | HU45: =SUM(HO45,HI45,HC45,GW45,GQ45,GK45,GE45,FY45) -> 0 | HV45: =SUM(HP45,HJ45,HD45,GX45,GR45,GL45,GF45,FZ45) -> 0 | HW45: =SUM(HQ45,HK45,HE45,GY45,GS45,GM45,GG45,GA45) -> 0 | HX45: =SUM(HS45:HW45) -> 0 | ID45: =SUM(HY45:IC45) -> 0 | IJ45: =SUM(IE45:II45) -> 0 | IP45: =SUM(IK45:IO45) -> 0 | IQ45: =SUM(HY45,IE45,IK45) -> 0 | IR45: =SUM(HZ45,IF45,IL45) -> 0 | IS45: =SUM(IA45,IG45,IM45) -> 0 | IT45: =SUM(IB45,IH45,IN45) -> 0 | IU45: =SUM(IC45,II45,IO45) -> 0 | IV45: =SUM(IQ45:IU45) -> 0 | JB45: =SUM(IW45:JA45) -> 0 | JH45: =SUM(JC45:JG45) -> 0 | JN45: =SUM(JI45:JM45) -> 0 | JO45: =SUM(IW45,JC45,JI45) -> 0 | JP45: =SUM(IX45,JD45,JJ45) -> 0 | JQ45: =SUM(IY45,JE45,JK45) -> 0 | JR45: =SUM(IZ45,JF45,JL45) -> 0 | JS45: =SUM(JA45,JG45,JM45) -> 0 | JT45: =SUM(JO45:JS45) -> 0 | JV45: =SUM(N45,AL45,BK45,CK45,DT45,FQ45,HS45,IQ45,JO45) -> 0 | JW45: =SUM(O45,AM45,BL45,CL45,DU45,FR45,HT45,IR45,JP45) -> 0 | JX45: =SUM(P45,AN45,BM45,CM45,DV45,FS45,HU45,IS45,JQ45) -> 0 | JY45: =SUM(Q45,AO45,BN45,CN45,DW45,FT45,HV45,IT45,JR45) -> 0 | JZ45: =SUM(R45,AP45,BO45,CO45,DX45,FU45,HW45,IU45,JS45) -> 0 | KA45: =SUM(BP45,CP45,DY45) -> 0 | KB45: =SUM(JV45:KA45) -> 0
A46: IEL=Logepole Needle Miner | G46: =SUM(B46:F46) -> 0 | M46: =SUM(H46:L46) -> 0 | N46: =SUM(B46,H46) -> 0 | O46: =SUM(C46,I46) -> 0 | P46: =SUM(D46,J46) -> 0 | Q46: =SUM(E46,K46) -> 0 | R46: =SUM(F46,L46) -> 0 | S46: =SUM(N46:R46) -> 0 | Y46: =SUM(T46:X46) -> 0 | AE46: =SUM(Z46:AD46) -> 0 | AK46: =SUM(AF46:AJ46) -> 0 | AL46: =SUM(T46,Z46,AF46) -> 0 | AM46: =SUM(U46,AA46,AG46) -> 0 | AN46: =SUM(V46,AB46,AH46) -> 0 | AO46: =SUM(W46,AC46,AI46) -> 0 | AP46: =SUM(X46,AD46,AJ46) -> 0 | AQ46: =SUM(AL46:AP46) -> 0 | AW46: =SUM(AR46:AV46) -> 0 | BD46: =SUM(AX46:BC46) -> 0 | BJ46: =SUM(BE46:BI46) -> 0 | BK46: =SUM(AR46,AX46,BE46) -> 0 | BL46: =SUM(AS46,AY46,BF46) -> 0 | BM46: =SUM(AT46,AZ46,BG46) -> 0 | BN46: =SUM(AU46,BA46,BH46) -> 0 | BO46: =SUM(AV46,BB46,BI46) -> 0 | BP46: =SUM(BC46) -> 0 | BQ46: =SUM(BK46:BP46) -> 0 | BW46: =SUM(BR46:BV46) -> 0 | CC46: =SUM(BX46:CB46) -> 0 | CJ46: =SUM(CD46:CI46) -> 0 | CK46: =SUM(BR46,BX46,CD46) -> 0 | CL46: =SUM(BS46,BY46,CE46) -> 0 | CM46: =SUM(BT46,BZ46,CF46) -> 0 | CN46: =SUM(BU46,CA46,CG46) -> 0 | CO46: =SUM(BV46,CB46,CH46) -> 0 | CP46: =SUM(CI46) -> 0 | CQ46: =SUM(CK46:CP46) -> 0 | CX46: =SUM(CR46:CW46) -> 0 | DE46: =SUM(CY46:DD46) -> 0 | DL46: =SUM(DF46:DK46) -> 0 | DS46: =SUM(DM46:DR46) -> 0 | DT46: =SUM(CR46,CY46,DF46,DM46) -> 0 | DU46: =SUM(CS46,CZ46,DG46,DN46) -> 0 | DV46: =SUM(CT46,DA46,DH46,DO46) -> 0 | DW46: =SUM(CU46,DB46,DI46,DP46) -> 0 | DX46: =SUM(CV46,DC46,DJ46,DQ46) -> 0 | DY46: =SUM(CW46,DD46,DK46,DR46) -> 0 | DZ46: =SUM(DT46:DY46) -> 0 | EF46: =SUM(EA46:EE46) -> 0 | EL46: =SUM(EG46:EK46) -> 0 | ER46: =SUM(EM46:EQ46) -> 0 | EX46: =SUM(ES46:EW46) -> 0 | FD46: =SUM(EY46:FC46) -> 0 | FJ46: =SUM(FE46:FI46) -> 0 | FP46: =SUM(FK46:FO46) -> 0 | FQ46: =SUM(EA46,EG46,EM46,ES46,EY46,FE46,FK46) -> 0 | FR46: =SUM(EB46,EH46,EN46,ET46,EZ46,FF46,FL46) -> 0 | FS46: =SUM(EC46,EI46,EO46,EU46,FA46,FG46,FM46) -> 0 | FT46: =SUM(ED46,EJ46,EP46,EV46,FB46,FH46,FN46) -> 0 | FU46: =SUM(EE46,EK46,EQ46,EW46,FC46,FI46,FO46) -> 0 | FV46: =SUM(FQ46:FU46) -> 0 | GB46: =SUM(FW46:GA46) -> 0 | GH46: =SUM(GC46:GG46) -> 0 | GN46: =SUM(GI46:GM46) -> 0 | GT46: =SUM(GO46:GS46) -> 0 | GZ46: =SUM(GU46:GY46) -> 0 | HF46: =SUM(HA46:HE46) -> 0 | HL46: =SUM(HG46:HK46) -> 0 | HR46: =SUM(HM46:HQ46) -> 0 | HS46: =SUM(FW46,GC46,GI46,GO46,GU46,HA46,HG46,HM46) -> 0 | HT46: =SUM(FX46,GD46,GJ46,GP46,GV46,HB46,HH46,HN46) -> 0 | HU46: =SUM(HO46,HI46,HC46,GW46,GQ46,GK46,GE46,FY46) -> 0 | HV46: =SUM(HP46,HJ46,HD46,GX46,GR46,GL46,GF46,FZ46) -> 0 | HW46: =SUM(HQ46,HK46,HE46,GY46,GS46,GM46,GG46,GA46) -> 0 | HX46: =SUM(HS46:HW46) -> 0 | ID46: =SUM(HY46:IC46) -> 0 | IJ46: =SUM(IE46:II46) -> 0 | IP46: =SUM(IK46:IO46) -> 0 | IQ46: =SUM(HY46,IE46,IK46) -> 0 | IR46: =SUM(HZ46,IF46,IL46) -> 0 | IS46: =SUM(IA46,IG46,IM46) -> 0 | IT46: =SUM(IB46,IH46,IN46) -> 0 | IU46: =SUM(IC46,II46,IO46) -> 0 | IV46: =SUM(IQ46:IU46) -> 0 | JB46: =SUM(IW46:JA46) -> 0 | JH46: =SUM(JC46:JG46) -> 0 | JN46: =SUM(JI46:JM46) -> 0 | JO46: =SUM(IW46,JC46,JI46) -> 0 | JP46: =SUM(IX46,JD46,JJ46) -> 0 | JQ46: =SUM(IY46,JE46,JK46) -> 0 | JR46: =SUM(IZ46,JF46,JL46) -> 0 | JS46: =SUM(JA46,JG46,JM46) -> 0 | JT46: =SUM(JO46:JS46) -> 0 | JV46: =SUM(N46,AL46,BK46,CK46,DT46,FQ46,HS46,IQ46,JO46) -> 0 | JW46: =SUM(O46,AM46,BL46,CL46,DU46,FR46,HT46,IR46,JP46) -> 0 | JX46: =SUM(P46,AN46,BM46,CM46,DV46,FS46,HU46,IS46,JQ46) -> 0 | JY46: =SUM(Q46,AO46,BN46,CN46,DW46,FT46,HV46,IT46,JR46) -> 0 | JZ46: =SUM(R46,AP46,BO46,CO46,DX46,FU46,HW46,IU46,JS46) -> 0 | KA46: =SUM(BP46,CP46,DY46) -> 0 | KB46: =SUM(JV46:KA46) -> 0
A47: IEB=Hemlock Sawfly | G47: =SUM(B47:F47) -> 0 | M47: =SUM(H47:L47) -> 0 | N47: =SUM(B47,H47) -> 0 | O47: =SUM(C47,I47) -> 0 | P47: =SUM(D47,J47) -> 0 | Q47: =SUM(E47,K47) -> 0 | R47: =SUM(F47,L47) -> 0 | S47: =SUM(N47:R47) -> 0 | Y47: =SUM(T47:X47) -> 0 | AE47: =SUM(Z47:AD47) -> 0 | AK47: =SUM(AF47:AJ47) -> 0 | AL47: =SUM(T47,Z47,AF47) -> 0 | AM47: =SUM(U47,AA47,AG47) -> 0 | AN47: =SUM(V47,AB47,AH47) -> 0 | AO47: =SUM(W47,AC47,AI47) -> 0 | AP47: =SUM(X47,AD47,AJ47) -> 0 | AQ47: =SUM(AL47:AP47) -> 0 | AW47: =SUM(AR47:AV47) -> 0 | BD47: =SUM(AX47:BC47) -> 0 | BJ47: =SUM(BE47:BI47) -> 0 | BK47: =SUM(AR47,AX47,BE47) -> 0 | BL47: =SUM(AS47,AY47,BF47) -> 0 | BM47: =SUM(AT47,AZ47,BG47) -> 0 | BN47: =SUM(AU47,BA47,BH47) -> 0 | BO47: =SUM(AV47,BB47,BI47) -> 0 | BP47: =SUM(BC47) -> 0 | BQ47: =SUM(BK47:BP47) -> 0 | BW47: =SUM(BR47:BV47) -> 0 | CC47: =SUM(BX47:CB47) -> 0 | CJ47: =SUM(CD47:CI47) -> 0 | CK47: =SUM(BR47,BX47,CD47) -> 0 | CL47: =SUM(BS47,BY47,CE47) -> 0 | CM47: =SUM(BT47,BZ47,CF47) -> 0 | CN47: =SUM(BU47,CA47,CG47) -> 0 | CO47: =SUM(BV47,CB47,CH47) -> 0 | CP47: =SUM(CI47) -> 0 | CQ47: =SUM(CK47:CP47) -> 0 | CX47: =SUM(CR47:CW47) -> 0 | DE47: =SUM(CY47:DD47) -> 0 | DL47: =SUM(DF47:DK47) -> 0 | DS47: =SUM(DM47:DR47) -> 0 | DT47: =SUM(CR47,CY47,DF47,DM47) -> 0 | DU47: =SUM(CS47,CZ47,DG47,DN47) -> 0 | DV47: =SUM(CT47,DA47,DH47,DO47) -> 0 | DW47: =SUM(CU47,DB47,DI47,DP47) -> 0 | DX47: =SUM(CV47,DC47,DJ47,DQ47) -> 0 | DY47: =SUM(CW47,DD47,DK47,DR47) -> 0 | DZ47: =SUM(DT47:DY47) -> 0 | EF47: =SUM(EA47:EE47) -> 0 | EL47: =SUM(EG47:EK47) -> 0 | ER47: =SUM(EM47:EQ47) -> 0 | EX47: =SUM(ES47:EW47) -> 0 | FD47: =SUM(EY47:FC47) -> 0 | FJ47: =SUM(FE47:FI47) -> 0 | FP47: =SUM(FK47:FO47) -> 0 | FQ47: =SUM(EA47,EG47,EM47,ES47,EY47,FE47,FK47) -> 0 | FR47: =SUM(EB47,EH47,EN47,ET47,EZ47,FF47,FL47) -> 0 | FS47: =SUM(EC47,EI47,EO47,EU47,FA47,FG47,FM47) -> 0 | FT47: =SUM(ED47,EJ47,EP47,EV47,FB47,FH47,FN47) -> 0 | FU47: =SUM(EE47,EK47,EQ47,EW47,FC47,FI47,FO47) -> 0 | FV47: =SUM(FQ47:FU47) -> 0 | GB47: =SUM(FW47:GA47) -> 0 | GH47: =SUM(GC47:GG47) -> 0 | GN47: =SUM(GI47:GM47) -> 0 | GT47: =SUM(GO47:GS47) -> 0 | GZ47: =SUM(GU47:GY47) -> 0 | HF47: =SUM(HA47:HE47) -> 0 | HL47: =SUM(HG47:HK47) -> 0 | HR47: =SUM(HM47:HQ47) -> 0 | HS47: =SUM(FW47,GC47,GI47,GO47,GU47,HA47,HG47,HM47) -> 0 | HT47: =SUM(FX47,GD47,GJ47,GP47,GV47,HB47,HH47,HN47) -> 0 | HU47: =SUM(HO47,HI47,HC47,GW47,GQ47,GK47,GE47,FY47) -> 0 | HV47: =SUM(HP47,HJ47,HD47,GX47,GR47,GL47,GF47,FZ47) -> 0 | HW47: =SUM(HQ47,HK47,HE47,GY47,GS47,GM47,GG47,GA47) -> 0 | HX47: =SUM(HS47:HW47) -> 0 | ID47: =SUM(HY47:IC47) -> 0 | IJ47: =SUM(IE47:II47) -> 0 | IP47: =SUM(IK47:IO47) -> 0 | IQ47: =SUM(HY47,IE47,IK47) -> 0 | IR47: =SUM(HZ47,IF47,IL47) -> 0 | IS47: =SUM(IA47,IG47,IM47) -> 0 | IT47: =SUM(IB47,IH47,IN47) -> 0 | IU47: =SUM(IC47,II47,IO47) -> 0 | IV47: =SUM(IQ47:IU47) -> 0 | JB47: =SUM(IW47:JA47) -> 0 | JH47: =SUM(JC47:JG47) -> 0 | JN47: =SUM(JI47:JM47) -> 0 | JO47: =SUM(IW47,JC47,JI47) -> 0 | JP47: =SUM(IX47,JD47,JJ47) -> 0 | JQ47: =SUM(IY47,JE47,JK47) -> 0 | JR47: =SUM(IZ47,JF47,JL47) -> 0 | JS47: =SUM(JA47,JG47,JM47) -> 0 | JT47: =SUM(JO47:JS47) -> 0 | JV47: =SUM(N47,AL47,BK47,CK47,DT47,FQ47,HS47,IQ47,JO47) -> 0 | JW47: =SUM(O47,AM47,BL47,CL47,DU47,FR47,HT47,IR47,JP47) -> 0 | JX47: =SUM(P47,AN47,BM47,CM47,DV47,FS47,HU47,IS47,JQ47) -> 0 | JY47: =SUM(Q47,AO47,BN47,CN47,DW47,FT47,HV47,IT47,JR47) -> 0 | JZ47: =SUM(R47,AP47,BO47,CO47,DX47,FU47,HW47,IU47,JS47) -> 0 | KA47: =SUM(BP47,CP47,DY47) -> 0 | KB47: =SUM(JV47:KA47) -> 0
A48: IEG=Lodgepole Pine Sawfly | G48: =SUM(B48:F48) -> 0 | M48: =SUM(H48:L48) -> 0 | N48: =SUM(B48,H48) -> 0 | O48: =SUM(C48,I48) -> 0 | P48: =SUM(D48,J48) -> 0 | Q48: =SUM(E48,K48) -> 0 | R48: =SUM(F48,L48) -> 0 | S48: =SUM(N48:R48) -> 0 | Y48: =SUM(T48:X48) -> 0 | AE48: =SUM(Z48:AD48) -> 0 | AK48: =SUM(AF48:AJ48) -> 0 | AL48: =SUM(T48,Z48,AF48) -> 0 | AM48: =SUM(U48,AA48,AG48) -> 0 | AN48: =SUM(V48,AB48,AH48) -> 0 | AO48: =SUM(W48,AC48,AI48) -> 0 | AP48: =SUM(X48,AD48,AJ48) -> 0 | AQ48: =SUM(AL48:AP48) -> 0 | AW48: =SUM(AR48:AV48) -> 0 | AY48: 168.88442 | AZ48: 15.310009 | BD48: =SUM(AX48:BC48) -> 184.19443 | BJ48: =SUM(BE48:BI48) -> 0 | BK48: =SUM(AR48,AX48,BE48) -> 0 | BL48: =SUM(AS48,AY48,BF48) -> 168.88442 | BM48: =SUM(AT48,AZ48,BG48) -> 15.310009 | BN48: =SUM(AU48,BA48,BH48) -> 0 | BO48: =SUM(AV48,BB48,BI48) -> 0 | BP48: =SUM(BC48) -> 0 | BQ48: =SUM(BK48:BP48) -> 184.19443 | BW48: =SUM(BR48:BV48) -> 0 | CC48: =SUM(BX48:CB48) -> 0 | CJ48: =SUM(CD48:CI48) -> 0 | CK48: =SUM(BR48,BX48,CD48) -> 0 | CL48: =SUM(BS48,BY48,CE48) -> 0 | CM48: =SUM(BT48,BZ48,CF48) -> 0 | CN48: =SUM(BU48,CA48,CG48) -> 0 | CO48: =SUM(BV48,CB48,CH48) -> 0 | CP48: =SUM(CI48) -> 0 | CQ48: =SUM(CK48:CP48) -> 0 | CX48: =SUM(CR48:CW48) -> 0 | DE48: =SUM(CY48:DD48) -> 0 | DL48: =SUM(DF48:DK48) -> 0 | DS48: =SUM(DM48:DR48) -> 0 | DT48: =SUM(CR48,CY48,DF48,DM48) -> 0 | DU48: =SUM(CS48,CZ48,DG48,DN48) -> 0 | DV48: =SUM(CT48,DA48,DH48,DO48) -> 0 | DW48: =SUM(CU48,DB48,DI48,DP48) -> 0 | DX48: =SUM(CV48,DC48,DJ48,DQ48) -> 0 | DY48: =SUM(CW48,DD48,DK48,DR48) -> 0 | DZ48: =SUM(DT48:DY48) -> 0 | EF48: =SUM(EA48:EE48) -> 0 | EL48: =SUM(EG48:EK48) -> 0 | ER48: =SUM(EM48:EQ48) -> 0 | EX48: =SUM(ES48:EW48) -> 0 | FD48: =SUM(EY48:FC48) -> 0 | FJ48: =SUM(FE48:FI48) -> 0 | FP48: =SUM(FK48:FO48) -> 0 | FQ48: =SUM(EA48,EG48,EM48,ES48,EY48,FE48,FK48) -> 0 | FR48: =SUM(EB48,EH48,EN48,ET48,EZ48,FF48,FL48) -> 0 | FS48: =SUM(EC48,EI48,EO48,EU48,FA48,FG48,FM48) -> 0 | FT48: =SUM(ED48,EJ48,EP48,EV48,FB48,FH48,FN48) -> 0 | FU48: =SUM(EE48,EK48,EQ48,EW48,FC48,FI48,FO48) -> 0 | FV48: =SUM(FQ48:FU48) -> 0 | GB48: =SUM(FW48:GA48) -> 0 | GH48: =SUM(GC48:GG48) -> 0 | GN48: =SUM(GI48:GM48) -> 0 | GT48: =SUM(GO48:GS48) -> 0 | GZ48: =SUM(GU48:GY48) -> 0 | HF48: =SUM(HA48:HE48) -> 0 | HL48: =SUM(HG48:HK48) -> 0 | HR48: =SUM(HM48:HQ48) -> 0 | HS48: =SUM(FW48,GC48,GI48,GO48,GU48,HA48,HG48,HM48) -> 0 | HT48: =SUM(FX48,GD48,GJ48,GP48,GV48,HB48,HH48,HN48) -> 0 | HU48: =SUM(HO48,HI48,HC48,GW48,GQ48,GK48,GE48,FY48) -> 0 | HV48: =SUM(HP48,HJ48,HD48,GX48,GR48,GL48,GF48,FZ48) -> 0 | HW48: =SUM(HQ48,HK48,HE48,GY48,GS48,GM48,GG48,GA48) -> 0 | HX48: =SUM(HS48:HW48) -> 0 | ID48: =SUM(HY48:IC48) -> 0 | IJ48: =SUM(IE48:II48) -> 0 | IP48: =SUM(IK48:IO48) -> 0 | IQ48: =SUM(HY48,IE48,IK48) -> 0 | IR48: =SUM(HZ48,IF48,IL48) -> 0 | IS48: =SUM(IA48,IG48,IM48) -> 0 | IT48: =SUM(IB48,IH48,IN48) -> 0 | IU48: =SUM(IC48,II48,IO48) -> 0 | IV48: =SUM(IQ48:IU48) -> 0 | JB48: =SUM(IW48:JA48) -> 0 | JH48: =SUM(JC48:JG48) -> 0 | JN48: =SUM(JI48:JM48) -> 0 | JO48: =SUM(IW48,JC48,JI48) -> 0 | JP48: =SUM(IX48,JD48,JJ48) -> 0 | JQ48: =SUM(IY48,JE48,JK48) -> 0 | JR48: =SUM(IZ48,JF48,JL48) -> 0 | JS48: =SUM(JA48,JG48,JM48) -> 0 | JT48: =SUM(JO48:JS48) -> 0 | JV48: =SUM(N48,AL48,BK48,CK48,DT48,FQ48,HS48,IQ48,JO48) -> 0 | JW48: =SUM(O48,AM48,BL48,CL48,DU48,FR48,HT48,IR48,JP48) -> 168.88442 | JX48: =SUM(P48,AN48,BM48,CM48,DV48,FS48,HU48,IS48,JQ48) -> 15.310009 | JY48: =SUM(Q48,AO48,BN48,CN48,DW48,FT48,HV48,IT48,JR48) -> 0 | JZ48: =SUM(R48,AP48,BO48,CO48,DX48,FU48,HW48,IU48,JS48) -> 0 | KA48: =SUM(BP48,CP48,DY48) -> 0 | KB48: =SUM(JV48:KA48) -> 184.19443
A49: Total Defoliators= | B49: =SUM(B21:B48) -> 0 | C49: =SUM(C21:C48) -> 347.58222 | D49: =SUM(D21:D48) -> 138.28624 | E49: =SUM(E21:E48) -> 804.01123 | F49: =SUM(F21:F48) -> 0 | G49: =SUM(G21:G48) -> 1289.8797 | H49: =SUM(H21:H48) -> 169.22217 | I49: =SUM(I21:I48) -> 55.692879 | ... DS49: =SUM(DS21:DS48) -> 5993.0372 | DT49: =SUM(CR49,CY49,DF49,DM49) -> 0 | DU49: =SUM(CS49,CZ49,DG49,DN49) -> 29069.915 | DV49: =SUM(CT49,DA49,DH49,DO49) -> 14161.92 | DW49: =SUM(CU49,DB49,DI49,DP49) -> 2668.0428 | DX49: =SUM(CV49,DC49,DJ49,DQ49) -> 0 | DY49: =SUM(CW49,DD49,DK49,DR49) -> 0 | DZ49: =SUM(DZ21:DZ47) -> 45899.878 | EA49: =SUM(EA21:EA48) -> 0 | EB49: =SUM(EB21:EB48) -> 6588.8587 | EC49: =SUM(EC21:EC48) -> 6800.6079 | ED49: =SUM(ED21:ED48) -> 114.08219 | EE49: =SUM(EE21:EE48) -> 0 | EF49: =SUM(EF21:EF48) -> 13503.549 | EG49: =SUM(EG21:EG48) -> 0 | EH49: =SUM(EH21:EH48) -> 521.17585 | ... FP49: =SUM(FP21:FP48) -> 3091.8029 | FQ49: =SUM(EA49,EG49,EM49,ES49,EY49,FE49,FK49) -> 0 | FR49: =SUM(EB49,EH49,EN49,ET49,EZ49,FF49,FL49) -> 15864.331 | FS49: =SUM(EC49,EI49,EO49,EU49,FA49,FG49,FM49) -> 12633.812 | FT49: =SUM(ED49,EJ49,EP49,EV49,FB49,FH49,FN49) -> 215.48499 | FU49: =SUM(EE49,EK49,EQ49,EW49,FC49,FI49,FO49) -> 0 | FV49: =SUM(FV21:FV47) -> 28713.628 | FW49: =SUM(FW21:FW48) -> 0 | FX49: =SUM(FX21:FX48) -> 8891.9837 | FY49: =SUM(FY21:FY48) -> 22719.151 | FZ49: =SUM(FZ21:FZ48) -> 12614.957 | GA49: =SUM(GA21:GA48) -> 0 | GB49: =SUM(GB21:GB48) -> 44226.092 | GC49: =SUM(GC21:GC48) -> 0 | GD49: =SUM(GD21:GD48) -> 75.232404 | ... HR49: =SUM(HR21:HR48) -> 0 | HS49: =SUM(FW49,GC49,GI49,GO49,GU49,HA49,HG49,HM49) -> 0 | HT49: =SUM(FX49,GD49,GJ49,GP49,GV49,HB49,HH49,HN49) -> 159423.41 | HU49: =SUM(HO49,HI49,HC49,GW49,GQ49,GK49,GE49,FY49) -> 161308.64 | HV49: =SUM(HP49,HJ49,HD49,GX49,GR49,GL49,GF49,FZ49) -> 86760.92 | HW49: =SUM(HQ49,HK49,HE49,GY49,GS49,GM49,GG49,GA49) -> 0 | HX49: =SUM(HX21:HX47) -> 407492.97 | HY49: =SUM(HY21:HY48) -> 0 | HZ49: =SUM(HZ21:HZ48) -> 6436.6385 | IA49: =SUM(IA21:IA48) -> 11483.799 | IB49: =SUM(IB21:IB48) -> 10286.163 | IC49: =SUM(IC21:IC48) -> 0 | ID49: =SUM(ID21:ID48) -> 28206.601 | IE49: =SUM(IE21:IE48) -> 0 | IF49: =SUM(IF21:IF48) -> 11823.287 | ... IP49: =SUM(IP21:IP48) -> 718740.68 | IQ49: =SUM(HY49,IE49,IK49) -> 0 | IR49: =SUM(HZ49,IF49,IL49) -> 236182.56 | IS49: =SUM(IA49,IG49,IM49) -> 372456.58 | IT49: =SUM(IB49,IH49,IN49) -> 154432.71 | IU49: =SUM(IC49,II49,IO49) -> 0 | IV49: =SUM(IQ49:IU49) -> 763071.84 | IW49: =SUM(IW21:IW48) -> 0 | IX49: =SUM(IX21:IX48) -> 85.268761 | IY49: =SUM(IY21:IY48) -> 454.62196 | IZ49: =SUM(IZ21:IZ48) -> 168.40356 | JA49: =SUM(JA21:JA48) -> 0 | JB49: =SUM(JB21:JB48) -> 708.29428 | JC49: =SUM(JC21:JC48) -> 0 | JD49: =SUM(JD21:JD48) -> 31068.922 | ... JN49: =SUM(JN21:JN48) -> 5981.6316 | JO49: =SUM(IW49,JC49,JI49) -> 0 | JP49: =SUM(IX49,JD49,JJ49) -> 35612.616 | JQ49: =SUM(IY49,JE49,JK49) -> 18827.919 | JR49: =SUM(IZ49,JF49,JL49) -> 3354.8255 | JS49: =SUM(JA49,JG49,JM49) -> 0 | JT49: =SUM(JO49:JS49) -> 57795.36 | JV49: =SUM(JV21:JV48) -> 1543.3611 | JW49: =SUM(JW21:JW48) -> 585320.68 | JX49: =SUM(JX21:JX48) -> 704762.43 | JY49: =SUM(JY21:JY48) -> 300044.22 | JZ49: =SUM(JZ21:JZ48) -> 0 | KA49: =SUM(KA21:KA48) -> 0 | KB49: =SUM(KB21:KB48) -> 1591670.7
A51: Other
A52: N | G52: =SUM(B52:F52) -> 0 | M52: =SUM(H52:L52) -> 0 | N52: =SUM(B52,H52) -> 0 | O52: =SUM(C52,I52) -> 0 | P52: =SUM(D52,J52) -> 0 | Q52: =SUM(E52,K52) -> 0 | R52: =SUM(F52,L52) -> 0 | S52: =SUM(G52,M52) -> 0 | Y52: =SUM(T52:X52) -> 0 | AE52: =SUM(Z52:AD52) -> 0 | AK52: =SUM(AF52:AJ52) -> 0 | AL52: =SUM(T52,Z52,AF52) -> 0 | AM52: =SUM(U52,AA52,AG52) -> 0 | AN52: =SUM(V52,AB52,AH52) -> 0 | AO52: =SUM(W52,AC52,AI52) -> 0 | AP52: =SUM(X52,AD52,AJ52) -> 0 | AQ52: =SUM(AL52:AP52) -> 0 | AW52: =SUM(AR52:AV52) -> 0 | BA52: 1.5 | BD52: =SUM(AX52:BC52) -> 1.5 | BJ52: =SUM(BE52:BI52) -> 0 | BK52: =SUM(AR52,AX52,BE52) -> 0 | BL52: =SUM(AS52,AY52,BF52) -> 0 | BM52: =SUM(AT52,AZ52,BG52) -> 0 | BN52: =SUM(AU52,BA52,BH52) -> 1.5 | BO52: =SUM(AV52,BB52,BI52) -> 0 | BP52: =SUM(BC52) -> 0 | BQ52: =SUM(BK52:BP52) -> 1.5 | BW52: =SUM(BS52:BV52) -> 0 | CC52: =SUM(BX52:CB52) -> 0 | CJ52: =SUM(CD52:CI52) -> 0 | CK52: =SUM(BR52,BX52,CD52) -> 0 | CL52: =SUM(BS52,BY52,CE52) -> 0 | CM52: =SUM(BT52,BZ52,CF52) -> 0 | CN52: =SUM(BU52,CA52,CG52) -> 0 | CO52: =SUM(BV52,CB52,CH52) -> 0 | CP52: =SUM(CI52) -> 0 | CQ52: =SUM(CK52:CP52) -> 0 | CX52: =SUM(CR52:CW52) -> 0 | DE52: =SUM(CY52:DD52) -> 0 | DL52: =SUM(DF52:DK52) -> 0 | DS52: =SUM(DM52:DR52) -> 0 | DT52: =SUM(CR52,CY52,DF52,DM52) -> 0 | DU52: =SUM(CS52,CZ52,DG52,DN52) -> 0 | DV52: =SUM(CT52,DA52,DH52,DO52) -> 0 | DW52: =SUM(CU52,DB52,DI52,DP52) -> 0 | DX52: =SUM(CV52,DC52,DJ52,DQ52) -> 0 | DY52: =SUM(CW52,DD52,DK52,DR52) -> 0 | DZ52: =SUM(DT52:DY52) -> 0 | EF52: =SUM(EA52:EE52) -> 0 | EL52: =SUM(EG52:EK52) -> 0 | ER52: =SUM(EM52:EQ52) -> 0 | EX52: =SUM(ES52:EW52) -> 0 | FD52: =SUM(EY52:FC52) -> 0 | FJ52: =SUM(FE52:FI52) -> 0 | FP52: =SUM(FK52:FO52) -> 0 | FQ52: =SUM(EA52,EG52,EM52,ES52,EY52,FE52,FK52) -> 0 | FR52: =SUM(EB52,EH52,EN52,ET52,EZ52,FF52,FL52) -> 0 | FS52: =SUM(EC52,EI52,EO52,EU52,FA52,FG52,FM52) -> 0 | FT52: =SUM(ED52,EJ52,EP52,EV52,FB52,FH52,FN52) -> 0 | FU52: =SUM(EE52,EK52,EQ52,EW52,FC52,FI52,FO52) -> 0 | FV52: =SUM(FQ52:FU52) -> 0 | GB52: =SUM(FW52:GA52) -> 0 | GH52: =SUM(GC52:GG52) -> 0 | GN52: =SUM(GI52:GM52) -> 0 | GT52: =SUM(GO52:GS52) -> 0 | GZ52: =SUM(GU52:GY52) -> 0 | HF52: =SUM(HA52:HE52) -> 0 | HL52: =SUM(HG52:HK52) -> 0 | HR52: =SUM(HM52:HQ52) -> 0 | HS52: =SUM(FW52,GC52,GI52,GO52,GU52,HA52,HG52,HM52) -> 0 | HT52: =SUM(FX52,GD52,GJ52,GP52,GV52,HB52,HH52,HN52) -> 0 | HU52: =SUM(HO52,HI52,HC52,GW52,GQ52,GK52,GE52,FY52) -> 0 | HV52: =SUM(HP52,HJ52,HD52,GX52,GR52,GL52,GF52,FZ52) -> 0 | HW52: =SUM(HQ52,HK52,HE52,GY52,GS52,GM52,GG52,GA52) -> 0 | HX52: =SUM(HS52:HW52) -> 0 | ID52: =SUM(HY52:IC52) -> 0 | IJ52: =SUM(IE52:II52) -> 0 | IP52: =SUM(IK52:IO52) -> 0 | IQ52: =SUM(HY52,IE52,IK52) -> 0 | IR52: =SUM(HZ52,IF52,IL52) -> 0 | IS52: =SUM(IA52,IG52,IM52) -> 0 | IT52: =SUM(IB52,IH52,IN52) -> 0 | IU52: =SUM(IC52,II52,IO52) -> 0 | IV52: =SUM(IQ52:IU52) -> 0 | JB52: =SUM(IW52:JA52) -> 0 | JH52: =SUM(JC52:JG52) -> 0 | JN52: =SUM(JI52:JM52) -> 0 | JO52: =SUM(IW52,JC52,JI52) -> 0 | JP52: =SUM(IX52,JD52,JJ52) -> 0 | JQ52: =SUM(IY52,JE52,JK52) -> 0 | JR52: =SUM(IZ52,JF52,JL52) -> 0 | JS52: =SUM(JA52,JG52,JM52) -> 0 | JT52: =SUM(JO52:JS52) -> 0 | JV52: =SUM(N52,AL52,BK52,CK52,DT52,FQ52,HS52,IQ52,JO52) -> 0 | JW52: =SUM(O52,AM52,BL52,CL52,DU52,FR52,HT52,IR52,JP52) -> 0 | JX52: =SUM(P52,AN52,BM52,CM52,DV52,FS52,HU52,IS52,JQ52) -> 0 | JY52: =SUM(Q52,AO52,BN52,CN52,DW52,FT52,HV52,IT52,JR52) -> 1.5 | JZ52: =SUM(R52,AP52,BO52,CO52,DX52,FU52,HW52,IU52,JS52) -> 0 | KA52: =SUM(BP52,CP52,DY52) -> 0 | KB52: =SUM(JV52:KA52) -> 1.5
A53: NAV=Avalanche or snow slide | G53: =SUM(B53:F53) -> 0 | M53: =SUM(H53:L53) -> 0 | N53: =SUM(B53,H53) -> 0 | O53: =SUM(C53,I53) -> 0 | P53: =SUM(D53,J53) -> 0 | Q53: =SUM(E53,K53) -> 0 | R53: =SUM(F53,L53) -> 0 | S53: =SUM(G53,M53) -> 0 | Y53: =SUM(T53:X53) -> 0 | AE53: =SUM(Z53:AD53) -> 0 | AK53: =SUM(AF53:AJ53) -> 0 | AL53: =SUM(T53,Z53,AF53) -> 0 | AM53: =SUM(U53,AA53,AG53) -> 0 | AN53: =SUM(V53,AB53,AH53) -> 0 | AO53: =SUM(W53,AC53,AI53) -> 0 | AP53: =SUM(X53,AD53,AJ53) -> 0 | AQ53: =SUM(AL53:AP53) -> 0 | AW53: =SUM(AR53:AV53) -> 0 | BD53: =SUM(AX53:BC53) -> 0 | BJ53: =SUM(BE53:BI53) -> 0 | BK53: =SUM(AR53,AX53,BE53) -> 0 | BL53: =SUM(AS53,AY53,BF53) -> 0 | BM53: =SUM(AT53,AZ53,BG53) -> 0 | BN53: =SUM(AU53,BA53,BH53) -> 0 | BO53: =SUM(AV53,BB53,BI53) -> 0 | BP53: =SUM(BC53) -> 0 | BQ53: =SUM(BK53:BP53) -> 0 | BW53: =SUM(BR53:BV53) -> 0 | CC53: =SUM(BX53:CB53) -> 0 | CJ53: =SUM(CD53:CI53) -> 0 | CK53: =SUM(BR53,BX53,CD53) -> 0 | CL53: =SUM(BS53,BY53,CE53) -> 0 | CM53: =SUM(BT53,BZ53,CF53) -> 0 | CN53: =SUM(BU53,CA53,CG53) -> 0 | CO53: =SUM(BV53,CB53,CH53) -> 0 | CP53: =SUM(CI53) -> 0 | CQ53: =SUM(CK53:CP53) -> 0 | CX53: =SUM(CR53:CW53) -> 0 | DB53: 2.5464177 | DC53: 4.3647919 | DE53: =SUM(CY53:DD53) -> 6.9112096 | DL53: =SUM(DF53:DK53) -> 0 | DS53: =SUM(DM53:DR53) -> 0 | DT53: =SUM(CR53,CY53,DF53,DM53) -> 0 | DU53: =SUM(CS53,CZ53,DG53,DN53) -> 0 | DV53: =SUM(CT53,DA53,DH53,DO53) -> 0 | DW53: =SUM(CU53,DB53,DI53,DP53) -> 2.5464177 | DX53: =SUM(CV53,DC53,DJ53,DQ53) -> 4.3647919 | DY53: =SUM(CW53,DD53,DK53,DR53) -> 0 | DZ53: =SUM(DT53:DY53) -> 6.9112096 | EF53: =SUM(EA53:EE53) -> 0 | EL53: =SUM(EG53:EK53) -> 0 | ER53: =SUM(EM53:EQ53) -> 0 | EX53: =SUM(ES53:EW53) -> 0 | FD53: =SUM(EY53:FC53) -> 0 | FJ53: =SUM(FE53:FI53) -> 0 | FP53: =SUM(FK53:FO53) -> 0 | FQ53: =SUM(EA53,EG53,EM53,ES53,EY53,FE53,FK53) -> 0 | FR53: =SUM(EB53,EH53,EN53,ET53,EZ53,FF53,FL53) -> 0 | FS53: =SUM(EC53,EI53,EO53,EU53,FA53,FG53,FM53) -> 0 | FT53: =SUM(ED53,EJ53,EP53,EV53,FB53,FH53,FN53) -> 0 | FU53: =SUM(EE53,EK53,EQ53,EW53,FC53,FI53,FO53) -> 0 | FV53: =SUM(FQ53:FU53) -> 0 | GB53: =SUM(FW53:GA53) -> 0 | GH53: =SUM(GC53:GG53) -> 0 | GN53: =SUM(GI53:GM53) -> 0 | GT53: =SUM(GO53:GS53) -> 0 | GZ53: =SUM(GU53:GY53) -> 0 | HF53: =SUM(HA53:HE53) -> 0 | HL53: =SUM(HG53:HK53) -> 0 | HR53: =SUM(HM53:HQ53) -> 0 | HS53: =SUM(FW53,GC53,GI53,GO53,GU53,HA53,HG53,HM53) -> 0 | HT53: =SUM(FX53,GD53,GJ53,GP53,GV53,HB53,HH53,HN53) -> 0 | HU53: =SUM(HO53,HI53,HC53,GW53,GQ53,GK53,GE53,FY53) -> 0 | HV53: =SUM(HP53,HJ53,HD53,GX53,GR53,GL53,GF53,FZ53) -> 0 | HW53: =SUM(HQ53,HK53,HE53,GY53,GS53,GM53,GG53,GA53) -> 0 | HX53: =SUM(HS53:HW53) -> 0 | ID53: =SUM(HY53:IC53) -> 0 | IJ53: =SUM(IE53:II53) -> 0 | IP53: =SUM(IK53:IO53) -> 0 | IQ53: =SUM(HY53,IE53,IK53) -> 0 | IR53: =SUM(HZ53,IF53,IL53) -> 0 | IS53: =SUM(IA53,IG53,IM53) -> 0 | IT53: =SUM(IB53,IH53,IN53) -> 0 | IU53: =SUM(IC53,II53,IO53) -> 0 | IV53: =SUM(IQ53:IU53) -> 0 | JB53: =SUM(IW53:JA53) -> 0 | JH53: =SUM(JC53:JG53) -> 0 | JN53: =SUM(JI53:JM53) -> 0 | JO53: =SUM(IW53,JC53,JI53) -> 0 | JP53: =SUM(IX53,JD53,JJ53) -> 0 | JQ53: =SUM(IY53,JE53,JK53) -> 0 | JR53: =SUM(IZ53,JF53,JL53) -> 0 | JS53: =SUM(JA53,JG53,JM53) -> 0 | JT53: =SUM(JO53:JS53) -> 0 | JV53: =SUM(N53,AL53,BK53,CK53,DT53,FQ53,HS53,IQ53,JO53) -> 0 | JW53: =SUM(O53,AM53,BL53,CL53,DU53,FR53,HT53,IR53,JP53) -> 0 | JX53: =SUM(P53,AN53,BM53,CM53,DV53,FS53,HU53,IS53,JQ53) -> 0 | JY53: =SUM(Q53,AO53,BN53,CN53,DW53,FT53,HV53,IT53,JR53) -> 2.5464177 | JZ53: =SUM(R53,AP53,BO53,CO53,DX53,FU53,HW53,IU53,JS53) -> 4.3647919 | KA53: =SUM(BP53,CP53,DY53) -> 0 | KB53: =SUM(JV53:KA53) -> 6.9112096
A54: NB=Fire | E54: 43.975919 | G54: =SUM(B54:F54) -> 43.975919 | K54: 6.942005 | M54: =SUM(H54:L54) -> 6.942005 | N54: =SUM(B54,H54) -> 0 | O54: =SUM(C54,I54) -> 0 | P54: =SUM(D54,J54) -> 0 | Q54: =SUM(E54,K54) -> 50.917924 | R54: =SUM(F54,L54) -> 0 | S54: =SUM(G54,M54) -> 50.917924 | W54: 10.77557 | Y54: =SUM(T54:X54) -> 10.77557 | AC54: 162.43 | AE54: =SUM(Z54:AD54) -> 162.43 | AI54: 39.631858 | AK54: =SUM(AF54:AJ54) -> 39.631858 | AL54: =SUM(T54,Z54,AF54) -> 0 | AM54: =SUM(U54,AA54,AG54) -> 0 | AN54: =SUM(V54,AB54,AH54) -> 0 | AO54: =SUM(W54,AC54,AI54) -> 212.83743 | AP54: =SUM(X54,AD54,AJ54) -> 0 | AQ54: =SUM(AL54:AP54) -> 212.83743 | AU54: 25.271361 | AW54: =SUM(AR54:AV54) -> 25.271361 | BD54: =SUM(AX54:BC54) -> 0 | BH54: 44.041876 | BJ54: =SUM(BE54:BI54) -> 44.041876 | BK54: =SUM(AR54,AX54,BE54) -> 0 | BL54: =SUM(AS54,AY54,BF54) -> 0 | BM54: =SUM(AT54,AZ54,BG54) -> 0 | BN54: =SUM(AU54,BA54,BH54) -> 69.313237 | BO54: =SUM(AV54,BB54,BI54) -> 0 | BP54: =SUM(BC54) -> 0 | BQ54: =SUM(BK54:BP54) -> 69.313237 | BU54: 23.093065 | BW54: =SUM(BR54:BV54) -> 23.093065 | CA54: 177.03594 | CC54: =SUM(BX54:CB54) -> 177.03594 | CG54: 17.687662 | CJ54: =SUM(CD54:CI54) -> 17.687662 | CK54: =SUM(BR54,BX54,CD54) -> 0 | CL54: =SUM(BS54,BY54,CE54) -> 0 | CM54: =SUM(BT54,BZ54,CF54) -> 0 | CN54: =SUM(BU54,CA54,CG54) -> 217.81666 | CO54: =SUM(BV54,CB54,CH54) -> 0 | CP54: =SUM(CI54) -> 0 | CQ54: =SUM(CK54:CP54) -> 217.81666 | CU54: 352.83062 | CX54: =SUM(CR54:CW54) -> 352.83062 | DB54: 13.318794 | DE54: =SUM(CY54:DD54) -> 13.318794 | DI54: 200.39418 | DL54: =SUM(DF54:DK54) -> 200.39418 | DO54: 4.419391 | DP54: 3559.6043 | DS54: =SUM(DM54:DR54) -> 3564.0237 | DT54: =SUM(CR54,CY54,DF54,DM54) -> 0 | DU54: =SUM(CS54,CZ54,DG54,DN54) -> 0 | DV54: =SUM(CT54,DA54,DH54,DO54) -> 4.419391 | DW54: =SUM(CU54,DB54,DI54,DP54) -> 4126.1479 | DX54: =SUM(CV54,DC54,DJ54,DQ54) -> 0 | DY54: =SUM(CW54,DD54,DK54,DR54) -> 0 | DZ54: =SUM(DT54:DY54) -> 4130.5673 | EF54: =SUM(EA54:EE54) -> 0 | EJ54: 12.255285 | EL54: =SUM(EG54:EK54) -> 12.255285 | EP54: 91.648136 | ER54: =SUM(EM54:EQ54) -> 91.648136 | EX54: =SUM(ES54:EW54) -> 0 | FB54: 5.9307312 | FD54: =SUM(EY54:FC54) -> 5.9307312 | FH54: 25.116049 | FJ54: =SUM(FE54:FI54) -> 25.116049 | FN54: 27.717269 | FP54: =SUM(FK54:FO54) -> 27.717269 | FQ54: =SUM(EA54,EG54,EM54,ES54,EY54,FE54,FK54) -> 0 | FR54: =SUM(EB54,EH54,EN54,ET54,EZ54,FF54,FL54) -> 0 | FS54: =SUM(EC54,EI54,EO54,EU54,FA54,FG54,FM54) -> 0 | FT54: =SUM(ED54,EJ54,EP54,EV54,FB54,FH54,FN54) -> 162.66747 | FU54: =SUM(EE54,EK54,EQ54,EW54,FC54,FI54,FO54) -> 0 | FV54: =SUM(FQ54:FU54) -> 162.66747 | GB54: =SUM(FW54:GA54) -> 0 | GF54: 9361.3329 | GH54: =SUM(GC54:GG54) -> 9361.3329 | GL54: 3.03987 | GN54: =SUM(GI54:GM54) -> 3.03987 | GR54: 26.170377 | GT54: =SUM(GO54:GS54) -> 26.170377 | GX54: 5.6577349 | GZ54: =SUM(GU54:GY54) -> 5.6577349 | HF54: =SUM(HA54:HE54) -> 0 | HJ54: 44.397565 | HL54: =SUM(HG54:HK54) -> 44.397565 | HR54: =SUM(HM54:HQ54) -> 0 | HS54: =SUM(FW54,GC54,GI54,GO54,GU54,HA54,HG54,HM54) -> 0 | HT54: =SUM(FX54,GD54,GJ54,GP54,GV54,HB54,HH54,HN54) -> 0 | HU54: =SUM(HO54,HI54,HC54,GW54,GQ54,GK54,GE54,FY54) -> 0 | HV54: =SUM(HP54,HJ54,HD54,GX54,GR54,GL54,GF54,FZ54) -> 9440.5985 | HW54: =SUM(HQ54,HK54,HE54,GY54,GS54,GM54,GG54,GA54) -> 0 | HX54: =SUM(HS54:HW54) -> 9440.5985 | IB54: 73.13554 | ID54: =SUM(HY54:IC54) -> 73.13554 | IJ54: =SUM(IE54:II54) -> 0 | IN54: 399.78246 | IP54: =SUM(IK54:IO54) -> 399.78246 | IQ54: =SUM(HY54,IE54,IK54) -> 0 | IR54: =SUM(HZ54,IF54,IL54) -> 0 | IS54: =SUM(IA54,IG54,IM54) -> 0 | IT54: =SUM(IB54,IH54,IN54) -> 472.91801 | IU54: =SUM(IC54,II54,IO54) -> 0 | IV54: =SUM(IQ54:IU54) -> 472.91801 | IZ54: 9.9486335 | JB54: =SUM(IW54:JA54) -> 9.9486335 | JF54: 6261.9593 | JH54: =SUM(JC54:JG54) -> 6261.9593 | JK54: 33.130937 | JL54: 989.82603 | JN54: =SUM(JI54:JM54) -> 1022.957 | JO54: =SUM(IW54,JC54,JI54) -> 0 | JP54: =SUM(IX54,JD54,JJ54) -> 0 | JQ54: =SUM(IY54,JE54,JK54) -> 33.130937 | JR54: =SUM(IZ54,JF54,JL54) -> 7261.734 | JS54: =SUM(JA54,JG54,JM54) -> 0 | JT54: =SUM(JO54:JS54) -> 7294.8649 | JV54: =SUM(N54,AL54,BK54,CK54,DT54,FQ54,HS54,IQ54,JO54) -> 0 | JW54: =SUM(O54,AM54,BL54,CL54,DU54,FR54,HT54,IR54,JP54) -> 0 | JX54: =SUM(P54,AN54,BM54,CM54,DV54,FS54,HU54,IS54,JQ54) -> 37.550328 | JY54: =SUM(Q54,AO54,BN54,CN54,DW54,FT54,HV54,IT54,JR54) -> 22014.951 | JZ54: =SUM(R54,AP54,BO54,CO54,DX54,FU54,HW54,IU54,JS54) -> 0 | KA54: =SUM(BP54,CP54,DY54) -> 0 | KB54: =SUM(JV54:KA54) -> 22052.501
A55: NBP=Post Fire | C55: 1164.9684 | D55: 2994.3131 | E55: 997.6126 | F55: 166.15292 | G55: =SUM(B55:F55) -> 5323.047 | M55: =SUM(H55:L55) -> 0 | N55: =SUM(B55,H55) -> 0 | O55: =SUM(C55,I55) -> 1164.9684 | P55: =SUM(D55,J55) -> 2994.3131 | Q55: =SUM(E55,K55) -> 997.6126 | R55: =SUM(F55,L55) -> 166.15292 | S55: =SUM(G55,M55) -> 5323.047 | U55: 50.500491 | V55: 286.2027 | W55: 19.269468 | Y55: =SUM(T55:X55) -> 355.97266 | AE55: =SUM(Z55:AD55) -> 0 | AK55: =SUM(AF55:AJ55) -> 0 | AL55: =SUM(T55,Z55,AF55) -> 0 | AM55: =SUM(U55,AA55,AG55) -> 50.500491 | AN55: =SUM(V55,AB55,AH55) -> 286.2027 | AO55: =SUM(W55,AC55,AI55) -> 19.269468 | AP55: =SUM(X55,AD55,AJ55) -> 0 | AQ55: =SUM(AL55:AP55) -> 355.97266 | AW55: =SUM(AR55:AV55) -> 0 | BD55: =SUM(AX55:BC55) -> 0 | BJ55: =SUM(BE55:BI55) -> 0 | BK55: =SUM(AR55,AX55,BE55) -> 0 | BL55: =SUM(AS55,AY55,BF55) -> 0 | BM55: =SUM(AT55,AZ55,BG55) -> 0 | BN55: =SUM(AU55,BA55,BH55) -> 0 | BO55: =SUM(AV55,BB55,BI55) -> 0 | BP55: =SUM(BC55) -> 0 | BQ55: =SUM(BK55:BP55) -> 0 | BR55: 16.67342 | BS55: 5554.3105 | BT55: 3137.36 | BU55: 4491.8829 | BW55: =SUM(BR55:BV55) -> 13200.227 | BY55: 7798.0776 | BZ55: 5436.2381 | CA55: 2946.5745 | CB55: 46.6043 | CC55: =SUM(BX55:CB55) -> 16227.494 | CD55: 21.15571 | CE55: 5276.2497 | CF55: 5004.7936 | CG55: 17385.287 | CH55: 9545.8399 | CJ55: =SUM(CD55:CI55) -> 37233.325 | CK55: =SUM(BR55,BX55,CD55) -> 37.82913 | CL55: =SUM(BS55,BY55,CE55) -> 18628.638 | CM55: =SUM(BT55,BZ55,CF55) -> 13578.392 | CN55: =SUM(BU55,CA55,CG55) -> 24823.744 | CO55: =SUM(BV55,CB55,CH55) -> 9592.4442 | CP55: =SUM(CI55) -> 0 | CQ55: =SUM(CK55:CP55) -> 66661.047 | CS55: 706.91336 | CT55: 276.57931 | CU55: 49.955694 | CV55: 14.808823 | CX55: =SUM(CR55:CW55) -> 1048.2572 | DE55: =SUM(CY55:DD55) -> 0 | DH55: 107.00105 | DL55: =SUM(DF55:DK55) -> 107.00105 | DN55: 35.811675 | DO55: 186.6234 | DP55: 89.872768 | DS55: =SUM(DM55:DR55) -> 312.30785 | DT55: =SUM(CR55,CY55,DF55,DM55) -> 0 | DU55: =SUM(CS55,CZ55,DG55,DN55) -> 742.72504 | DV55: =SUM(CT55,DA55,DH55,DO55) -> 570.20376 | DW55: =SUM(CU55,DB55,DI55,DP55) -> 139.82846 | DX55: =SUM(CV55,DC55,DJ55,DQ55) -> 14.808823 | DY55: =SUM(CW55,DD55,DK55,DR55) -> 0 | DZ55: =SUM(DT55:DY55) -> 1467.5661 | EC55: 130.75804 | EF55: =SUM(EA55:EE55) -> 130.75804 | EH55: 110.17015 | EI55: 184.71444 | EL55: =SUM(EG55:EK55) -> 294.88459 | EN55: 107.36291 | EO55: 1099.5471 | EP55: 487.33868 | ER55: =SUM(EM55:EQ55) -> 1694.2487 | ET55: 54.08885 | EU55: 561.73725 | EV55: 150.53917 | EX55: =SUM(ES55:EW55) -> 766.36528 | EZ55: 197.95467 | FA55: 1156.948 | FB55: 1063.3269 | FD55: =SUM(EY55:FC55) -> 2418.2296 | FF55: 24.860216 | FG55: 303.80948 | FH55: 15.722098 | FJ55: =SUM(FE55:FI55) -> 344.39179 | FL55: 12.19165 | FP55: =SUM(FK55:FO55) -> 12.19165 | FQ55: =SUM(EA55,EG55,EM55,ES55,EY55,FE55,FK55) -> 0 | FR55: =SUM(EB55,EH55,EN55,ET55,EZ55,FF55,FL55) -> 506.62845 | FS55: =SUM(EC55,EI55,EO55,EU55,FA55,FG55,FM55) -> 3437.5143 | FT55: =SUM(ED55,EJ55,EP55,EV55,FB55,FH55,FN55) -> 1716.9269 | FU55: =SUM(EE55,EK55,EQ55,EW55,FC55,FI55,FO55) -> 0 | FV55: =SUM(FQ55:FU55) -> 5661.0696 | FY55: 157.6252 | GB55: =SUM(FW55:GA55) -> 157.6252 | GE55: 7.9973292 | GF55: 39.016642 | GH55: =SUM(GC55:GG55) -> 47.013971 | GN55: =SUM(GI55:GM55) -> 0 | GR55: 233.99503 | GT55: =SUM(GO55:GS55) -> 233.99503 | GV55: 2438.7696 | GW55: 2058.432 | GX55: 6948.0821 | GY55: 1140.6292 | GZ55: =SUM(GU55:GY55) -> 12585.913 | HB55: 280.76574 | HC55: 745.45126 | HD55: 1155.6254 | HE55: 39.5552 | HF55: =SUM(HA55:HE55) -> 2221.3976 | HL55: =SUM(HG55:HK55) -> 0 | HR55: =SUM(HM55:HQ55) -> 0 | HS55: =SUM(FW55,GC55,GI55,GO55,GU55,HA55,HG55,HM55) -> 0 | HT55: =SUM(FX55,GD55,GJ55,GP55,GV55,HB55,HH55,HN55) -> 2719.5354 | HU55: =SUM(HO55,HI55,HC55,GW55,GQ55,GK55,GE55,FY55) -> 2969.5058 | HV55: =SUM(HP55,HJ55,HD55,GX55,GR55,GL55,GF55,FZ55) -> 8376.7192 | HW55: =SUM(HQ55,HK55,HE55,GY55,GS55,GM55,GG55,GA55) -> 1180.1844 | HX55: =SUM(HS55:HW55) -> 15245.945 | HY55: 40.51246 | HZ55: 18.54439 | IA55: 8.1873895 | IB55: 127.5021 | ID55: =SUM(HY55:IC55) -> 194.74634 | IG55: 212.64111 | IH55: 0.25 | IJ55: =SUM(IE55:II55) -> 212.89111 | IL55: 2174.8028 | IM55: 1195.741 | IN55: 5326.9371 | IO55: 1127.3075 | IP55: =SUM(IK55:IO55) -> 9824.7884 | IQ55: =SUM(HY55,IE55,IK55) -> 40.51246 | IR55: =SUM(HZ55,IF55,IL55) -> 2193.3471 | IS55: =SUM(IA55,IG55,IM55) -> 1416.5695 | IT55: =SUM(IB55,IH55,IN55) -> 5454.6892 | IU55: =SUM(IC55,II55,IO55) -> 1127.3075 | IV55: =SUM(IQ55:IU55) -> 10232.426 | IZ55: 11.365259 | JB55: =SUM(IW55:JA55) -> 11.365259 | JD55: 343.82487 | JE55: 1315.2851 | JF55: 25.380592 | JH55: =SUM(JC55:JG55) -> 1684.4905 | JK55: 44.38247 | JL55: 185.58521 | JN55: =SUM(JI55:JM55) -> 229.96768 | JO55: =SUM(IW55,JC55,JI55) -> 0 | JP55: =SUM(IX55,JD55,JJ55) -> 343.82487 | JQ55: =SUM(IY55,JE55,JK55) -> 1359.6675 | JR55: =SUM(IZ55,JF55,JL55) -> 222.33106 | JS55: =SUM(JA55,JG55,JM55) -> 0 | JT55: =SUM(JO55:JS55) -> 1925.8235 | JV55: =SUM(N55,AL55,BK55,CK55,DT55,FQ55,HS55,IQ55,JO55) -> 78.34159 | JW55: =SUM(O55,AM55,BL55,CL55,DU55,FR55,HT55,IR55,JP55) -> 26350.168 | JX55: =SUM(P55,AN55,BM55,CM55,DV55,FS55,HU55,IS55,JQ55) -> 26612.368 | JY55: =SUM(Q55,AO55,BN55,CN55,DW55,FT55,HV55,IT55,JR55) -> 41751.121 | JZ55: =SUM(R55,AP55,BO55,CO55,DX55,FU55,HW55,IU55,JS55) -> 12080.898 | KA55: =SUM(BP55,CP55,DY55) -> 0 | KB55: =SUM(JV55:KA55) -> 106872.9
